BEGIN:VCALENDAR
VERSION:2.0
PRODID:-//Гештальт-Пермь - ECPv6.15.20//NONSGML v1.0//EN
CALSCALE:GREGORIAN
METHOD:PUBLISH
X-ORIGINAL-URL:https://gestalt.siteholder.ru
X-WR-CALDESC:Мероприятия для Гештальт-Пермь
REFRESH-INTERVAL;VALUE=DURATION:PT1H
X-Robots-Tag:noindex
X-PUBLISHED-TTL:PT1H
BEGIN:VTIMEZONE
TZID:Asia/Karachi
BEGIN:STANDARD
TZOFFSETFROM:+0500
TZOFFSETTO:+0500
TZNAME:PKT
DTSTART:20180101T000000
END:STANDARD
END:VTIMEZONE
BEGIN:VEVENT
DTSTART;TZID=Asia/Karachi:20210625T080000
DTEND;TZID=Asia/Karachi:20210627T170000
DTSTAMP:20260422T001740
CREATED:20210524T175242Z
LAST-MODIFIED:20210524T175243Z
UID:3161-1624608000-1624813200@gestalt.siteholder.ru
SUMMARY:Терапевтическая группа "Море внутри"
DESCRIPTION:Набираем нашу традиционную\, летнюю\, терапевтическую\, женскую группу “Море внутри”. В этот раз группа будет посвящена внутренним феноменам сексуальности и женственности\, и отношениям в паре и не только. \nРешили сделать формат трехдневок. Две трехдневки в последние выходные июня и июля\, пятница с 17.00-21.00\, суббота и воскресенье с 11.00 до 19.00. \nВедушие:  \nЕкатерина Шарова – психолог\, гештальт-терапевт. https://vk.com/esharova2013 \n Наталья Денисова – психолог\, гештальт-терапевт. https://vk.com/tuch_ka \nМесто проведения: ул. Максима Горького\, 60\, “Выручай комната”(https://vk.com/gestalto_patronus). \nДаты: 25-27 июня и 30-01 июля\, августа. \nСтоимость: 6000 за трехдневку\, запись по предоплате 3000р. (при оплате сразу за две трехдневки скидка 10%) \n\nСтудентам засчитываются часы терапевтической группы.
URL:https://gestalt.siteholder.ru/event/terapevticheskaya-gruppa-more-vnutri/
LOCATION:“Выручай комната”\, Максима Горького\, 60\, Пермь\, Пермский край\, 614000\, Российская Федерация
CATEGORIES:Терапевтические группы
ATTACH;FMTTYPE=image/jpeg:https://gestalt.siteholder.ru/wp-content/uploads/2021/05/3086-preobrazovannyj.jpg
ORGANIZER;CN="%D0%94%D0%B5%D0%BD%D0%B8%D1%81%D0%BE%D0%B2%D0%B0 %D0%9D%D0%B0%D1%82%D0%B0%D0%BB%D1%8C%D1%8F":MAILTO:geshtaltperm@gmail.com
END:VEVENT
BEGIN:VEVENT
DTSTART;TZID=Asia/Karachi:20191026T110000
DTEND;TZID=Asia/Karachi:20191026T170000
DTSTAMP:20260422T001740
CREATED:20190712T204701Z
LAST-MODIFIED:20190927T105410Z
UID:2519-1572087600-1572109200@gestalt.siteholder.ru
SUMMARY:Женская терапевтическая группа
DESCRIPTION:Женская терапевтическая группа\nУже много лет\, мы ведем эту группу и начинаем в этом году новый сезон\, на который приглашаем участниц. \nКаждая из нас рано или поздно сталкивается со своими ограничениями или проживает тяжелые времена\, а возможно\, просто перестает чувствовать свою жизнь наполненной и цельной. \nКто-то бежит к подругам\, кто-то уходит в работу\, кто-то пытается игнорировать новое сколько хватит сил и все это на какое-то время может вполне успокоить. \nНо внутренняя неудовлетворенность все равно не оставляет надолго и не позволяет просто быть в гармонии с собой и окружающим миром. и тогда мы возвращаемся к себе\, пробуем найти опору и новые смыслы. в этом непростом процессе каждой важны не только утешители\, но и свидетели нашей жизни\, которым знакомо то\, что проживаем мы не понаслышке.время от времени мы все хотим разделить свой жизненный опыт и по-новому предъявить себя в окружении таких же.\nнаша группа как раз и позволит оказаться в такой обстановке\, обнаружить себя и услышать другого. \nТемы на встречах будут подниматься разные\, но не только тяжелые или грустные. \nПриглашаем вас в женский круг. Это уже не первый сезон подобной группы\, есть участницы – старожилы\, есть те\, кто приходит на сезон-другой. \nМы используем разные методы и формы работы\, но на каждой встрече много времени уделяем именно закреплению женской идентификации и поддержанию внутренней самости каждой участницы. \nВедущие:\nГалина Новикова (гештальт-терапевт\, супервизор) \nДенисова Наталья (гештальт-терапевт) \nВстречи раз в три недели по субботам с 11.00 – 17.00 по адресу: ул. Чкалова 9е офис 401. \nПервая встреча – 21.09.19\nСтоимость 2000р. за встречу.\nПо вопросам участия пишите в ЛС или звоните:\n8982 478 72 70 Галина\n8982 498 20 22 Наталья
URL:https://gestalt.siteholder.ru/event/zhenskaya-terapevticheskaya-gruppa/
LOCATION:Чкалова 9Е\, ул. Чкалова 9Е\, Пермь\, Пермский край\, 614000\, Российская Федерация
CATEGORIES:Терапевтические группы
ATTACH;FMTTYPE=image/jpeg:https://gestalt.siteholder.ru/wp-content/uploads/2019/07/IMG_2354-156e.jpg
ORGANIZER;CN="%D0%94%D0%B5%D0%BD%D0%B8%D1%81%D0%BE%D0%B2%D0%B0 %D0%9D%D0%B0%D1%82%D0%B0%D0%BB%D1%8C%D1%8F":MAILTO:geshtaltperm@gmail.com
END:VEVENT
END:VCALENDAR