BEGIN:VCALENDAR
VERSION:2.0
PRODID:-//Гештальт-Пермь - ECPv6.15.20//NONSGML v1.0//EN
CALSCALE:GREGORIAN
METHOD:PUBLISH
X-WR-CALNAME:Гештальт-Пермь
X-ORIGINAL-URL:https://gestalt.siteholder.ru
X-WR-CALDESC:Мероприятия для Гештальт-Пермь
REFRESH-INTERVAL;VALUE=DURATION:PT1H
X-Robots-Tag:noindex
X-PUBLISHED-TTL:PT1H
BEGIN:VTIMEZONE
TZID:Asia/Karachi
BEGIN:STANDARD
TZOFFSETFROM:+0500
TZOFFSETTO:+0500
TZNAME:PKT
DTSTART:20200101T000000
END:STANDARD
END:VTIMEZONE
BEGIN:VEVENT
DTSTART;TZID=Asia/Karachi:20210403T110000
DTEND;TZID=Asia/Karachi:20210404T190000
DTSTAMP:20260422T001338
CREATED:20210123T084359Z
LAST-MODIFIED:20210712T085752Z
UID:3055-1617447600-1617562800@gestalt.siteholder.ru
SUMMARY:«Основы гештальт-терапии: Первая ступень»
DESCRIPTION:Если вы психолог или студент\, психиатр\, социальный педагог\, руководитель с гуманистическими ценностями\, HR-специалист либо – просто глубоко интересуетесь самопознанием и саморазвитием \n– приглашаем в обучающую программу Московского гештальт-института (МГИ): \n«Основы гештальт-терапии: Первая ступень» – 180 ч \nПрограмма является Первой ступенью профессиональной подготовки гештальт-терапевтов в МГИ и может быть полезной для всех людей\, искренне стремящихся к самопознанию\, гармонизации своих отношений и повышению качества жизненного процесса. \nВы знакомитесь с базовыми понятиями гештальт-терапии и получаете глубокий клиентский опыт в группе. \nПо окончании участникам вручаются сертификаты МГИ по стандартам Европейской Ассоциации гештальт-терапии. \nПрограмма стартует 20-21 февраля 2021. Продолжительность 1\,4 года. \nДвухдневные модули проводятся раз в два месяца по выходным. \nОбучение проходит в группе постоянного состава. \nВедущие: \nАндрей Савчук – к.пс.н.\, психолог\, гештальт-терапевт\, супервизор\, ассоциированный тренер МГИ. Практика с 1998г. \nЕкатерина Шарова – психолог\, гештальт-терапевт МГИ. Практика с 2007г. \n  \nПеред началом мы проводим собеседование\, где ответим на ваши вопросы. \nЕсли вам интересна эта программа\, – дайте о себе знать. \nЕсли ваши друзья или знакомые хотят развиваться лично и профессионально\, – будем благодарны\, если сообщите им об этой возможности. \nКонтакты:          https://vk.com/esharova2013  https://vk.com/id234738019 \nПодробнее об МГИ и пермском гештальте\, в том числе – о ведущих программы: \nwww.gestalt.ru;  www.gestalt-perm.ru \n 
URL:https://gestalt.siteholder.ru/event/geshtalt-podhod-v-povsednevnoj-zhizni-osnovy-geshtalt-terapii/
LOCATION:“Выручай комната”\, Максима Горького\, 60\, Пермь\, Пермский край\, 614000\, Российская Федерация
CATEGORIES:Обучающие программы
ATTACH;FMTTYPE=image/jpeg:https://gestalt.siteholder.ru/wp-content/uploads/2021/01/Bezymya56nn4yj-4.jpg
ORGANIZER;CN="%D0%90%D0%BD%D0%B4%D1%80%D0%B5%D0%B9 %D0%A1%D0%B0%D0%B2%D1%87%D1%83%D0%BA":MAILTO:asavchuk57@gmail.com
END:VEVENT
END:VCALENDAR