BEGIN:VCALENDAR
VERSION:2.0
PRODID:-//Гештальт-Пермь - ECPv6.15.20//NONSGML v1.0//EN
CALSCALE:GREGORIAN
METHOD:PUBLISH
X-ORIGINAL-URL:https://gestalt.siteholder.ru
X-WR-CALDESC:Мероприятия для Гештальт-Пермь
REFRESH-INTERVAL;VALUE=DURATION:PT1H
X-Robots-Tag:noindex
X-PUBLISHED-TTL:PT1H
BEGIN:VTIMEZONE
TZID:Asia/Karachi
BEGIN:STANDARD
TZOFFSETFROM:+0500
TZOFFSETTO:+0500
TZNAME:PKT
DTSTART:20180101T000000
END:STANDARD
END:VTIMEZONE
BEGIN:VEVENT
DTSTART;TZID=Asia/Karachi:20231222T110000
DTEND;TZID=Asia/Karachi:20231224T190000
DTSTAMP:20260421T224806
CREATED:20231212T034234Z
LAST-MODIFIED:20231212T034322Z
UID:3700-1703242800-1703444400@gestalt.siteholder.ru
SUMMARY:«Вторая ступень «МГИ» г. Пермь
DESCRIPTION:Программа профессиональной подготовки гештальт-терапевтов «Вторая ступень «МГИ» г. Пермь \nРуководитель программы: Моисеева Е.В. \nВедущие программы: \nЕлена Моисеева – практический психолог\, гештальт-терапевт\, супервизор\, ведущий тренер МГИ. Психотерапевтическая практика 27 лет. \nАндрей Савчук – к.пс.н.\, психолог\, гештальт-терапевт\, супервизор\, ассоциированный тренер МГИ. \nПсихотерапевтическая практика 24 года. \nОрганизатор программы:  \nЕкатерина Шарова — психолог\, гештальт-терапевт МГИ. \nГештальт-практика 16 лет. \nПодробнее об МГИ и пермском гештальте\, в том числе — о ведущих программы: www.gestalt.ru и www.gestalt-perm.ru \nСтарт: 22 декабря 2023 года. \nОбучение проходит в группе постоянного состава. \nОбучение длится 3 года или 14 трехдневных модулей с интервалом 2 – 2\,5 месяца. \nПеред началом мы проводим бесплатное собеседование\, где ответим на ваши вопросы. \nЕкатерина Шарова: @esharova2013 \nАндрей Савчук: @asavchuk_gestalt
URL:https://gestalt.siteholder.ru/event/vtoraya-stupen-mgi-g-perm/
CATEGORIES:Обучающие программы
ATTACH;FMTTYPE=image/jpeg:https://gestalt.siteholder.ru/wp-content/uploads/2023/12/vtoraya-stupen.jpg
ORGANIZER;CN="%D0%A8%D0%B0%D1%80%D0%BE%D0%B2%D0%B0 %D0%95%D0%BA%D0%B0%D1%82%D0%B5%D1%80%D0%B8%D0%BD%D0%B0":MAILTO:borovkova_katy@mail.ru
END:VEVENT
BEGIN:VEVENT
DTSTART;TZID=Asia/Karachi:20231201T160000
DTEND;TZID=Asia/Karachi:20231203T170000
DTSTAMP:20260421T224806
CREATED:20231117T140651Z
LAST-MODIFIED:20231212T034349Z
UID:3694-1701446400-1701622800@gestalt.siteholder.ru
SUMMARY:Вторая ступень Московского гештальт-института. Пермь.
DESCRIPTION:Программа «Вторая ступень Московского гештальт-института».  Пермь. \nВедущие: \nЯна Гравшина – психолог\, гештальт-терапевт\, супервизор\, ведущий тренер Московского гештальт-института. Практика с 2004 г. \nАндрей Савчук – к.пс.н.\, психолог\, гештальт-терапевт\, супервизор\, ассоциированный тренер Московского гештальт-института. Практика с 1999 г. \nПодробнее о МГИ и пермском гештальте\, в том числе\, – о ведущих программы:\nwww.gestalt.ru\nwww.gestalt-perm \nНачинаем 01 декабря 2023\nГруппа постоянного состава.\nПрограмма длится три года.\nТрёхдневные сессии с интервалами 2-2\,5 месяца. \nКонтакты:\nvk.com/asavchuk_gestalt\n+79124846519 (любой мессенджер)
URL:https://gestalt.siteholder.ru/event/vtoraya-stupen-moskovskogo-geshtalt-instituta-perm/
CATEGORIES:Обучающие программы
ATTACH;FMTTYPE=image/gif:https://gestalt.siteholder.ru/wp-content/uploads/2023/11/savchukgravshina.gif
ORGANIZER;CN="%D0%90%D0%BD%D0%B4%D1%80%D0%B5%D0%B9 %D0%A1%D0%B0%D0%B2%D1%87%D1%83%D0%BA":MAILTO:asavchuk57@gmail.com
END:VEVENT
BEGIN:VEVENT
DTSTART;TZID=Asia/Karachi:20230120T110000
DTEND;TZID=Asia/Karachi:20230122T190000
DTSTAMP:20260421T224806
CREATED:20221219T145401Z
LAST-MODIFIED:20221220T164818Z
UID:3289-1674212400-1674414000@gestalt.siteholder.ru
SUMMARY:«ТЕОРИЯ И ПРАКТИКА ГЕШТАЛЬТ-ТЕРАПИИ. ВТОРАЯ СТУПЕНЬ»
DESCRIPTION:ПРОФЕССИОНАЛЬНАЯ ПРОГРАММА ПОДГОТОВКИ В МОСКОВСКОМ ГЕШТАЛЬТ-ИНСТИТУТЕ \n«ТЕОРИЯ И ПРАКТИКА ГЕШТАЛЬТ-ТЕРАПИИ. ВТОРАЯ СТУПЕНЬ» \nПрограмма московского гештальт-института по стандартам EAGT (европейской ассоциации гештальт-терапии) для практикующих психологов\, психотерапевтов\, психиатров\, социальных работников\, студентов и выпускников психологических и медицинских специальностей. \nПрограмма развивает психотерапевтическое мышление и мировоззрение. В рамках гештальт-терапии применима почти любая техническая методика\, исследующая опыт\, если она экзистенциальная и экспериментальная. \nПриобретённые знания и навыки позволят эффективно работать в различных областях психотерапии и консультирования\, начать частную практику или вывести её на новый уровень. \nВторая ступень включает в себя: \n– теоретическую подготовку; \n– личную терапию; \n– групповую и индивидуальную супервизию; \n– практическую работу в малых группах; \n– участие в интенсивах – в клиентской и в терапевтической ролях; \n– участие в конференции; \n– начало собственной практики под супервизией; \n– выбор и прохождение специализации/спецкурса – параллельно базовой программе\, либо по её завершению. \nВ ходе программы глубоко рассматриваются следующие темы: \n1. Стратегия и тактика терапевтической работы. \n2. Динамическая концепция личности. \n3. Функции self. Процесс-анализ терапевтической сессии. \n4. Работа с кризисами\, травмой\, горем\, утратой. \n5. Терапевтические отношения: этика\, безопасность\, права и обязанности. \n6. Гештальт-терапия в клинической практике. Стратегии гештальт-терапевта в работе с клиентами с эндогенными расстройствами\, пограничными нарушениями\, депрессиями. \n7. Гештальт-терапия с детьми и родителями. Семейная гештальт-терапия. \n8. Гештальт и телесно-ориентированный подход. Психосоматика. \n9. Творческие методы в гештальт-терапии — работа со снами\, метафорами\, рисунком. \n10. Работа с зависимыми клиентами. \nДлительность обучения – 3 года или 14 сессий \nФормат: трёхдневные сессии с интервалом 2-2\,5 месяца; летом – перерыв. \nВедущие программы: \n— Гравшина Яна (Екатеринбург) – гештальт-терапевт\, супервизор\, ведущий тренер МГИ\, руководитель программы \n— Савчук Андрей (Пермь) – к.пс.н.\, гештальт-терапевт\, супервизор\, ассоциированный тренер МГИ \n— Емшанова Наталья (Пермь) – гештальт-терапевт\, супервизор\, ассоциированный тренер МГИ \nЧетыре сессии проводят специально приглашённые тренеры МГИ. \nУсловия участия: оконченная Первая ступень базового курса подготовки гештальт-терапевтов. \nНачало работы группы: 20 января 2023 \nЗаписываться: \n– через мессенджеры: +7 (922) 336 1320 (Наталья) – ВК: https://vk.com/emshanova_natalya https://vk.com/asavchuk_gestalt \nПодробнее: \n– Сайт МГИ: gestalt.ru
URL:https://gestalt.siteholder.ru/event/teoriya-i-praktika-geshtalt-terapii-vtoraya-stupen-2/
CATEGORIES:Обучающие программы
ATTACH;FMTTYPE=image/jpeg:https://gestalt.siteholder.ru/wp-content/uploads/2022/12/Xe9wh8JGPkM3x9QKaE1TuD58Nf-xqQs0mBNqbE-CbZoH_YoaT-nyxJ9G4JVIYcfVUn2stgI1xQWi8wKmiu7H7bfO.jpg
ORGANIZER;CN="%D0%90%D0%BD%D0%B4%D1%80%D0%B5%D0%B9 %D0%A1%D0%B0%D0%B2%D1%87%D1%83%D0%BA":MAILTO:asavchuk57@gmail.com
END:VEVENT
BEGIN:VEVENT
DTSTART;TZID=Asia/Karachi:20191129T160000
DTEND;TZID=Asia/Karachi:20191201T183000
DTSTAMP:20260421T224806
CREATED:20191008T064856Z
LAST-MODIFIED:20191009T155526Z
UID:2646-1575043200-1575225000@gestalt.siteholder.ru
SUMMARY:ТЕОРИЯ И ПРАКТИКА ГЕШТАЛЬТ-ТЕРАПИИ. ВТОРАЯ СТУПЕНЬ
DESCRIPTION:ПРОФЕССИОНАЛЬНАЯ ПРОГРАММА ПОДГОТОВКИ\n«ТЕОРИЯ И ПРАКТИКА ГЕШТАЛЬТ-ТЕРАПИИ. ВТОРАЯ СТУПЕНЬ»\nЭта программа будет полезна практикующим психологам\, врачам\, социальным работникам\, а также – студентам и выпускникам психологических и медицинских специальностей. \nНавыки\, приобретённые в ходе обучения\, позволят эффективно работать в различных областях психотерапии и консультирования\,выработать уникальный стиль работы\, начать частную практику или вывести на новый уровень уже имеющуюся.Участие в программе позволяет развить психотерапевтическое мировоззрение и психотерапевтическое мышление. \nВторая ступень включает в себя:\n— теоретическую подготовку; \n— личную терапию; \n— групповую и индивидуальную супервизию; \n— практическую работу в малых группах; \n— участие в интенсивах – в клиентской и в терапевтической ролях; \n-участие в конференции; \n— начало собственной практики под супервизией; \n— выбор и прохождение специализации/спецкурса – параллельно базовой программе\, либо – после её завершения. \nВ ходе программы глубоко рассматриваются следующие темы: \n1. Динамическая концепция личности. \n2. Стратегия и тактика терапевтической работы. \n3. Функции self. Процесс-анализ терапевтической сессии. \n4. Работа с кризисами\,травмой\, горем\, утратой. \n5. Терапевтические отношения: этика\, безопасность\, права и обязанности. \n6. Гештальт-терапия в клинической практике. Стратегии гештальт-терапевта в работе с клиентами с эндогенными расстройствами\, пограничными нарушениями\, депрессиями. \n7. Гештальт-терапия с детьми и родителями. Семейная гештальт-терапия. \n8. Гештальт и телесно-ориентированный подход. Психосоматика. \n9. Творческие методы в гештальт-терапии — работа со снами\, метафорами\, рисунком. \n10. Работа с группами в гештальт-подходе. \n11. Работа с зависимыми клиентами. \nДлительность обучения — 2\,5 года (14 семинаров) \nФормат: 2\,5-дневные сессии (вечер пятницы +выходные) с интервалом 2-2\,5 месяца. \nВедущие программы:\n— Максим Бондаренко – практикующий психолог\, ведущий тренер МГИ\, супервизор (Краснодар) \n— Андрей Савчук – к.пс.н.\, практикующий психолог\, ассоциированный тренер МГИ\, супервизор (Пермь) \n— Емшанова Наталья – практикующий психолог\, аккредитованный гештальт-терапевт\, супервизор (Пермь) А также – приглашённые специалисты\, имеющие успешный опыт в гештальт-терапии и ведении групп. \nУсловия участия:оконченная первая ступень базового курса подготовки гештальт-терапевтов. \nСтоимость каждой трехдневной сессии 7000р. \nНачало работы группы: 29 ноября 2019 с 16:00. \nЗаписаться можно по телефону (вайбер\, ватсап): + 7(922) 336-13-20 (Наталья) или в группе ВК: https://vk.com/emshanova_natalya \nСтраница программы на сайте МГИ https://gestalt.ru/events-list/?et=program_2_stage&country=ru&c=%D0%9F%D0%B5%D1%80%D0%BC%D1%8C&c_by&c_ua&mm&en
URL:https://gestalt.siteholder.ru/event/teoriya-i-praktika-geshtalt-terapii-vtoraya-stupen/
CATEGORIES:Обучающие программы
ATTACH;FMTTYPE=image/jpeg:https://gestalt.siteholder.ru/wp-content/uploads/2019/10/2_st_anons.jpg
ORGANIZER;CN="%D0%90%D0%BD%D0%B4%D1%80%D0%B5%D0%B9 %D0%A1%D0%B0%D0%B2%D1%87%D1%83%D0%BA":MAILTO:asavchuk57@gmail.com
END:VEVENT
END:VCALENDAR