BEGIN:VCALENDAR
VERSION:2.0
PRODID:-//Гештальт-Пермь - ECPv6.15.20//NONSGML v1.0//EN
CALSCALE:GREGORIAN
METHOD:PUBLISH
X-ORIGINAL-URL:https://gestalt.siteholder.ru
X-WR-CALDESC:Мероприятия для Гештальт-Пермь
REFRESH-INTERVAL;VALUE=DURATION:PT1H
X-Robots-Tag:noindex
X-PUBLISHED-TTL:PT1H
BEGIN:VTIMEZONE
TZID:Asia/Karachi
BEGIN:STANDARD
TZOFFSETFROM:+0500
TZOFFSETTO:+0500
TZNAME:PKT
DTSTART:20180101T000000
END:STANDARD
END:VTIMEZONE
BEGIN:VEVENT
DTSTART;TZID=Asia/Karachi:20191016T180000
DTEND;TZID=Asia/Karachi:20191016T211500
DTSTAMP:20260422T003047
CREATED:20190107T043711Z
LAST-MODIFIED:20190927T110209Z
UID:2215-1571248800-1571260500@gestalt.siteholder.ru
SUMMARY:Гештальт Среда. Внутренняя феноменология женственности.
DESCRIPTION:Тема: «Внутренняя феноменология женственности».\nВедущий: Алёна Усталова\nФорма: мастерская\nВремя: 18:00 — 21:15
URL:https://gestalt.siteholder.ru/event/geshtalt-sreda-vnutrennyaya-fenomenologiya-zhenstvennosti/
LOCATION:ул. 25 Октября\, 70/1\, ул. 25 Октября\, 70/1\, Пермь\, Российская Федерация
CATEGORIES:Семинары
ATTACH;FMTTYPE=image/jpeg:https://gestalt.siteholder.ru/wp-content/uploads/2019/01/Geshtalt-sreda-Anons-Alena.jpg
END:VEVENT
END:VCALENDAR