BEGIN:VCALENDAR
VERSION:2.0
PRODID:-//Гештальт-Пермь - ECPv6.15.20//NONSGML v1.0//EN
CALSCALE:GREGORIAN
METHOD:PUBLISH
X-ORIGINAL-URL:https://gestalt.siteholder.ru
X-WR-CALDESC:Мероприятия для Гештальт-Пермь
REFRESH-INTERVAL;VALUE=DURATION:PT1H
X-Robots-Tag:noindex
X-PUBLISHED-TTL:PT1H
BEGIN:VTIMEZONE
TZID:Asia/Karachi
BEGIN:STANDARD
TZOFFSETFROM:+0500
TZOFFSETTO:+0500
TZNAME:PKT
DTSTART:20160101T000000
END:STANDARD
END:VTIMEZONE
BEGIN:VEVENT
DTSTART;TZID=Asia/Karachi:20220114T110000
DTEND;TZID=Asia/Karachi:20220116T190000
DTSTAMP:20260422T001746
CREATED:20210902T180942Z
LAST-MODIFIED:20220412T162658Z
UID:3255-1642158000-1642359600@gestalt.siteholder.ru
SUMMARY:Гештальт-подход в работе с психосоматикой.
DESCRIPTION:Все чаще к психологам за помощью обращаются клиенты с психосоматическими проблемами. Приходят сами или по направлению врачей. Обращаются как с телесными симптомами\, причины\, которых не подтверждаются медицинским обследованием\, так и с тяжелыми хроническими заболеваниями\, в надежде на облегчение или просто на поддержку в тяжёлой ситуации. Для того\, чтобы помочь справиться с недугом тела через работу с психикой и душой\, необходимы специальные знания. \nПриглашаем студентов 2 ступени гештальт-программ и практикующих специалистов.\nПрограмма предполагает знакомство с темой психосоматики в терминах гештальт-подхода\, работу с психосоматикой в клинической практике\, рассмотрение симптома и болезни как части семейной системы\, а так же обсуждение и разбор сложных случаев психосоматики и работу участников под супервизией. \nСпециализация состоит из 7 трехдневных семинаров (последняя трехдневка — сертификационная\, с участием приглашенного ведущего тренера). \n\n\n\n\nДаты первых 4 встреч:\n12-14 ноября 2021г.\n14-16 января 2022г.\n4-6 марта\n13-15 мая\nВедущие:\nМамченко Анжелика Анатольевна.\nКлинический психолог\, гештальт-терапевт\, ассоциированный тренер МГИ\, опыт работы 10 лет. Г. Смоленск.\nМогучая Наталья\nМедицинский психолог\, аккредитованный гештальт-терапевт МГИ\, супервизор\, ведущая психотерапевтических групп\, член Белорусской ассоциации психотерапевтов\, психолог кардиологического центра г. Витебска (Беларусь)\,опыт работы 17летВсе вопросы по содержанию программы можно задавать по телефонам:\n7 910 787 05 71Анжелика\n7 910 714-84-66 Наталья\nЗапись в группу через организаторов:\nСавчук Андрей +7 9124846519\nЕмшанова Наталья +79223361320 (писать в мессенджеры)\nПрограмма:\n■Психосоматика\, как связь души и тела. Исторический обзор: взгляды на связь тела и души в Античности\, Средние века и в Новое время. Развитие идей о психоcоматике в первой половине XX века. Фрейд\, Юнг\, Райх\, Александер. От разорваности к холистическому подходу. Специфический и неспецифический подходы к пониманию психосоматических расстройств. Транстипологичность гештальт-подхода. Процессуальность и диалектичность гештальт-подхода в работе с психосоматикой. Первичное интервью c клиентом с психосоматической проблематикой. Особенности течения и продолжительности работы с психосоматикой\n■Основы теории гештальт-терапии и работа с психосоматикой. Понятия Организм-среда\, Граница контакта\, Фигура – Фон и понимание опыта клиента\, формирующего симптомы\n■Динамическая концепция личности в гештальт-подходе. Базовые потребности. Отчуждение потребности\, как механизм формирования симптомов и заболеваний. Понятие потребностного конфликта. Теория происхождения невроза в гештальт-подходе. Симптом как способ преждевременного разрешения конфликта.\n■Цикл опыта и контакта. Способы прерывания контакта\, их роль в развитии психосоматических расстройств. Симптом как остановленная энергия возбуждения. Особенности функционирования SELF клиента с психосоматической проблематикой. Симптом как творческое приспособление в жизни клиента.\n■Особенности сопротивления в работе с психосоматикой. Понятие сопротивления сопротивлению. Понятие напряжения низкой интенсивности и этапов формирования симптомов и болезней.\n■ Работа с симптомом в гештальт-эксперименте. Методы арт терапии в работе с психосоматикой. Возможность выражения и разворачивания энергии симптома в сказке\, танце\, движении и других проективно-эксперссивных методах. Возможности группового формата работы с психсоматикой. Понятие Оживления симптома.\n■Работа с телом и чувствами в гештальт подходе: Понятие телесности. Дихотомия Я – Тело. Фокусировка на теле в гештальт-подходе.\n■Базовые эмоции. Эмоции\, как маркеры потребностей. Алекситемия. От ощущения в теле к распознаванию чувств \, переживаний и их смыслов. Телесность и сексуальность. Работа с психо-сексуальной симптоматикой. Особенности работы с нарушениями пищевого поведения.\n■Болезнь\, как творческое приспособление особого типа: Понятие здоровья и болезни. Взаимоотношения клиент-врач-психотерапевт. Этапы формирования болезни. Понятие внутренней картины болезни. Функциональные и морфологические нарушения и (ред.) особенности поддержки клиента на разных этапах развития заболевания. Конверсионные симптомы\, функциональные нарушения\, тяжелые психосоматозы.\n■Симптом и болезнь как часть семейной системы: Обращение к семейному контексту. Геносоциограмма. Работа с семьей в гештальт-подходе. Системный подход.\n■Работа с кризисный опытом клиента. Расстройсства адаптации: травмы\, шоковые травмы\, травмы развития\, кризисные жизненные события. Их роль в формировании соматических симптомов и заболеваний. Психосоматика как отдаленные последствия психо-травмирующих событий.\n■Работа с психосоматикой в клинической практике. Понятие уровней организации личности. Особенности протекания заболеваний и работы с клиентами с невротическим\, пограничным и психотическим опытом построения контакта. Особенности работы с клиентом с выраженным шизоидным\, невротическим и нарциссическим векторами организации контакта. Работа с паническими атаками\, фобическими\, тревожными\, соматоформными расстройствами. Взаимоотношения психолог – психиатр. Границы возможностей гештальт-терапии.\n■Обсуждение и разбор сложных случаев психосоматики. Работа участников под супервизией
URL:https://gestalt.siteholder.ru/event/geshtalt-podhod-v-rabote-s-psihosomatikoj/
CATEGORIES:Специализации
ATTACH;FMTTYPE=image/jpeg:https://gestalt.siteholder.ru/wp-content/uploads/2021/09/Be55zymyannyj-1.jpg
ORGANIZER;CN="%D0%90%D0%BD%D0%B4%D1%80%D0%B5%D0%B9 %D0%A1%D0%B0%D0%B2%D1%87%D1%83%D0%BA":MAILTO:asavchuk57@gmail.com
END:VEVENT
BEGIN:VEVENT
DTSTART;TZID=Asia/Karachi:20171117T110000
DTEND;TZID=Asia/Karachi:20171119T190000
DTSTAMP:20260422T001746
CREATED:20170829T102537Z
LAST-MODIFIED:20180119T023824Z
UID:1068-1510916400-1511118000@gestalt.siteholder.ru
SUMMARY:Специализация МГИ. "Любовь и сексуальность в семейных отношениях. Работа с парой."
DESCRIPTION:Специализация МГИ “Любовь и сексуальность в семейных отношениях. Работа с парой”.  \nВедущие: \nЕлена Моисеева\, ведущий тренер ОПП ГП\, гештальт-терапевт\, супервизор\, ведущий программ «Гештальт-терапия в семье» и «Семейный-системный подход»\, обучение по гештальт-терапии\, телесной терапиии и пр. (г. Москва). \nЕкатерина Шарова\, гештальт-терапевт\, психолог (г. Пермь).  \n1 сессия – 17 ноября 2017 года.  \nОБЩЕЕ КОЛИЧЕСТВО ЧАСОВ – 180: 6 трехдневных сессий по 30 часов.  \nНачало программы – 17 ноября 2017 года. \nНабор в группу до 25 октября 2017 года по предоплате.  \nПрограмма специализации: \n1 встреча. «Сексуально – эротическая функция семьи».\nСексуальное воспитание в семье.\nПоловая идентичность\, полоролевая идентичность.\nПостроение генограммы.\nВлияние родительской пары на семейную систему ( сексуальная жизнь родителей как разрушающая либо интегрирующая в жизни семьи).\nРоль женщины в сексе (насколько она может позволить себе быть активной – либо будет нести только пассивную роль\, насколько это передавалось из поколения в поколение и как это отражалось на детях\, какую они проходили историю).  \n2 встреча. «Динамика сексуальности в семье».\nФункции секса.\nКривая контакта.\nРоль семьи в формировании и передаче традиций.\nОсобенности взаимодействия в паре\, где есть люди с разными традициями.\nРазвитие сексуальности на разных стадиях семьи: пара\, беременность\, появление ребенка\, старение.\nВлияние беременности и материнства на сексуальность пары: появление новой роли\, появление треугольника… Возможности семьи освоить новый статус. \n3 встреча. «Половая и полоролевая идентичность». \nМодели воспитания мальчика как мальчика\, и девочки как девочки в семье и в социуме…\nЭтно – культурное влияние традиций на половую идентичность.\nПолоролевая идентичность как определенная идентификация с родителем\, который соответствует полу ребенка. Как формируется\, когда начинает формироваться. \nЧто значит для каждого человека быть мужчиной или женщиной…\nПодростковая сексуальность. \n4 встреча. «Отношения любви».\nЭтапы выбора партнера: идеализации партнера\, идентификация с партнером.\nИдеализация и зрелая любовь как этапы развития отношений.\nРоль привязанности в формировании пары … \nСвязь и различия между сексуальной страстью и эмпатией.\nРоль сексуальной страсти.\nЧувство единства с любимым человеком как часть юношеского романтизма и его трансформация в зрелые обязательства.  \n5 встреча. «Роль стрессов в трансформации любовных отношений в паре».\nКак быть матерью и женщиной.\nРазное отношение мужчин и женщин к определенным феноменам… \nТерапевтические отношения как пример любовных (зависть и ревность в отношениях клиент – терапевт).\nОтношение терапевта к собственной бисесксуальности – влияние принятия себя на процесс терапии. \n6 встреча. Сертификационная сессия.\nНеобходимо предоставить эссе об изменении собственного отношения и собственных представлений о сексуальности. Предоставить случай для заочной супервизии из своей практики работы с клиентом или парой. \nПодробная информация в группе “Специализация: Любовь и сексуальность в семейных отношениях” \nСтоимость трёхдневки 6000 рублей. \nПредоплата за первую встречу собирается до 25 октября 2017 года.  \nКоличество участников 12-14 человек. \nСЕРТИФИКАТЫ: \nПо завершении специализации выдаются номерные сертификаты двух образцов:\n— участникам\, выполнившим все требования — сертификат об «успешном завершении специализации» (на специальном бланке программы «МГИ»)\,\n— всем остальным – сертификат «участия в специализации». \nЗапись по телефону 89223228771 или в личном сообщении (Шарова Екатерина)
URL:https://gestalt.siteholder.ru/event/lyubov-i-seksualnost-v-semejnyh-otnosheniyah-rabota-s-paroj/
LOCATION:Чкалова 9Е\, ул. Чкалова 9Е\, Пермь\, Пермский край\, 614000\, Российская Федерация
CATEGORIES:Специализации
ATTACH;FMTTYPE=image/jpeg:https://gestalt.siteholder.ru/wp-content/uploads/2017/08/pz7Wnz4mNJc-e1613052365113.jpg
ORGANIZER;CN="%D0%A8%D0%B0%D1%80%D0%BE%D0%B2%D0%B0 %D0%95%D0%BA%D0%B0%D1%82%D0%B5%D1%80%D0%B8%D0%BD%D0%B0":MAILTO:borovkova_katy@mail.ru
END:VEVENT
BEGIN:VEVENT
DTSTART;VALUE=DATE:20171006
DTEND;VALUE=DATE:20171009
DTSTAMP:20260422T001746
CREATED:20170810T113028Z
LAST-MODIFIED:20170811T101102Z
UID:910-1507248000-1507507199@gestalt.siteholder.ru
SUMMARY:Cпецкурс «Клиническая гештальт-терапия». Сессия 1.
DESCRIPTION:Начало 6 октября 2017 года\, Пермь\nПриглашаем в программу: \n\nстудентов базового курса подготовки гештальт-терапевтов\,\nвыпускников базового курса\,\nпрактикующих гештальт-терапевтов.\n\nПрограмма спецкурса состоит из двух разделов:\n«Основные клинические проблемы в гештальт-терапии» (3 учебные сессии) и\n«Сложные клинические случаи в гештальт-терапии» (3 учебные сессии). \nОбщее количество часов 180: 6 трехдневных сессий по 30 часов.\nСпецкурс засчитывается студентам в зачёт выполнения сертификационных требований по спецкурсам и специализациям. \nРаздел 1. «Основные клинические проблемы в гештальт-терапии»\nСессия 1. Первичная диагностика в гештальт-терапии.\nМесто и роль первичной диагностики в организации терапии. Принципы диагностики\, построение диагностической системы. Психические заболевания и личностные расстройства. Этиология психических заболеваний. Невротический и психотический уровень психических расстройств. Понятие о личностных расстройствах\, общие принципы диагностики личностных расстройств. \nСессия 2. Тревожные расстройства и ПТСР.\nЭтиология. Общие принципы диагностики. Тревожные расстройства\, фобии\, панические атаки\, ПТСР\, дифференциальная диагностика. Тактика работы гештальт-терапевта. \nСессия 3. Депрессивные расстройства.\nДепрессивный синдром. Классификации депрессивных расстройств. Эндогенная депрессия\, депрессивный невроз\, реакция горя.\nФеноменология депрессий. Причины депрессии. Диагностика и особенности гештальт-терапии депрессий. Последствия депрессий.\nАутоагрессивное и суицидальное поведение. Предотвращение суицида. Помощь родственникам. \nРаздел 2. «Сложные клинические случаи в гештальт-терапии».\nСессия 4. Психосоматика и сексуальные нарушения.\nКлассификация психосоматических и сексуальных нарушений\, диагностика и тактика работы. \nСессия 5. Расстройства пищевого поведения.\nПсихологические аспекты питания. Особенности личности и семейного взаимодействия при нарушениях пищевого поведения. Психогенное переедание. Нервная анорексия. Нервная булимия. \nСессия 6. Подведение итогов\, разбор сложных случаев\, супервизия. \nВЕДУЩИЕ\n\nЛазовская Оксана\, тренер ОПП ГП\, психиатр\, психотерапевт\, гештальт-терапевт\, супервизор\, Минск.\nКрупский Петр\, тренер ОПП ГП\, психиатр\, психотерапевт\, гештальт-терапевт\, супервизор\, Минск.\nЛинейный тренер — Голованова (Верятина) Юлия\, тренер ОПП ГП\, супервизор\, гештальт-терапевт\, психолог\, Пермь.\n\nОРГВОПРОСЫ\n\nСессии 1 раз в 2 месяца — пятница с 15:30\, суббота и воскресенье целый день.\n\nНачало программы — 6 октября 2017 года. Набор в группу до 25 августа 2017 года по предоплате. \nСтоимость трёхдневки при предоплате 5500. При оплате на месте 6000.\nПредоплата за первую встречу собирается до 25 августа 2017 года.\nЗа последующие сессии — на предыдущей трехдневке (за вторую сессию — на первой\, за третью — на второй и т.д.) \nПЕРЕСЕЧЕНИЯ ПРОГРАММ\nПропуск сессии в случае пересечения с программой базового курса или третьей ступени — не оплачивается. В остальных случаях — оплата 100%. Возможно исключение\, которое обсуждается по ситуации с тренерами\, организатором программы и группой.\nСтараюсь исключить пересечения дат в рамках тех программ\, которые организую сама. \nСЕРТИФИКАТЫ\nПо окончании спецкурса участники получают 2 сертификата (за каждый раздел курса отдельный сертификат). Тем\, кто уже завершил вторую ступень и не учится на третьей\, а так же не является аккредитованным членом сообщества\, для получения сертификатов необходимо внести в ОПП ГП годовой организационный взнос. \nДАТЫ\n\n1 сессия. 6-8 октября 2017 года. Предоплата до 25 августа 2017 года.\n2 сессия. 1-3 декабря 2017 года. Предоплата в последний день первой сессии — 8 октября.\n3 сессия. Пока забронированы 2 даты. 19-21 января 2018 года и 26-28 января 2018 года. Какая из дат станет окончательной станет известно осенью 2017 года. Предоплата в последний день второй сессии — 3 декабря 2017 года.\n4 сессия. 30 марта — 1 апреля 2018 г. Предоплата в последний день третьей сессии.\nДаты 5 и 6 сессий будут определены позже.\n\nКОНТАКТЫ ОРГАНИЗАТОРА\n\nГолованова Юлия.\nТелефон: 8-908-257-10-60\, почта verjul@mail.ru\, сайт www.verjul.ru (раздел «Обучение»)\nгруппа ВКОНТАКТЕ
URL:https://gestalt.siteholder.ru/event/cpetskurs-klinicheskaya-geshtalt-terapiya/
CATEGORIES:Специализации
ORGANIZER;CN="%D0%AE%D0%BB%D0%B8%D1%8F %D0%93%D0%BE%D0%BB%D0%BE%D0%B2%D0%B0%D0%BD%D0%BE%D0%B2%D0%B0 (%D0%92%D0%B5%D1%80%D1%8F%D1%82%D0%B8%D0%BD%D0%B0)":MAILTO:verjul@mail.ru
END:VEVENT
END:VCALENDAR