BEGIN:VCALENDAR
VERSION:2.0
PRODID:-//Гештальт-Пермь - ECPv6.15.20//NONSGML v1.0//EN
CALSCALE:GREGORIAN
METHOD:PUBLISH
X-WR-CALNAME:Гештальт-Пермь
X-ORIGINAL-URL:https://gestalt.siteholder.ru
X-WR-CALDESC:Мероприятия для Гештальт-Пермь
REFRESH-INTERVAL;VALUE=DURATION:PT1H
X-Robots-Tag:noindex
X-PUBLISHED-TTL:PT1H
BEGIN:VTIMEZONE
TZID:Asia/Karachi
BEGIN:STANDARD
TZOFFSETFROM:+0500
TZOFFSETTO:+0500
TZNAME:PKT
DTSTART:20200101T000000
END:STANDARD
END:VTIMEZONE
BEGIN:VEVENT
DTSTART;TZID=Asia/Karachi:20231110T170000
DTEND;TZID=Asia/Karachi:20231112T190000
DTSTAMP:20260422T001047
CREATED:20230829T074509Z
LAST-MODIFIED:20230829T074649Z
UID:3622-1699635600-1699815600@gestalt.siteholder.ru
SUMMARY:СЕТТИНГ И КОНТРАКТ в работе психотерапевта
DESCRIPTION:УВАЖАЕМЫЕ СТУДЕНТЫ И КОЛЛЕГИ!\nПо итогам предыдущих групп есть желающие принять участие в семинаре “СЕТТИНГ И КОНТРАКТ в работе психотерапевта”. \nПриглашаю. Посмотрим\, наберётся ли группа. Данный семинар я уже проводила и с выпускниками\, и со студентами\, и со старшими коллегами. Группы работали очень активно и заинтересованно. Так что есть основания подумать об участии. Искренне рекомендую этот семинар\, поскольку тема\, к сожалению\, недостаточно разработана в гештальт-подходе и каждый идёт в ней на ощупь. А мне есть чем поделиться с вами за много лет практики и осмысления этих вопросов. И сама группа – тоже богатое поле для обмена. \nСеминар состоит из двух встреч.\n1 встреча 10-12 ноября 2023 г.\n2 встреча 12-14 января 2023 г. \nСтоимость и подробные условия обсуждаю с каждым желающим лично. Звоните или пишите (лучше в вотсапп!). Запись на семинар до 17 октября 2023 года. \nТЕМАТИЧЕСКОЕ СОДЕРЖАНИЕ СЕМИНАРА:\nСеттинг и контракт в психотерапии – что есть что. Какова роль сеттинга в психотерапии.\nКонтракт – гласный и негласный. Для чего мы заключаем контракт с клиентом\, есть ли в этом необходимость\, на основании чего мы формулируем контракт. Функции контракта.\nЛичный взгляд терапевта на сеттинг и контракт. Особенности контракта в различных терапевтических ситуациях.\nИзменения сеттинга\, нарушения сеттинга\, анализ ситуаций в терапии\, связанных с сеттингом. \nМы также обсудим те условия терапии\, которые для большинства терапевтов нашего сообщества настолько очевидны\, что не вызывают вопросов. И\, может быть\, зря не вызывают. Будет о чём подумать. Будет возможность взглянуть на терапию по-новому. \nФОРМЫ РАБОТЫ: лекции\, обсуждения\, эксперименты и супервизия. \nПриглашаю практикующих терапевтов (опытных и начинающих)\, участников вторых ступеней и выпускников базового курса. Всех\, кому интересна и актуальна данная тема. \nДумаю\, что более понятен и интересен семинар будет для тех\, кто уже имеет опыт работы с клиентами. Но и для тех\, кто только планирует начать практику\, участие остаётся возможным. \nАвтор и ведущая семинара: я\, Юлия Голованова\, гештальт-терапевт\, супервизор\, тренер ОПП ГП. \nОБ ИДЕЕ СЕМИНАРА:\nТема эта гораздо глубже и шире\, чем может показаться. Мы постоянно слышим о ней или упоминаем те или иные её аспекты на разных профессиональных мероприятиях. И при этом складывается впечатление\, что каждый из нас в её освоении двигается в большей степени в одиночку. \nНепонимание терапевтом сути сеттинга и контракта в терапии\, недостаток уделяемого внимания этому вопросу может являться одним из важных факторов нестабильной практики терапевта\, непонятного и неожиданного исчезновения клиентов из отношений с терапевтом\, трудностей терапевта в связи с пропусками\, отменами\, переносами встреч клиентом\, в связи с общением между сессиями и т.д. Нередко переживание растерянности\, злости\, вины и стыда терапевта сложно переработать в контексте терапии\, если не обращаться к анализу вопросов сеттинга. \nС моей точки зрения эта тема в нашем сообществе словно окутана тайной\, некой завесой\, за которую не понятно\, как\, когда и с кем заглянуть. Что такое сеттинг? Что такое контракт? Как они связаны друг с другом? Почему так сложно говорить об этом и разбираться в нюансах? Отчасти это связано с тем\, что гештальт-подход декларируется как очень творческий подход\, которому чужды рамки. По моим наблюдениям чаще разговоры о контракте ассоциируются с жёсткостью\, репрессивностью и чем-то неприятным\, чем с ресурсом\, опорой\, органичным и необходимым обрамлением\, подчёркивающим фигуру на фоне. В итоге\, избегание темы и растерянность. \nРаботая с супервизантами я вновь и вновь оказываюсь с впечатлением\, что терапевтам не хватает общего понимания базовых вопросов сеттинга\, чтобы быть более уверенными в организации своей работы с клиентами\, в своих терапевтических интервенциях и их понимании\, когда дело касается вопросов сеттинга. \nК сожалению\, мой опыт участника базового курса и тренера\, ведущего базовый курс\, показывает\, что в рамках программы не удаётся выделить достаточно времени\, которое было бы сконцентрировано вокруг данной темы и помогало бы рассмотреть её достаточно глубоко. Поэтому я предлагаю уделить этой теме отдельное внимание в своём семинаре. \nМы останемся в рамках творческого гештальт-подхода. Я поделюсь своими опытом\, размышлениями и знаниями на тему\, мы будем обсуждать и исследовать ваши представления и опыт. И находить новое видение за счёт расширения контекста\, взглядов и фантазий о теме. \nВ результате\, я уверена\, вы завершите семинар с более глубоким пониманием сути терапии\, вообще\, и\, в частности – с бОльшим пониманием психотерапевтического сеттинга\, с большей уверенностью в вопросах\, как вам организовывать работу с клиентами. Вы сможете более осознанно подходить к вопросам организации работы с клиентами и заключения терапевтического контракта. Вопросы вокруг контракта и взаимодействия с клиентом по поводу контракта станут менее пугающими или напрягающими и более интересными. Я бы даже сказала – очень интересными.\nЕсли вы захотите\, у вас появится базовый терапевтический контракт или вы трансформируете тот\, который есть сейчас.
URL:https://gestalt.siteholder.ru/event/setting-i-kontrakt-v-rabote-psihoterapevta/
CATEGORIES:Семинары
ATTACH;FMTTYPE=image/jpeg:https://gestalt.siteholder.ru/wp-content/uploads/2021/11/3gtah6UOfXY-e1637416463641.jpg
ORGANIZER;CN="%D0%AE%D0%BB%D0%B8%D1%8F %D0%93%D0%BE%D0%BB%D0%BE%D0%B2%D0%B0%D0%BD%D0%BE%D0%B2%D0%B0 (%D0%92%D0%B5%D1%80%D1%8F%D1%82%D0%B8%D0%BD%D0%B0)":MAILTO:verjul@mail.ru
END:VEVENT
BEGIN:VEVENT
DTSTART;TZID=Asia/Karachi:20211120T080000
DTEND;TZID=Asia/Karachi:20211120T170000
DTSTAMP:20260422T001047
CREATED:20211120T135717Z
LAST-MODIFIED:20211120T135749Z
UID:3296-1637395200-1637427600@gestalt.siteholder.ru
SUMMARY:"СЕТТИНГ И КОНТРАКТ в работе психотерапевта". СЕМИНАР
DESCRIPTION:Семинар состоит из двух встреч.\n1 встреча 3-5 декабря 2021 г.\n2 встреча 28-30 января 2021 г.Стоимость за каждую трёхдневку 6000 при предоплате\, 7000 при оплате на месте. Подробнее условия обсуждаю с каждым желающим лично. \nТЕМАТИЧЕСКОЕ СОДЕРЖАНИЕ СЕМИНАРА:\nСеттинг и контракт в психотерапии – что есть что. Какова роль сеттинга в психотерапии.\nКонтракт – гласный и негласный. Для чего мы заключаем контракт с клиентом\, есть ли в этом необходимость\, на основании чего мы формулируем контракт. Функции контракта.\nЛичный взгляд терапевта на сеттинг и контракт. Особенности контракта в различных терапевтических ситуациях.\nИзменения сеттинга\, нарушения сеттинга\, анализ ситуаций в терапии\, связанных с сеттингом. \nМы также обсудим те условия терапии\, которые для большинства терапевтов нашего сообщества настолько очевидны\, что не вызывают вопросов. И\, может быть\, зря не вызывают. Будет о чём подумать. Будет возможность взглянуть на терапию по-новому. \nФОРМЫ РАБОТЫ: лекции\, обсуждения\, эксперименты и супервизия. \nПриглашаю практикующих терапевтов (опытных и начинающих)\, участников вторых ступеней и выпускников базового курса. Всех\, кому интересна и актуальна данная тема. \nДумаю\, что более понятен и интересен семинар будет для тех\, кто уже имеет опыт работы с клиентами. Но и для тех\, кто только планирует начать практику\, участие остаётся возможным. \nАвтор и ведущая семинара: я\, Юлия Голованова\, гештальт-терапевт\, супервизор\, тренер ОПП ГП. \nОБ ИДЕЕ СЕМИНАРА:\nТема эта гораздо глубже и шире\, чем может показаться. Мы постоянно слышим о ней или упоминаем те или иные её аспекты на разных профессиональных мероприятиях. И при этом складывается впечатление\, что каждый из нас в её освоении двигается в большей степени в одиночку. \nНепонимание терапевтом сути сеттинга и контракта в терапии\, недостаток уделяемого внимания этому вопросу может являться одним из важных факторов нестабильной практики терапевта\, непонятного и неожиданного исчезновения клиентов из отношений с терапевтом\, трудностей терапевта в связи с пропусками\, отменами\, переносами встреч клиентом\, в связи с общением между сессиями и т.д. Нередко переживание растерянности\, злости\, вины и стыда терапевта сложно переработать в контексте терапии\, если не обращаться к анализу вопросов сеттинга. \nС моей точки зрения эта тема в нашем сообществе словно окутана тайной\, некой завесой\, за которую не понятно\, как\, когда и с кем заглянуть. Что такое сеттинг? Что такое контракт? Как они связаны друг с другом? Почему так сложно говорить об этом и разбираться в нюансах? Отчасти это связано с тем\, что гештальт-подход декларируется как очень творческий подход\, которому чужды рамки. По моим наблюдениям чаще разговоры о контракте ассоциируются с жёсткостью\, репрессивностью и чем-то неприятным\, чем с ресурсом\, опорой\, органичным и необходимым обрамлением\, подчёркивающим фигуру на фоне. В итоге\, избегание темы и растерянность. \nРаботая с супервизантами я вновь и вновь оказываюсь с впечатлением\, что терапевтам не хватает общего понимания базовых вопросов сеттинга\, чтобы быть более уверенными в организации своей работы с клиентами\, в своих терапевтических интервенциях и их понимании\, когда дело касается вопросов сеттинга. \nК сожалению\, мой опыт участника базового курса и тренера\, ведущего базовый курс\, показывает\, что в рамках программы не удаётся выделить достаточно времени\, которое было бы сконцентрировано вокруг данной темы и помогало бы рассмотреть её достаточно глубоко. Поэтому я предлагаю уделить этой теме отдельное внимание в своём семинаре. \nМы останемся в рамках творческого гештальт-подхода. Я поделюсь своими опытом\, размышлениями и знаниями на тему\, мы будем обсуждать и исследовать ваши представления и опыт. И находить новое видение за счёт расширения контекста\, взглядов и фантазий о теме. \nВ результате\, я уверена\, вы завершите семинар с более глубоким пониманием сути терапии\, вообще\, и\, в частности – с бОльшим пониманием психотерапевтического сеттинга\, с большей уверенностью в вопросах\, как вам организовывать работу с клиентами. Вы сможете более осознанно подходить к вопросам организации работы с клиентами и заключения терапевтического контракта. Вопросы вокруг контракта и взаимодействия с клиентом по поводу контракта станут менее пугающими или напрягающими и более интересными. Я бы даже сказала – очень интересными. \nЕсли вы захотите\, у вас появится базовый терапевтический контракт или вы трансформируете тот\, который есть сейчас.
URL:https://gestalt.siteholder.ru/event/setting-i-kontrakt-v-rabote-psihoterapevta-seminar/
CATEGORIES:Семинары
ATTACH;FMTTYPE=image/jpeg:https://gestalt.siteholder.ru/wp-content/uploads/2021/11/3gtah6UOfXY-e1637416463641.jpg
ORGANIZER;CN="%D0%AE%D0%BB%D0%B8%D1%8F %D0%93%D0%BE%D0%BB%D0%BE%D0%B2%D0%B0%D0%BD%D0%BE%D0%B2%D0%B0 (%D0%92%D0%B5%D1%80%D1%8F%D1%82%D0%B8%D0%BD%D0%B0)":MAILTO:verjul@mail.ru
END:VEVENT
END:VCALENDAR