BEGIN:VCALENDAR
VERSION:2.0
PRODID:-//Гештальт-Пермь - ECPv6.15.20//NONSGML v1.0//EN
CALSCALE:GREGORIAN
METHOD:PUBLISH
X-WR-CALNAME:Гештальт-Пермь
X-ORIGINAL-URL:https://gestalt.siteholder.ru
X-WR-CALDESC:Мероприятия для Гештальт-Пермь
REFRESH-INTERVAL;VALUE=DURATION:PT1H
X-Robots-Tag:noindex
X-PUBLISHED-TTL:PT1H
BEGIN:VTIMEZONE
TZID:Asia/Karachi
BEGIN:STANDARD
TZOFFSETFROM:+0500
TZOFFSETTO:+0500
TZNAME:PKT
DTSTART:20160101T000000
END:STANDARD
END:VTIMEZONE
BEGIN:VEVENT
DTSTART;TZID=Asia/Karachi:20230924T110000
DTEND;TZID=Asia/Karachi:20230924T190000
DTSTAMP:20260421T224719
CREATED:20230829T083439Z
LAST-MODIFIED:20230829T083439Z
UID:3637-1695553200-1695582000@gestalt.siteholder.ru
SUMMARY:Исследование сексуальности. Гештальт подход.
DESCRIPTION:Авторский курс (третий сезон)\n“Исследование сексуальности. Гештальт подход” \nПриглашаем вас исследовать свою сексуальность\, через философию гештальт подхода\, на телесном\, чувственном\, когнитивном\, поведенческом и экзистенциальном уровнях.\nВ программе эксперименты\, лекции\, сессии\, погружение в фантазии\, беседы. За годы практики и обучения у нас накопилось много материала и появилась потребность делиться с вами. \nМы проживём 9 тематических встреч. На курсе будем исследовать следующие темы: Биологические и психологические аспекты сексуальности. Основные понятия. Развитие и формирование сексуальности в онтогенезе. Секс в отношениях. Романтическая\, эротическая\, сексуальная стадии отношений. Функции секса. Механизмы регуляции возбуждения. Цикл опыта. Исследование границ собственной сексуальности. Архетипические игры и образы сексуальности. Измена и ревность. Расстройства сексуального предпочтения. Работа с травмами сексуального насилия. \nНаличие индивидуальной терапии во время прохождения курса приветствуется.\nЧасы группы студентам МГИ в зачёт не идут\, мотивацией для участия является ваш личный и профессиональный интерес к проявлениям сексуальности в жизни и терапии.\nВедущие: Екатерина Шарова и Наталья Денисова\nАдрес: ул. Максим Горького\, 60.\nВстречи проходят раз в три\, четыре недели по воскресеньям с 11.00 до 19.00.\nПродолжительность 8 встреч.\nПервая встреча – 24 сентября 2023 года. \nВсе даты на год:\n1. 24 сентября\n2. 22 октября\n3. 26 ноября\n4. 17 декабря\n5. 7 января\n6. 4 февраля\n7. 3 марта\n8. 31 марта или 21 апреля (зависит от даты конференции)\n9. 9 июня\nСтоимость 5000р. за встречу. При оплате всего курса сразу скидка 10%\nГруппа 8-10 человек
URL:https://gestalt.siteholder.ru/event/issledovanie-seksualnosti-geshtalt-podhod-2/
LOCATION:“Выручай комната”\, Максима Горького\, 60\, Пермь\, Пермский край\, 614000\, Российская Федерация
CATEGORIES:Авторский курс
ATTACH;FMTTYPE=image/jpeg:https://gestalt.siteholder.ru/wp-content/uploads/2023/08/Bezywww45myannyj-1.jpg
ORGANIZER;CN="%D0%94%D0%B5%D0%BD%D0%B8%D1%81%D0%BE%D0%B2%D0%B0 %D0%9D%D0%B0%D1%82%D0%B0%D0%BB%D1%8C%D1%8F":MAILTO:geshtaltperm@gmail.com
END:VEVENT
BEGIN:VEVENT
DTSTART;TZID=Asia/Karachi:20211009T110000
DTEND;TZID=Asia/Karachi:20211009T190000
DTSTAMP:20260421T224719
CREATED:20210910T074830Z
LAST-MODIFIED:20210910T074912Z
UID:3272-1633777200-1633806000@gestalt.siteholder.ru
SUMMARY:Исследование сексуальности. Гештальт подход.
DESCRIPTION:Приглашаем вас исследовать свою сексуальность\, через философию гештальт подхода\, на телесном\, чувстенном\, когнитивном\, поведенческом и экзистенциальном уровнях.\nВ программе эксперименты\, лекции\, сессии\, погружение в фантазии\, беседы. За годы практики и обучения у нас накопилось много материала и появилась потребность делиться с вами. \nМы проведём 5 тематических встреч:\n1. Биологические и психологические аспекты сексуальности. Основные понятия.\n2. Формирование сексуальности в онтогенезе.\n3. Сексуальные отношения в паре.\n4. Исследование границ собственной сексуальности.\n5. Архетипические игры и образы сексуальности. \nПервая встреча – 09.10.21\nНаличие индивидуальной терапии во время прохождения курса приветствуется.\nЧасы группы студентам МГИ в зачёт не идут\, мотивацией для участия является ваш личный и профессиональный интерес к проявлениям сексуальности в жизни и терапии. \nВедущие:\nЕкатерина Шарова (психолог\, гештальт-терапевт)\nНаталья Денисова (психолог\, гештальт-терапевт) \nПо адресу: ул. Максим Горького\, 60\, “Выручай комната”\nВстречи раз в три\, четыре недели по субботам с 11.00 – 19.00.\nПродолжительность 5 встреч.\nСтоимость 4000р. за встречу. Запись по 100% предоплате последней встречи. При оплате всего курса сразу\, скидка – 5 встреч – 18 т.р.
URL:https://gestalt.siteholder.ru/event/issledovanie-seksualnosti-geshtalt-podhod/
LOCATION:“Выручай комната”\, Максима Горького\, 60\, Пермь\, Пермский край\, 614000\, Российская Федерация
CATEGORIES:Авторский курс
ATTACH;FMTTYPE=image/jpeg:https://gestalt.siteholder.ru/wp-content/uploads/2021/09/seksualnost-e1631260038512.jpg
ORGANIZER;CN="%D0%94%D0%B5%D0%BD%D0%B8%D1%81%D0%BE%D0%B2%D0%B0 %D0%9D%D0%B0%D1%82%D0%B0%D0%BB%D1%8C%D1%8F":MAILTO:geshtaltperm@gmail.com
END:VEVENT
BEGIN:VEVENT
DTSTART;TZID=Asia/Karachi:20171117T110000
DTEND;TZID=Asia/Karachi:20171119T190000
DTSTAMP:20260421T224719
CREATED:20170829T102537Z
LAST-MODIFIED:20180119T023824Z
UID:1068-1510916400-1511118000@gestalt.siteholder.ru
SUMMARY:Специализация МГИ. "Любовь и сексуальность в семейных отношениях. Работа с парой."
DESCRIPTION:Специализация МГИ “Любовь и сексуальность в семейных отношениях. Работа с парой”.  \nВедущие: \nЕлена Моисеева\, ведущий тренер ОПП ГП\, гештальт-терапевт\, супервизор\, ведущий программ «Гештальт-терапия в семье» и «Семейный-системный подход»\, обучение по гештальт-терапии\, телесной терапиии и пр. (г. Москва). \nЕкатерина Шарова\, гештальт-терапевт\, психолог (г. Пермь).  \n1 сессия – 17 ноября 2017 года.  \nОБЩЕЕ КОЛИЧЕСТВО ЧАСОВ – 180: 6 трехдневных сессий по 30 часов.  \nНачало программы – 17 ноября 2017 года. \nНабор в группу до 25 октября 2017 года по предоплате.  \nПрограмма специализации: \n1 встреча. «Сексуально – эротическая функция семьи».\nСексуальное воспитание в семье.\nПоловая идентичность\, полоролевая идентичность.\nПостроение генограммы.\nВлияние родительской пары на семейную систему ( сексуальная жизнь родителей как разрушающая либо интегрирующая в жизни семьи).\nРоль женщины в сексе (насколько она может позволить себе быть активной – либо будет нести только пассивную роль\, насколько это передавалось из поколения в поколение и как это отражалось на детях\, какую они проходили историю).  \n2 встреча. «Динамика сексуальности в семье».\nФункции секса.\nКривая контакта.\nРоль семьи в формировании и передаче традиций.\nОсобенности взаимодействия в паре\, где есть люди с разными традициями.\nРазвитие сексуальности на разных стадиях семьи: пара\, беременность\, появление ребенка\, старение.\nВлияние беременности и материнства на сексуальность пары: появление новой роли\, появление треугольника… Возможности семьи освоить новый статус. \n3 встреча. «Половая и полоролевая идентичность». \nМодели воспитания мальчика как мальчика\, и девочки как девочки в семье и в социуме…\nЭтно – культурное влияние традиций на половую идентичность.\nПолоролевая идентичность как определенная идентификация с родителем\, который соответствует полу ребенка. Как формируется\, когда начинает формироваться. \nЧто значит для каждого человека быть мужчиной или женщиной…\nПодростковая сексуальность. \n4 встреча. «Отношения любви».\nЭтапы выбора партнера: идеализации партнера\, идентификация с партнером.\nИдеализация и зрелая любовь как этапы развития отношений.\nРоль привязанности в формировании пары … \nСвязь и различия между сексуальной страстью и эмпатией.\nРоль сексуальной страсти.\nЧувство единства с любимым человеком как часть юношеского романтизма и его трансформация в зрелые обязательства.  \n5 встреча. «Роль стрессов в трансформации любовных отношений в паре».\nКак быть матерью и женщиной.\nРазное отношение мужчин и женщин к определенным феноменам… \nТерапевтические отношения как пример любовных (зависть и ревность в отношениях клиент – терапевт).\nОтношение терапевта к собственной бисесксуальности – влияние принятия себя на процесс терапии. \n6 встреча. Сертификационная сессия.\nНеобходимо предоставить эссе об изменении собственного отношения и собственных представлений о сексуальности. Предоставить случай для заочной супервизии из своей практики работы с клиентом или парой. \nПодробная информация в группе “Специализация: Любовь и сексуальность в семейных отношениях” \nСтоимость трёхдневки 6000 рублей. \nПредоплата за первую встречу собирается до 25 октября 2017 года.  \nКоличество участников 12-14 человек. \nСЕРТИФИКАТЫ: \nПо завершении специализации выдаются номерные сертификаты двух образцов:\n— участникам\, выполнившим все требования — сертификат об «успешном завершении специализации» (на специальном бланке программы «МГИ»)\,\n— всем остальным – сертификат «участия в специализации». \nЗапись по телефону 89223228771 или в личном сообщении (Шарова Екатерина)
URL:https://gestalt.siteholder.ru/event/lyubov-i-seksualnost-v-semejnyh-otnosheniyah-rabota-s-paroj/
LOCATION:Чкалова 9Е\, ул. Чкалова 9Е\, Пермь\, Пермский край\, 614000\, Российская Федерация
CATEGORIES:Специализации
ATTACH;FMTTYPE=image/jpeg:https://gestalt.siteholder.ru/wp-content/uploads/2017/08/pz7Wnz4mNJc-e1613052365113.jpg
ORGANIZER;CN="%D0%A8%D0%B0%D1%80%D0%BE%D0%B2%D0%B0 %D0%95%D0%BA%D0%B0%D1%82%D0%B5%D1%80%D0%B8%D0%BD%D0%B0":MAILTO:borovkova_katy@mail.ru
END:VEVENT
END:VCALENDAR