BEGIN:VCALENDAR
VERSION:2.0
PRODID:-//Гештальт-Пермь - ECPv6.15.20//NONSGML v1.0//EN
CALSCALE:GREGORIAN
METHOD:PUBLISH
X-ORIGINAL-URL:https://gestalt.siteholder.ru
X-WR-CALDESC:Мероприятия для Гештальт-Пермь
REFRESH-INTERVAL;VALUE=DURATION:PT1H
X-Robots-Tag:noindex
X-PUBLISHED-TTL:PT1H
BEGIN:VTIMEZONE
TZID:Asia/Karachi
BEGIN:STANDARD
TZOFFSETFROM:+0500
TZOFFSETTO:+0500
TZNAME:PKT
DTSTART:20180101T000000
END:STANDARD
END:VTIMEZONE
BEGIN:VEVENT
DTSTART;TZID=Asia/Karachi:20190826T170000
DTEND;TZID=Asia/Karachi:20190826T200000
DTSTAMP:20260422T015736
CREATED:20190604T092502Z
LAST-MODIFIED:20190604T093439Z
UID:2423-1566838800-1566849600@gestalt.siteholder.ru
SUMMARY:Открытый сбор сообщества
DESCRIPTION:Открытое собрание сообщества психологов\, практикующих Гештальт Подход в г. Перми. \nПриглашаем студентов и коллег практикующих гештальт подход. \nТема сбора: Поддержка коллегиального пространства\, обсуждение насущных вопросов\, представление своих проектов.
URL:https://gestalt.siteholder.ru/event/otkrytyj-sbor-soobshhestva/
LOCATION:Чкалова 9Е\, ул. Чкалова 9Е\, Пермь\, Пермский край\, 614000\, Российская Федерация
CATEGORIES:Конференции
ATTACH;FMTTYPE=image/jpeg:https://gestalt.siteholder.ru/wp-content/uploads/2019/06/6015_1-1200x1300-e1559640780825.jpg
END:VEVENT
END:VCALENDAR