BEGIN:VCALENDAR
VERSION:2.0
PRODID:-//Гештальт-Пермь - ECPv6.15.20//NONSGML v1.0//EN
CALSCALE:GREGORIAN
METHOD:PUBLISH
X-ORIGINAL-URL:https://gestalt.siteholder.ru
X-WR-CALDESC:Мероприятия для Гештальт-Пермь
REFRESH-INTERVAL;VALUE=DURATION:PT1H
X-Robots-Tag:noindex
X-PUBLISHED-TTL:PT1H
BEGIN:VTIMEZONE
TZID:Asia/Karachi
BEGIN:STANDARD
TZOFFSETFROM:+0500
TZOFFSETTO:+0500
TZNAME:PKT
DTSTART:20170101T000000
END:STANDARD
END:VTIMEZONE
BEGIN:VEVENT
DTSTART;TZID=Asia/Karachi:20190413T100000
DTEND;TZID=Asia/Karachi:20190414T193000
DTSTAMP:20260422T005105
CREATED:20190221T193436Z
LAST-MODIFIED:20190221T193454Z
UID:2298-1555149600-1555270200@gestalt.siteholder.ru
SUMMARY:Теория и практика гештальт-терапии (1-я ступень)
DESCRIPTION:Начинаем новый набор профессиональной программы подготовки гештальт — терапевтов в городе Пермь. \nПРИГЛАШАЕМ ПСИХОЛОГОВ\, ВРАЧЕЙ\, СТУДЕНТОВ\, а также – всех\, кто интересуется настоящей практической психологией для своего профессионального и личностного развития\,\nпринять участие в обучающей программе Московского Гештальт Института по Стандартам Европейской Ассоциации Гештальт Терапевтов (EAGT)\n«Теория и практика гештальт-терапии»\, проходящей в Перми. \nОснова гештальт-метода – целостный подход к человеку\, соединяющий телесное\, эмоциональное и интеллектуальное начало.\nФормат работы похож на терапевтическую группу с добавлением интересных мини-лекций\, обсуждений и упражнений. Вы знакомитесь с принципами и основными понятиями гештальт-терапии и получаете возможность решить некоторые трудности\, связанные с отношениями и – самим собой.\nПрикоснувшись к гештальту\, вы откроете совершенно новый\, в чём-то необычный\, но всегда – удивительно интересный опыт. Он поможет вам сделать свою жизнь более осознанной и насыщенной яркими красками. \nПрограмма является первой ступенью профессиональной подготовки гештальт-терапевтов. При этом она полезна для всех людей\, искренно стремящихся к самопознанию и повышению качества своего жизненного процесса. \nПо завершении участники получают сертификат Общества практикующих психологов «Гештальт-подход» (ОПП ГП) по стандартам Европейской Ассоциации гештальт-терапии (ЕAGT). \nКТО ВЕДЁТ ПРОГРАММУ\nНаталья Емшанова– практикующий психолог\, гештальт-терапевт\, аккредитована в Обществе практикующих психологов «Гештальт-подход». Практика с 2006 г.\nАндрей Савчук – психолог\, к.пс.н.\, гештальт-терапевт\, супервизор\, тренер.\nАккредитован в Обществе практикующих психологов «Гештальт-подход».\nГештальт-практика с 1999 г. \nРЕЖИМ ЗАНЯТИЙ: 7 сессий по выходным дням с интервалами 1\,5 месяца\n(сб: 10:00-19:00\, вс: 10:00-19:00).\nСтоимость: 3500р за каждый семинар+1650р (ученический взнос 1 раз за всю программу) \nПЕРВАЯ СЕССИЯ: весна 2019\, по мере набора группы \nКАК ЗАПИСАТЬСЯ: Позвонить по телефону (вайбер\, ватсап) или написать сообщение\n+ 7(922) 336-13-20 Наталья\nhttps://vk.com/emshanova_natalya\nАндрей https://vk.com/id234738019 \nВНИМАНИЕ! \nУчастие строго по предварительной записи\nДля участия в программе требуется короткое предварительное собеседование\, на котором мы познакомимся с вами и подробнее расскажем о программе\, а вы сможете задать интересующие вас вопросы.
URL:https://gestalt.siteholder.ru/event/2298/
CATEGORIES:Обучающие программы
ATTACH;FMTTYPE=image/jpeg:https://gestalt.siteholder.ru/wp-content/uploads/2019/02/nW_6Mrbfslg.jpg
END:VEVENT
BEGIN:VEVENT
DTSTART;TZID=Asia/Karachi:20190126T110000
DTEND;TZID=Asia/Karachi:20190127T190000
DTSTAMP:20260422T005105
CREATED:20181204T211644Z
LAST-MODIFIED:20181204T211644Z
UID:2045-1548500400-1548615600@gestalt.siteholder.ru
SUMMARY:Основы гештальт-терапии I ступень (3 встреча)
DESCRIPTION:Основы гештальт-терапии I ступень обучающей программы Московский Гештальт Институт\nГештальт-подход – современное направление в психологическом консультировании и неклинической психотерапии\, объединяющее европейские философские традиции (феноменология\, экзистенциализм\, психоанализ)\, научное психологическое знание (бихевиоризм\, теория поля в социальных науках\, социальная нейронаука)\, практики сосредоточения на чувствах\, мыслях и действиях (концентрация\, медитация\, импровизация)\, а также – творческие методы различных психотерапевтических школ (психодрама\, арт-терапия и др.). Обучение на I-ой ступени предполагает знакомство с методом и основными понятиями\, содержит минимум теории и максимум практики. \n\nЗадачи I-ой ступени:\n– Повысить чувствительность к себе и окружающим;\n– Развить навыки осознанного и ответственного выбора;\n– Исследовать личные особенности как ресурсы решения реальных проблем.\nЭти задачи решаются через сознательный\, спонтанный и аутентичный диалог между участниками и\nведущими программы. \n\nФормы работы: групповая психотерапия\, индивидуальная терапия в группе\, психологические упражнения\, мини-лекции о базовых понятиях. \n\nДлительность обучения: 1\,5 года (180 ак.ч); занятия проходят сессиями по 20-30 академических часов в выходные дни раз в два месяца. 8 сессий. Первая и последние сессии программы трёхдневные (пт\, сб\, вс)\, остальные сессии – двухдневные (сб\, вс). \nПо завершению программы выдается промежуточный сертификат\, дающий право продолжить обучение на II-ой ступени «Теория и практика гештальт-терапии». \n\nРасписание: \n1. 16-18.11.2018 \n2. 22-23.12.2018 \n3. 26-27.01.2019 \n4. 2-3.03.2019 \n5. 6-7.04.2019 \n6. 18-19.05.2019\n7. 14-15.09.2019\n8. 25-27.10.19 \n\nТребования к участникам:\n– Желание и смелость работать со своими психологическими сложностями и помогать в этом другим людям;\n– Клиентский опыт в индивидуальной или групповой психологической работе (личная терапия/групповая терапия/ мастерские на конференциях\, фестивалях и т.п.). \n\nКоличество мест ограничено. При формировании учебной группы приоритет отдается специалистам и студентам старших курсов помогающих профессий (психологи\, врачи\, социальные работники\, педагоги и др. смежные профессии). \n\nВнимание! Необходимо пройти короткое собеседование (skype)\, в ходе которого Вы сможете задать интересующие вопросы. \n\nВедущие программы:\nСавчук Андрей Вячеславович – психолог\, к.пс.н\, гештальт-терапевт\, супервизор\, ассоциированный тренер МГИ: http://gestalt.ru/author/asavchuk/  \nВайнштейн Сергей Викторович – психолог\, преподаватель психологии\, гештальт-терапевт:http://gestalt.ru/author/weinsteinsv/ \nШарова Екатерина Евгеньевна – психолог\, гештальт-терапевт: http://gestalt-perm.ru/sharova-ekaterina/ \n\nЗапись на собеседование: https://vk.com/sergei_weinstein
URL:https://gestalt.siteholder.ru/event/osnovy-geshtalt-terapii-i-stupen-3-vstrecha/
CATEGORIES:Обучающие программы
ATTACH;FMTTYPE=image/jpeg:https://gestalt.siteholder.ru/wp-content/uploads/2018/12/I2whuYryCwU.jpg
END:VEVENT
BEGIN:VEVENT
DTSTART;TZID=Asia/Karachi:20181222T110000
DTEND;TZID=Asia/Karachi:20181223T190000
DTSTAMP:20260422T005105
CREATED:20181204T211538Z
LAST-MODIFIED:20181204T211538Z
UID:2043-1545476400-1545591600@gestalt.siteholder.ru
SUMMARY:Основы гештальт-терапии I ступень (2 встреча)
DESCRIPTION:Основы гештальт-терапии I ступень обучающей программы Московский Гештальт Институт\nГештальт-подход – современное направление в психологическом консультировании и неклинической психотерапии\, объединяющее европейские философские традиции (феноменология\, экзистенциализм\, психоанализ)\, научное психологическое знание (бихевиоризм\, теория поля в социальных науках\, социальная нейронаука)\, практики сосредоточения на чувствах\, мыслях и действиях (концентрация\, медитация\, импровизация)\, а также – творческие методы различных психотерапевтических школ (психодрама\, арт-терапия и др.). Обучение на I-ой ступени предполагает знакомство с методом и основными понятиями\, содержит минимум теории и максимум практики. \n\nЗадачи I-ой ступени:\n– Повысить чувствительность к себе и окружающим;\n– Развить навыки осознанного и ответственного выбора;\n– Исследовать личные особенности как ресурсы решения реальных проблем.\nЭти задачи решаются через сознательный\, спонтанный и аутентичный диалог между участниками и\nведущими программы. \n\nФормы работы: групповая психотерапия\, индивидуальная терапия в группе\, психологические упражнения\, мини-лекции о базовых понятиях. \n\nДлительность обучения: 1\,5 года (180 ак.ч); занятия проходят сессиями по 20-30 академических часов в выходные дни раз в два месяца. 8 сессий. Первая и последние сессии программы трёхдневные (пт\, сб\, вс)\, остальные сессии – двухдневные (сб\, вс). \nПо завершению программы выдается промежуточный сертификат\, дающий право продолжить обучение на II-ой ступени «Теория и практика гештальт-терапии». \n\nРасписание: \n1. 16-18.11.2018 \n2. 22-23.12.2018 \n3. 26-27.01.2019 \n4. 2-3.03.2019 \n5. 6-7.04.2019 \n6. 18-19.05.2019\n7. 14-15.09.2019\n8. 25-27.10.19 \n\nТребования к участникам:\n– Желание и смелость работать со своими психологическими сложностями и помогать в этом другим людям;\n– Клиентский опыт в индивидуальной или групповой психологической работе (личная терапия/групповая терапия/ мастерские на конференциях\, фестивалях и т.п.). \n\nКоличество мест ограничено. При формировании учебной группы приоритет отдается специалистам и студентам старших курсов помогающих профессий (психологи\, врачи\, социальные работники\, педагоги и др. смежные профессии). \n\nВнимание! Необходимо пройти короткое собеседование (skype)\, в ходе которого Вы сможете задать интересующие вопросы. \n\nВедущие программы:\nСавчук Андрей Вячеславович – психолог\, к.пс.н\, гештальт-терапевт\, супервизор\, ассоциированный тренер МГИ: http://gestalt.ru/author/asavchuk/  \nВайнштейн Сергей Викторович – психолог\, преподаватель психологии\, гештальт-терапевт:http://gestalt.ru/author/weinsteinsv/ \nШарова Екатерина Евгеньевна – психолог\, гештальт-терапевт: http://gestalt-perm.ru/sharova-ekaterina/ \n\nЗапись на собеседование: https://vk.com/sergei_weinstein
URL:https://gestalt.siteholder.ru/event/osnovy-geshtalt-terapii-i-stupen-2-vstrecha/
CATEGORIES:Обучающие программы
ATTACH;FMTTYPE=image/jpeg:https://gestalt.siteholder.ru/wp-content/uploads/2018/12/I2whuYryCwU.jpg
END:VEVENT
BEGIN:VEVENT
DTSTART;TZID=Asia/Karachi:20181116T110000
DTEND;TZID=Asia/Karachi:20181118T190000
DTSTAMP:20260422T005105
CREATED:20181204T211557Z
LAST-MODIFIED:20181204T211557Z
UID:2037-1542366000-1542567600@gestalt.siteholder.ru
SUMMARY:Основы гештальт-терапии I ступень (1 встреча)
DESCRIPTION:Основы гештальт-терапии I ступень обучающей программы Московский Гештальт Институт\nГештальт-подход – современное направление в психологическом консультировании и неклинической психотерапии\, объединяющее европейские философские традиции (феноменология\, экзистенциализм\, психоанализ)\, научное психологическое знание (бихевиоризм\, теория поля в социальных науках\, социальная нейронаука)\, практики сосредоточения на чувствах\, мыслях и действиях (концентрация\, медитация\, импровизация)\, а также – творческие методы различных психотерапевтических школ (психодрама\, арт-терапия и др.). Обучение на I-ой ступени предполагает знакомство с методом и основными понятиями\, содержит минимум теории и максимум практики. \n\nЗадачи I-ой ступени:\n– Повысить чувствительность к себе и окружающим;\n– Развить навыки осознанного и ответственного выбора;\n– Исследовать личные особенности как ресурсы решения реальных проблем.\nЭти задачи решаются через сознательный\, спонтанный и аутентичный диалог между участниками и\nведущими программы. \n\nФормы работы: групповая психотерапия\, индивидуальная терапия в группе\, психологические упражнения\, мини-лекции о базовых понятиях. \n\nДлительность обучения: 1\,5 года (180 ак.ч); занятия проходят сессиями по 20-30 академических часов в выходные дни раз в два месяца. 8 сессий. Первая и последние сессии программы трёхдневные (пт\, сб\, вс)\, остальные сессии – двухдневные (сб\, вс). \nПо завершению программы выдается промежуточный сертификат\, дающий право продолжить обучение на II-ой ступени «Теория и практика гештальт-терапии». \n\nРасписание: \n1. 16-18.11.2018 \n2. 22-23.12.2018 \n3. 26-27.01.2019 \n4. 2-3.03.2019 \n5. 6-7.04.2019 \n6. 18-19.05.2019\n7. 14-15.09.2019\n8. 25-27.10.19 \n\nТребования к участникам:\n– Желание и смелость работать со своими психологическими сложностями и помогать в этом другим людям;\n– Клиентский опыт в индивидуальной или групповой психологической работе (личная терапия/групповая терапия/ мастерские на конференциях\, фестивалях и т.п.). \n\nКоличество мест ограничено. При формировании учебной группы приоритет отдается специалистам и студентам старших курсов помогающих профессий (психологи\, врачи\, социальные работники\, педагоги и др. смежные профессии). \n\nВнимание! Необходимо пройти короткое собеседование (skype)\, в ходе которого Вы сможете задать интересующие вопросы. \n\nВедущие программы:\nСавчук Андрей Вячеславович – психолог\, к.пс.н\, гештальт-терапевт\, супервизор\, ассоциированный тренер МГИ: http://gestalt.ru/author/asavchuk/  \nВайнштейн Сергей Викторович – психолог\, преподаватель психологии\, гештальт-терапевт:http://gestalt.ru/author/weinsteinsv/ \nШарова Екатерина Евгеньевна – психолог\, гештальт-терапевт: http://gestalt-perm.ru/sharova-ekaterina/ \n\nЗапись на собеседование: https://vk.com/sergei_weinstein
URL:https://gestalt.siteholder.ru/event/osnovy-geshtalt-terapii-i-stupen-1-vstrecha/
CATEGORIES:Обучающие программы
ATTACH;FMTTYPE=image/jpeg:https://gestalt.siteholder.ru/wp-content/uploads/2018/12/I2whuYryCwU.jpg
END:VEVENT
BEGIN:VEVENT
DTSTART;VALUE=DATE:20180216
DTEND;VALUE=DATE:20180219
DTSTAMP:20260422T005105
CREATED:20180116T104300Z
LAST-MODIFIED:20180116T110228Z
UID:1384-1518739200-1518998399@gestalt.siteholder.ru
SUMMARY:«Теория и практика гештальт-терапии».  Первая ступень.
DESCRIPTION:«Теория и практика гештальт-терапии». Первая ступень базового курса подготовки в московском гештальт-институте \nДЛЯ КОГО ЭТА ПРОГРАММА? \n1. Для опытных и начинающих психологов любых направлений\, а также – специалистов «помогающих профессий»\, которым интересен гештальт-подход; \n2. Для выпускников и студентов психологических\, педагогических и других смежных специальностей. \n3. Для интересующихся практической психологией и гештальт-терапией как инструментом для саморазвития. \n4. Для всех\, кто хочет повысить осознанность и качество жизненного процесса.\nЧТО ТАКОЕ ГЕШТАЛЬТ-ТЕРАПИЯ? \n«Гештальт» (нем. gestalt) – целостность\, форма\, структура\, образ…\nГештальт-терапия – современное и широко распространённое в мире экзистенциально-гуманистическое направление психологической помощи.\nОснова этого метода – осознавание. Оно дает ключ к пониманию настоящего (“здесь и теперь”). Когда в фокусе внимания человека оказываются его потребности и чувства\, у него появляются новые способы познать собственную уникальность\, жизненный стиль и особенности своего поведения.\nУвеличение осознанности помогает человеку лучше понимать\, что происходит в его жизни\, и какое участие в этом принимает он сам (!). Человек получает возможность взять на себя ответственность за личный вклад в происходящее и стать активным участником этого процесса\, а также – способность точнее управлять событиями в своей жизни. Гештальт-терапия позволяет осознать\, каким образом незавершенные ситуации из нашего прошлого активно влияют на нас сегодняшних. Она помогает изменить устоявшиеся привычки и найти собственный путь вместо следования шаблонам и стереотипам.\nВсё это улучшает способность творчески адаптироваться к жизни во всех её проявлениях. \n ЧТО ТАКОЕ ПЕРВАЯ СТУПЕНЬ? \nЭто возможность познакомиться с гештальт-терапией\, лучше узнать себя\, сделать свою жизнь более осознанной. Формат работы похож на терапевтическую группу\, но с добавлением интересных мини-лекций\, обсуждений и упражнений. Можно увидеть индивидуальную и групповую работу психологов\, побыть клиентом\, многое понять про себя и других.\nПрактикующие психологи и студенты смогут взять новые инструменты для работы. Участники без специального образования имеют возможность разрешить некоторые сложности\, связанные с отношениями\, в том числе – с самим собой.\nПознакомившись с базовыми понятиями гештальт-терапии\, вы поймёт – хотите ли дальше обучаться практике гештальт-подхода на второй ступени. \nПОЛУЧУ ЛИ Я КАКОЙ-НИБУДЬ ДОКУМЕНТ ПО ОКОНЧАНИИ КУРСА? \nДа. После окончания первой ступени участники получают сертификат Общества практикующих психологов «Гештальт-подход» (ОПП ГП) по стандартам Европейской Ассоциации гештальт-терапии (ЕAGT) об участии в программе подготовки гештальт-терапевтов «Основы гештальт-терапии» с указанием тем и количества часов (180 уч. часов). После этого – могут продолжить обучение на второй ступени.\nРазмер группы 12-15 человек\, состав постоянный на весь период работы.\nРежим занятий: 6 учебных сессий по выходным дням с интервалом 2-2\,5 месяца.\n(пт: 16:00-21:00\, сб: 10:00-19:00\, вс: 10:00-19:00). \nДаты первой сессии: 16\, 17\, 18 февраля 2018.\nВремя: ПТ: 16:00-21:00; СБ и ВС: 10:00-19:00. \nКТО ВЕДЕТ ПРОГРАММУ? \nНаталья Емшанова – практикующий психолог\, гештальт-терапевт\, аккредитована в Обществе практикующих психологов «Гештальт-подход».\nГештальт-практика с 2008 г. \nАндрей Савчук – психолог\, к.пс.н.\, гештальт-терапевт\, супервизор\, тренер.\nАккредитован в Обществе практикующих психологов «Гештальт-подход».\nГештальт-практика с 1999 г. \nКАК ЗАПИСАТЬСЯ? \nпозвонить по телефонам:\n+ 7(922) 336-13-20 Наталья\n+7 (912) 484-65-19 Андрей\nИли\nНаписать личное сообщение\nНаталья: https://vk.com/id2978877\nАндрей: https://vk.com/id234738019 \nНаша группа В КОНТАКТЕ: https://vk.com/event157313641 \nСайт объединения гештальт-терапевтов Перми: http://gestalt-perm.ru \nСайт ОПП ГП (МГИ): https://gestalt.ru \nP.S. По окончании программы Вы сможете продолжить профессиональную подготовку на второй ступени МГИ:\nВторая ступень: Теория и практика гештальт-терапии (2\,5 года) – профессиональная подготовка гештальт-терапевтов. Включает глубокое изучение теории\, личную терапию\, терапевтическую работу в малых группах\, учебную работу под супервизией\, участие в конференциях\, интенсивах и т.д.
URL:https://gestalt.siteholder.ru/event/teoriya-i-praktika-geshtalt-terapii-pervaya-stupen/
CATEGORIES:Обучающие программы
ORGANIZER;CN="%D0%90%D0%BD%D0%B4%D1%80%D0%B5%D0%B9 %D0%A1%D0%B0%D0%B2%D1%87%D1%83%D0%BA":MAILTO:asavchuk57@gmail.com
END:VEVENT
END:VCALENDAR