BEGIN:VCALENDAR
VERSION:2.0
PRODID:-//Гештальт-Пермь - ECPv6.15.20//NONSGML v1.0//EN
CALSCALE:GREGORIAN
METHOD:PUBLISH
X-WR-CALNAME:Гештальт-Пермь
X-ORIGINAL-URL:https://gestalt.siteholder.ru
X-WR-CALDESC:Мероприятия для Гештальт-Пермь
REFRESH-INTERVAL;VALUE=DURATION:PT1H
X-Robots-Tag:noindex
X-PUBLISHED-TTL:PT1H
BEGIN:VTIMEZONE
TZID:Asia/Karachi
BEGIN:STANDARD
TZOFFSETFROM:+0500
TZOFFSETTO:+0500
TZNAME:PKT
DTSTART:20220101T000000
END:STANDARD
END:VTIMEZONE
BEGIN:VTIMEZONE
TZID:Europe/Moscow
BEGIN:STANDARD
TZOFFSETFROM:+0300
TZOFFSETTO:+0300
TZNAME:MSK
DTSTART:20210101T000000
END:STANDARD
END:VTIMEZONE
BEGIN:VEVENT
DTSTART;TZID=Asia/Karachi:20231027T100000
DTEND;TZID=Asia/Karachi:20231027T120000
DTSTAMP:20260421T224731
CREATED:20231004T135009Z
LAST-MODIFIED:20231004T135211Z
UID:3657-1698400800-1698408000@gestalt.siteholder.ru
SUMMARY:Динамическая терапевтическая ОНЛАЙН-группа
DESCRIPTION: “Орнамент идентичности. Окунуться в детство” \n\nВедущая: Светлана Подтаева\n\nНе стану рассказывать обо всех прелестях групповой терапии и процессов\, которых не достигнуть во время индивидуальных встреч\, и про удобство и комфорт онлайн-формата вы уже тоже всё поняли за последние годы.\nПросто приглашаю вас в мой новый проект\, который готов стартовать в конце этого месяца: По пятницам\, один раз в две недели\,\nс 10 до 12 часов по Перми (UTC составляет +5:00/МСК+2).\n Даты 27.10.2023\, 10.11.2023\, 24.11.2023\, 08.12.2023\, 22.12.2023г.\nСтоимость одной встречи 120 минут = 1700₽.Это группа про:\n исследование собственных граней\,\n поиск и легализация собственных потребностей и желаний\,\n возможность заметить себя и подходящий способ для воплощения и реализации\,\n уделим время своему внутреннему ребенку\,\n мы будем играть\, рисовать\, обсуждать\,\nвыполнять упражнения и творческие задания\, капризничать и радоваться\,\n делиться в безопасном пространстве собственными наблюдениями и открытиями. \n🟪 Группа закрытого типа со 2 встречи включительно.\n🟣 Количество участников от 5 до 7 человек. \n\nПриглашаю женщин и мужчин возраста от 18 лет.\n🟪 С любым опытом посещения психолога индивидуально или в групповом формате.\n🟣 Студентам обучающихся программ МГИ часы идут в зачётку.\n🟪 Предварительное собеседование обязательно.
URL:https://gestalt.siteholder.ru/event/dinamicheskaya-terapevticheskaya-onlajn-gruppa/
CATEGORIES:Терапевтические группы
ATTACH;FMTTYPE=image/jpeg:https://gestalt.siteholder.ru/wp-content/uploads/2023/10/Q4t9qBZF1ik.jpg
END:VEVENT
BEGIN:VEVENT
DTSTART;TZID=Europe/Moscow:20221108T130000
DTEND;TZID=Europe/Moscow:20221108T160000
DTSTAMP:20260421T224731
CREATED:20221012T183631Z
LAST-MODIFIED:20221012T183757Z
UID:3454-1667912400-1667923200@gestalt.siteholder.ru
SUMMARY:Дневная СУПЕРВИЗОРСКАЯ ОН-ЛАЙН группа.
DESCRIPTION:Приглашаем в он-лайн супервизорскую группу. \nСтарт 8 ноября 2022г. 10 встреч (1 раз в 2 недели) по вторникам с 13.00 до 16.00 (мск). Студентам МГИ часы идут в зачетку. \nСупервизорская группа — это коллегиальное место и время\, для поддержки и развития качества своей работы. Мы будем замечать\, делиться\, обсуждать\, экспериментировать.\nПриглашаем в группу психологов и психотерапевтов\, обучающихся гештальт-терапии\, начинающих или уже имеющих практику. \nВ группе возможно исследовать:\n– ресурсы и ограничения в работе;\n– профессиональную идентичность;\n– терапевтические навыки;\n– формирование и развитие частной практики.\nДля участников программы МГИ это хорошая возможность для подготовки к сертификации (часы супервизии засчитываются). \nФормы работы:\n– дидактическая супервизия (очная): анализ работы пары терапевт-клиент на группе;\n– супервизия случаев (заочная): обсуждение кейсов из практики участников. \nСтоимость участия: 2000р за встречу. \nВедущие: \nНаталья Емшанова\, психолог\, гештальт-терапевт\, аккредитованный супервизор\, ассоциированный тренер МГИ.\nСергей Вайнштейн\, психолог\, гештальт-терапевт\, аккредитованный супервизор МГИ. \nКонтакты для записи:\nНаталья +79223361320 (мессенджеры)\, вк https://vk.com/emshanova_natalya\nСергей +79519213803 (мессенджеры)\, вк https://vk.com/sergei_weinstein
URL:https://gestalt.siteholder.ru/event/dnevnaya-supervizorskaya-on-lajn-gruppa/
CATEGORIES:Супервизорские группы
ATTACH;FMTTYPE=image/jpeg:https://gestalt.siteholder.ru/wp-content/uploads/2022/10/nruppasuper.jpg
END:VEVENT
END:VCALENDAR