BEGIN:VCALENDAR
VERSION:2.0
PRODID:-//Гештальт-Пермь - ECPv6.15.20//NONSGML v1.0//EN
CALSCALE:GREGORIAN
METHOD:PUBLISH
X-ORIGINAL-URL:https://gestalt.siteholder.ru
X-WR-CALDESC:Мероприятия для Гештальт-Пермь
REFRESH-INTERVAL;VALUE=DURATION:PT1H
X-Robots-Tag:noindex
X-PUBLISHED-TTL:PT1H
BEGIN:VTIMEZONE
TZID:Asia/Karachi
BEGIN:STANDARD
TZOFFSETFROM:+0500
TZOFFSETTO:+0500
TZNAME:PKT
DTSTART:20180101T000000
END:STANDARD
END:VTIMEZONE
BEGIN:VEVENT
DTSTART;TZID=Asia/Karachi:20190916T180000
DTEND;TZID=Asia/Karachi:20190916T210000
DTSTAMP:20260422T001340
CREATED:20190709T080923Z
LAST-MODIFIED:20190709T080947Z
UID:2502-1568656800-1568667600@gestalt.siteholder.ru
SUMMARY:Про жизнь ...
DESCRIPTION:
URL:https://gestalt.siteholder.ru/event/pro-zhizn/
LOCATION:ON LINE
CATEGORIES:Терапевтические группы
ATTACH;FMTTYPE=image/jpeg:https://gestalt.siteholder.ru/wp-content/uploads/2019/07/Zt-vF35Nb0w.jpg
ORGANIZER;CN="%D0%98%D1%80%D0%B8%D0%BD%D0%B0 %D0%A1%D1%82%D0%B5%D0%BF%D0%B0%D0%BD%D0%BE%D0%B2%D0%B0":MAILTO:skill33@rambler.ru
END:VEVENT
END:VCALENDAR