BEGIN:VCALENDAR
VERSION:2.0
PRODID:-//Гештальт-Пермь - ECPv6.15.20//NONSGML v1.0//EN
CALSCALE:GREGORIAN
METHOD:PUBLISH
X-ORIGINAL-URL:https://gestalt.siteholder.ru
X-WR-CALDESC:Мероприятия для Гештальт-Пермь
REFRESH-INTERVAL;VALUE=DURATION:PT1H
X-Robots-Tag:noindex
X-PUBLISHED-TTL:PT1H
BEGIN:VTIMEZONE
TZID:Asia/Karachi
BEGIN:STANDARD
TZOFFSETFROM:+0500
TZOFFSETTO:+0500
TZNAME:PKT
DTSTART:20160101T000000
END:STANDARD
END:VTIMEZONE
BEGIN:VEVENT
DTSTART;TZID=Asia/Karachi:20191006T110000
DTEND;TZID=Asia/Karachi:20191006T140000
DTSTAMP:20260422T015453
CREATED:20190927T110106Z
LAST-MODIFIED:20190927T110106Z
UID:2602-1570359600-1570370400@gestalt.siteholder.ru
SUMMARY:Терапевтическая группа для подростков.
DESCRIPTION:Терапевтическая группа для подростков. \nКогда наши дети подрастают\, отношения с ними меняются. Мы по – прежнему любим их и беспокоится за их успешность\, а они начинают сторониться нас и сбиваются в свои компании. Порой нам кажется\, что мы перестаем слышать друг друга\,и Контакт утрачен и невозможно договориться хоть о чем-либо. А родителям так важно обеспечить условия благополучия и становления взрослости у своих детей- подростков. \nПоэтому мы Галина Новикова и Катя Шарова \nприглашаем участников в терапевтическую подростковую группу. Она предназначена для детей 12-15 лет\, которым важно понимать\, что происходит с ними самими\, как лучше общаться с надоедающими родителями\, где находить настоящих друзей\, как найти новый интерес к школе. \nМы\, как ведущие этой группы\, будем посредниками между родителями и детьми. Любой подросток нуждается в одобрении и поддержке со стороны старших\, но данный возраст отличается критичностью и негативизмом по отношению к близким людям. А познавать себя и как устроены другие лучше в безопасной обстановке группы. Где кроме тебя есть и другие участники\, – такие же подростки со своим миром\, стразами и мечтами. \nПоэтому если ты подросток и немного запутался в жизни\, устал терять друзей или наоборот ещё не встретил настоящего друга\, тебя достали учителя и требования родителей дома\, ты совсем не знаешь\, чего хочешь или кем стать в будущем\, тогда тебе точно к нам.\nМы будем знакомиться друг с другом\, учиться новым способам взаимодействия\, отстаивания своих границ и интересов\, умению договариваться\, а также находить общее с другим\, не теряя своей уникальности. \nГруппа будет проходить раз в неделю по воскресеньям с 11 до 14 часов. Встречаться начнем с 6го октября и продолжим до мая\, с перерывом на зимние каникулы.\nКоличество участников будет ограниченным и постоянным.\nСтоимость: 1500 за встречу\nАдрес проведения: Чкалова\, 9\, офис 801.
URL:https://gestalt.siteholder.ru/event/terapevticheskaya-gruppa-dlya-podrostkov/
LOCATION:Чкалова 9Е\, ул. Чкалова 9Е\, Пермь\, Пермский край\, 614000\, Российская Федерация
CATEGORIES:Терапевтические группы
ATTACH;FMTTYPE=image/jpeg:https://gestalt.siteholder.ru/wp-content/uploads/2019/09/IMG_2758-336e.jpg
END:VEVENT
BEGIN:VEVENT
DTSTART;TZID=Asia/Karachi:20190916T183000
DTEND;TZID=Asia/Karachi:20190916T213000
DTSTAMP:20260422T015453
CREATED:20190712T205649Z
LAST-MODIFIED:20190712T205650Z
UID:2523-1568658600-1568669400@gestalt.siteholder.ru
SUMMARY:Терапевтическая группа "Встречи не спеша"
DESCRIPTION:Терапевтическая группа “Встречи не спеша”\nТревога постоянный спутник нашей жизни\, иногда мы игнорируем ее\, иногда она превращается в огромный пугающий ком. Люди часто описывают пустоты в теле – дыры\, воронки и т.д. и видят единственным вариантом эти дыры заполнять: едой\, книгами\, алкоголем\, отношениями\, вещами\, работой и т.д. А порой бывает\, что проскочив тревогу\, оказываешься не в своей жизни и не собой «Как я здесь очутился? Как так получилось? Кто я? И т.д.» Приглашаем на терапевтическую группу «Встречи не спеша»\, где предлагаем замедлятся\, замечать свою тревогу\, обращать внимание на то как она возникает\, чем она мне мешает\, а чем помогает\, могу ли я дышать когда мне тревожно\, как я могу не проскочить и не разогнать ее\, зачем мне тревога и что стоит за ней. Будем медленно\, бережно и безопасно исследовать себя\, приближаться к другим в своем уникальном темпе\, пробовать доверять\, открываться и опираться в этой тревоге\, строить отношения. \nВедущие:\nГалина Новикова (гештальт-терапевт\, супервизор) \nДенисова Наталья (гештальт-терапевт) \nВстречи раз в две недели по будням с 18.30 — 21.30 по адресу: ул. Чкалова 9е офис 401. \nПервая встреча — 16.09.19\nСтоимость 1000р. за встречу.\nПо вопросам участия пишите в ЛС или звоните:\n8982 478 72 70 Галина\n8982 498 20 22 Наталья
URL:https://gestalt.siteholder.ru/event/terapevticheskaya-gruppa-vstrechi-ne-spesha/
LOCATION:Чкалова 9Е\, ул. Чкалова 9Е\, Пермь\, Пермский край\, 614000\, Российская Федерация
CATEGORIES:Терапевтические группы
ATTACH;FMTTYPE=image/jpeg:https://gestalt.siteholder.ru/wp-content/uploads/2019/07/9f4d93fe70feebe4fc542689567368d3.jpg
END:VEVENT
BEGIN:VEVENT
DTSTART;TZID=Asia/Karachi:20181220T190000
DTEND;TZID=Asia/Karachi:20181220T220000
DTSTAMP:20260422T015453
CREATED:20181203T224421Z
LAST-MODIFIED:20181217T021608Z
UID:2004-1545332400-1545343200@gestalt.siteholder.ru
SUMMARY:Супервизорская группа
DESCRIPTION:Здравствуйте\, коллеги.\nМы (Галина Новикова и Анна Филимонова) приглашаем начинающих гештальт- терапевтов и терапевтов\, которые уже заканчивают 2 ступень обучения гештальт-терапии\, в супервизорскую группу.\nУчастие предполагает поддержку в развитии практики\, анализ Ваших работ\, расширение вариативности представлений о возможностях работы\, поддержку в формировании устойчивой терапевтической позиции.\nВсего мы набираем 2 группы: группа начинающих (окончивающих 1 и только начавших 2 ступень обучения) и оканчивающих вторую ступень терапевтов.\nВне зависимости от того\, какую группу Вы выберете\, участие в группе оплачивается в размере 1000 рублей. Частота встреч: раз в 3-4 недели (по договоренности с учвстниками).\nДлительность группы 3 часа.\nЧасы работы в группе защитываются в качестве групповой супервизионной работы. \nВедущие:\nГалина Новикова: сертифицированный и аккредитованный гештальт-терапевт\, аккредитованный супервизор\, опыт ведения супевизорских групп 4 года\, опыт работы в гештальт-подходе в качестве терапевта 9 лет.\nАнна Филимонова: сертифицированный\, аккредитованный гештальт-терапевт\, опыт работы в гештальт подходе 11 лет.
URL:https://gestalt.siteholder.ru/event/supervizorskaya-gruppa/
LOCATION:Пермский край
CATEGORIES:Супервизорские группы
ATTACH;FMTTYPE=image/jpeg:https://gestalt.siteholder.ru/wp-content/uploads/2018/12/CUl7V_EWaa8.jpg
ORGANIZER;CN="%D0%A4%D0%B8%D0%BB%D0%B8%D0%BC%D0%BE%D0%BD%D0%BE%D0%B2%D0%B0 %D0%90%D0%BD%D0%BD%D0%B0":MAILTO:ann-filimonova@yandex.ru
END:VEVENT
BEGIN:VEVENT
DTSTART;TZID=Asia/Karachi:20171108T190000
DTEND;TZID=Asia/Karachi:20171108T220000
DTSTAMP:20260422T015453
CREATED:20170924T164916Z
LAST-MODIFIED:20170928T032202Z
UID:1113-1510167600-1510178400@gestalt.siteholder.ru
SUMMARY:ТЕРАПЕВТИЧЕСКАЯ ГРУППА "ВСТРЕЧА С НЕИЗБЕЖНЫМ"
DESCRIPTION:С возрастными изменениями рано или поздно сталкиваются все. И если сперва мы замечаем первые морщины\, первые неполадки в организме\, не всегда радующее взросление детей\, то рано или поздно нам всем приходится замечать как стареют наши родители. И это ох как нелегко. Ведь одно дело\, если близкий и родной человек обзаводится какой-то длительной или наоборот\, – неожиданной и опасной болезнью и тогда вся семья вольно или невольно\, но находит способы с этим справляться и жить. И совсем иное\, когда с каждым годом начинаешь подмечать\, как мама превращается в бабушку и не просто для внуков\, а сама по себе – становится меньше ростом\, беззащитней\, капризней\, обидчивой и нуждающейся. А отец становится угрюмей\, менее активным или наоборот\, словно игнорируя действительность\, – уходит в какие-то малоподходящие для себя уже по силе и возможностям проекты. Бывает\, что старящие родители начинают попивать\, нет\, не уходят в запои\, но регулярно прикладываются по-семейному и тихо. \nСталкиваясь с чем-то подобным со своей уже взрослой позиции\, мы все одно остаемся с родителями детьми и порой реагируем очень по-детски. Не уверена\, что возможно вообще как-то иначе. Поднимаются весьма сильные и неприятные чувства. Тут и бессилие и ярость\, и тоска с нежеланием сталкиваться и проживать все это. Но как бы мы не реагировали\, признавая или игнорируя\, но мы все остаемся с этим чаще всего один на один. Нам приходится в этом непростом и весьма хрупком периоде находиться постоянно. \nПриглашаю на терапевтическую группу взрослых «детей»\, чьи родители вошли в непростой этап старения. На группе мы будем пробовать разобраться в тех изменениях\, что происходят в наших отношениях со стареющими родителями\, в таких разных переживаниях по этому поводу\, будем пробовать находить более приемлемые для нас самих и для наших родителей способы взаимодействия\, чтобы сохранить все хорошее\, но не потерять себя. \nВедущая группы: Новикова Галина – психолог\, гештальт-терапевт.\nИмею стабильную практику и опыт ведения групп. \nПервая встреча – 8 ноября в 19 часов .\nГруппа будет проходить по адресу: Чкалова\, 9 е раз в 2 недели по 3 часа. Стоимость каждой встречи – 700 рублей. \nпо всем вопросам звоните 8982 478 72 70 или пишите\nв личку https://vk.com/id151505013
URL:https://gestalt.siteholder.ru/event/terapevticheskaya-gruppa-vstrecha-s-neizbezhnym/
LOCATION:Пермский край
CATEGORIES:Терапевтические группы
END:VEVENT
END:VCALENDAR