BEGIN:VCALENDAR
VERSION:2.0
PRODID:-//Гештальт-Пермь - ECPv6.15.20//NONSGML v1.0//EN
CALSCALE:GREGORIAN
METHOD:PUBLISH
X-WR-CALNAME:Гештальт-Пермь
X-ORIGINAL-URL:https://gestalt.siteholder.ru
X-WR-CALDESC:Мероприятия для Гештальт-Пермь
REFRESH-INTERVAL;VALUE=DURATION:PT1H
X-Robots-Tag:noindex
X-PUBLISHED-TTL:PT1H
BEGIN:VTIMEZONE
TZID:Asia/Karachi
BEGIN:STANDARD
TZOFFSETFROM:+0500
TZOFFSETTO:+0500
TZNAME:PKT
DTSTART:20160101T000000
END:STANDARD
END:VTIMEZONE
BEGIN:VEVENT
DTSTART;TZID=Asia/Karachi:20240420T100000
DTEND;TZID=Asia/Karachi:20240421T200000
DTSTAMP:20260421T230408
CREATED:20240116T124352Z
LAST-MODIFIED:20240116T124422Z
UID:3709-1713607200-1713729600@gestalt.siteholder.ru
SUMMARY:"Создавая "МЫ". Привязанность\, принадлежность\, совместность."
DESCRIPTION:Пермская гештальт – конференция. Приглашаем Вас исследовать\, как и что объединяет нас друг с другом\, как создаются связи\, строятся отношения в жизни и в гештальт-терапии.\nКак создаются пары? Как формируется привязанность ребенка к матери? Как мы чувствуем себя в компании\, команде\, сообществе? Как мы строим романтические\, дружеские\, деловые отношения? \nКак переживаем совместность и создаём уникальный контакт с клиентом? Как строится Диалог между человеком и миром\, через который он познает и определяет себя\, делая возможным создание Мы? \nМы будем исследовать метапотребность в близости\, слияние в full-контакте\, особенности привязанности\, заданные в детстве в значимых отношениях\, а также реляционное измерение\, где «Мы» – это уникальный контакт между Я и Ты\, создающийся совместно. \nФормат мероприятия:\nЛекции\, круглые столы\, мастерские\, процесс-группы \nВремя:\n20-21 апреля 2024 (суббота и воскресенье) с 10.00 до 20.00 \nСтоимость:\nВзнос за участие в Конференции до 1 февраля – 4000₽;\nдо 1 марта – 5000₽;\nдо 1 апреля -6000₽;\nсо 2 апреля и на месте – 7000Р\nСроки возврата:\nдо 1 марта 2024г. – 50%\nПосле 1 марта орг.взнос не возвращается.\nПриём заявок на проведение мастерских и круглых столов до 15 марта \nДля регистрации на конференцию нужно заполнить форму\n https://forms.gle/HabaFpohp3SKdJyD6 \nСвязаться с нами можно следующими способами: \nГруппа в ВК\nhttps://vk.com/gestaltconf_perm \nПо телефону:\n89026322680
URL:https://gestalt.siteholder.ru/event/sozdavaya-my-privyazannost-prinadlezhnost-sovmestnost/
CATEGORIES:Конференции
ATTACH;FMTTYPE=image/jpeg:https://gestalt.siteholder.ru/wp-content/uploads/2024/01/QDHIL2aj5Rk.jpg
END:VEVENT
BEGIN:VEVENT
DTSTART;TZID=Asia/Karachi:20211106T100000
DTEND;TZID=Asia/Karachi:20211107T190000
DTSTAMP:20260421T230408
CREATED:20210819T073950Z
LAST-MODIFIED:20210819T074121Z
UID:3241-1636192800-1636311600@gestalt.siteholder.ru
SUMMARY:КонференцияМГИ: "Я и другие. Грани взаимодействия"
DESCRIPTION:Мы живем в мире\, который постоянно находится в движении\, вынуждая нас искать новые способы организовать свою жизнь и взаимодействие с другими. Прямо сейчас мы заново изучаем то\, что казалось привычным и постоянным. Мы становимся свидетелями того\, как изменяются границы\, понимание свободы\, нормы и патологии\, понятие близости\, восприятие себя\, способы взаимодействия между людьми и многое другое. В такой\, пограничной\, ситуации важно вспомнить\, что границы — это не только то\, что отделяет Я и Другого\, но и то\, чем мы соприкасаемся\, контактируем\, встречаемся с Другим. Все это можно и нужно исследовать в контексте отношений\, как личных\, так и профессиональных. \nВ контексте личных переживаний мы предлагаем поговорить не только о том\, что и как именно изменилось в восприятии себя (Я-концепции)\, какие индивидуальные эмоциональные и соматические последствия возникли в связи с обрушением фона и утратами того\, что было значимо или привычно\, не только о границах\, близости и изоляции\, но и о поиске ресурсов… \nВ контексте профессиональных отношений мы приглашаем к обсуждению и исследованию изменений границ нормы и патологии\, особенностей и нюансов работы с парами и семьями\, работа с утратой и горем\, а так же он-лайн работы с парами и группами.\nЕще одна важная для нас тема — это коллегиальная поддержка\, границы и взаимодействие в профессиональном сообществе\, особенности налаживания мостов с представителями смежных профессий — психиатрами\, врачами и др.\, а так же поиск ресурсов для работы\, способов поддержки терапевтов в сложных жизненных ситуациях. \nПриглашаем к участию психологов\, врачей\, психотерапевтов\, выпускников и участников гештальт-программ\, студентов-психологов\, социальных педагогов\, а так же всех\, кто увлекается психологией. Это мероприятие будет понятно и интересно всем\, кто стремится к развитию. \nВас ждут:\n– Интересные лекции от ведущих психологов Перми и москвского гештальт-терапевта Екатерины Бай-Балаевой (ведущего тренера ОПП ГП\, супервизора)\n– Живые профессиональные обсуждения актуальных проблем гештальт психологии;\n– Глубокие и увлекательные мастер-классы;\n– Профессиональное и личностное общение. \nСтудентам гештальт-программ конференция идёт в зачёт. \nСтоимость участия:\n2000р. – при оплате до 31 августа\,\n2500р. – при оплате с 1сентября до 15 октября\n3000р. – при оплате после 16 октября и на месте.\nСроки и процент возврата орг.взноса: до 1 сентября 100%\, до 15 октября 50%\, после 15 октября орг.взнос не возвращается. \n\n\n\n\n+7 (922) 336-13-20
URL:https://gestalt.siteholder.ru/event/konferentsiyamgi-ya-i-drugie-grani-vzaimodejstviya/
LOCATION:Пермский краевой центр повышения квалификации работников здравоохранения\, ГОУ ДПО\, Баумана 22а\, Пермь\, 614000\, Российская Федерация
CATEGORIES:Конференции
ATTACH;FMTTYPE=image/jpeg:https://gestalt.siteholder.ru/wp-content/uploads/2021/08/r-e1629358605251.jpg
END:VEVENT
BEGIN:VEVENT
DTSTART;TZID=Asia/Karachi:20191123T100000
DTEND;TZID=Asia/Karachi:20191124T200000
DTSTAMP:20260421T230408
CREATED:20190604T094035Z
LAST-MODIFIED:20190604T094310Z
UID:2433-1574503200-1574625600@gestalt.siteholder.ru
SUMMARY:Конференция МГИ "Гештальт-подход и Философия свободы"
DESCRIPTION:О чем эта психологическая конференция?\nЖизнь каждого человека начинается с указаний сверху о том\, как правильно – чувствовать\, думать\, выбирать\, делать. Но в процессе индивидуального и общественного взросления из самых глубин вырастает особая ценность – СВОБОДА. И вместе с ней\, как листья на стебле растут ответственность\, право выбора\, способность замечать чужие и устанавливать свои границы\, способность к самоорганизации и самоуправлению. \nПервый глоток свободы легко спутать со вседозволенностью. Чуть позже приходит понимание того\, что старой (чужой) системы координат уже нет\, а новая еще не создана. Впереди непростой путь через переживание тревоги и необходимости упорядочивать внешний и внутренний хаос к пониманию ответственности за свои выборы\, решения\, поступки. Это и есть Свобода во всей ее полноте. \nТакие ценности Философии Анархизма как свобода от принуждения\, самоуправление\, ответственность очень близки гештальт терапии.\nТема свободы в психотерапии и в жизни невероятно привлекательна\, объемна и ставит множество вопросов:\n– Как жить\, если тебя никто не контролирует? Можно ли вообще отказаться от контроля?\n– Нужна ли в отношениях власть?\n– Как выстраивать безопасность и здоровые границы?\n– Какие ресурсы и сложности несет в себе хаос?\n– Как обходиться с тревогой и для чего нам ограничения?\n– Откуда возникает личная и коллективная ответственность?\n– Возможно ли самоуправление в условиях современного общества?\n– Как ответственность и свобода сосуществуют в семейных\, дружеских\, коллегиальных и общественных отношениях? \nПриглашаем к участию психологов\, врачей\, психотерапевтов\, выпускников и участников гештальт-программ\, студентов-психологов\, социальных педагогов\, а так же всех\, кто увлекается психологией. Это мероприятие будет понятно и интересно всем\, кто стремится к развитию. \nВас ждут:\n– Интересные лекции от ведущих психологов Перми и москвского гештальт-терапевта Екатерины Бай-Балаевой (ведущего тренера ОПП ГП\, супервизора)\n– Живые профессиональные обсуждения актуальных проблем гештальт психологии;\n– Глубокие и увлекательные мастер-классы;\n– Профессиональное и личностное общение.\n– Выпуск сборника статей\n(требования можно посмотреть тут ) \nСтоимость участия:\n1500р. – при оплате до 15 июля\,\n2000р. – при оплате с 16 июля до 15 октября\n2500р. – при оплате после 16 октября и на месте.\nПодать заявку на участие можно здесь: ЗАЯВКА НА УЧАСТИЕ
URL:https://gestalt.siteholder.ru/event/konferentsiya-mgi-geshtalt-podhod-i-filosofiya-svobody/
LOCATION:Пермский краевой центр повышения квалификации работников здравоохранения\, ГОУ ДПО\, Баумана 22а\, Пермь\, 614000\, Российская Федерация
CATEGORIES:Конференции
ATTACH;FMTTYPE=image/jpeg:https://gestalt.siteholder.ru/wp-content/uploads/2019/06/62354-OAI5SV-512.jpg
END:VEVENT
BEGIN:VEVENT
DTSTART;TZID=Asia/Karachi:20181029T140000
DTEND;TZID=Asia/Karachi:20181030T220000
DTSTAMP:20260421T230408
CREATED:20180702T172242Z
LAST-MODIFIED:20180702T172736Z
UID:1786-1540821600-1540936800@gestalt.siteholder.ru
SUMMARY:Психологическая Конференция МГИ "Семейные игры"
DESCRIPTION:Психологическая Конференция МГИ “Семейные игры” \n\nПриглашаем принять участие в психологической конференции\, посвященной семейным отношениям.  \nЭто мероприятие будет понятно и интересно не только практикующим и начинающим психологам\, но и всем тем\, кто интересуется психологией для собственного развития.  \nКонференция проходит в г.Пермь  \n29-30 октября с 14.00 до 22.00  \n\nВас ждут:\n– Интересные лекции от ведущих психологов Перми и москвского гештальт-терапевта Елены Моисеевой (ведущего тренера ОПП ГП\, супервизора\, ведущей программ «Гештальт-терапия в семье» и «Семейный-системный подход»\, обучение по гештальт-терапии\, телесной терапиии и пр.)  \n– Живые профессиональные обсуждения актуальных проблем семейной психологии; \n– Глубокие и увлекательные мастер-классы\,  \n-Прекрасная возможность познакомиться с различными методиками и техниками психологической работы с семьей. \nЭта Конференция многое прояснит для тех\, кто ищет ответы на вопросы\, связанные с построением здоровых и радующих отношений. \nВсе подробности о конференции\, анонсы лекции\, мастерских и круглых столов можно посмотреть здесь:  \nhttps://vk.com/family_games_perm2018 \nКак стать участником конференции можно узнать тут: \nhttps://vk.com/topic-167478118_38805094
URL:https://gestalt.siteholder.ru/event/psihologicheskaya-konferentsiya-mgi-semejnye-igry/
LOCATION:Пермский краевой центр повышения квалификации работников здравоохранения\, ГОУ ДПО\, Баумана 22а\, Пермь\, 614000\, Российская Федерация
CATEGORIES:Конференции
ATTACH;FMTTYPE=image/jpeg:https://gestalt.siteholder.ru/wp-content/uploads/2018/07/222-1-e1530552422782.jpg
ORGANIZER;CN="%D0%A8%D0%B0%D1%80%D0%BE%D0%B2%D0%B0 %D0%95%D0%BA%D0%B0%D1%82%D0%B5%D1%80%D0%B8%D0%BD%D0%B0":MAILTO:borovkova_katy@mail.ru
END:VEVENT
BEGIN:VEVENT
DTSTART;VALUE=DATE:20171020
DTEND;VALUE=DATE:20171023
DTSTAMP:20260421T230408
CREATED:20170811T045005Z
LAST-MODIFIED:20171015T003505Z
UID:943-1508457600-1508716799@gestalt.siteholder.ru
SUMMARY:Конференция МГИ 2017 в г Перми "На перепутье".
DESCRIPTION:Приглашаем Вас с 20.10.2017 по 22.10.2017 на трехдневную\n Конференцию МГИ в г. Перми при участии ведущего тренера МГИ Катерины Бай – Балаевой. \nМы назвали нашу Конференцию “На перепутье”. И вот почему: \nВ своей жизни и в терапевтической практике мы иногда оказываемся в такой точке выбора\, когда не понятно\, куда дальше двигаться. Это момент большой неопределенности\, неясности и … больших возможностей. \nЭто точка выбора\, весьма интересный момент\, когда ни фигура\, ни фон еще не ясны и им лишь предстоит быть оформленными. \nМы приглашаем Вас поговорить о ресурсах и ограничениях этого момента в терапевтической практике и терапевтических отношениях. \nРасписание Конференции Вы можете прочитать здесь. \nВнимание! Стоимость конференции зависит от сроков внесения оплаты: \nПо 31.08. 2017 – 2800 руб\nПо 30.09.2017 – 3300 руб\nС 1.10.2017 и на месте стоимость конференции 3800 руб три дня участия. \nОплата производится двумя способами: \n1.очно в офисе на Чкалова 9 е (по предварительной договоренности)\, либо на Парковом (тоже по договоренности);\n2. на карту Ирине Степановой (реквизиты запрашивайте в личку или по телефону) \nВнимание! Сертификаты выдаются только тем\, кто участвует в конференции все три дня. \nДополнительная информация: \nнаша группа в контакте: https://vk.com/event151350912\nнаша группа в фейсбуке: https://www.facebook.com/groups/2400933846799356/?sou.. \nорг комитет конференции: \nКатерина Бай – Балаева (Москва) ведущий тренер\, супервизор\, терапевт ОПП ГП \nИрина Степанова (Пермь)\, терапевт\, супервизор ОПП ГП \nтел: 8 912 784 65 05 Skill33@rambler.ru \nНаталья Иванова-Быстрая  (Пермь)\, терапевт\, супервизор ОПП ГП \nтел: 8 912 061 18 58 Ivanata2012@yandex.ru
URL:https://gestalt.siteholder.ru/event/konferentsiya-mgi-2017-v-g-permi-na-perepute/
CATEGORIES:Конференции
END:VEVENT
END:VCALENDAR