BEGIN:VCALENDAR
VERSION:2.0
PRODID:-//Гештальт-Пермь - ECPv6.15.20//NONSGML v1.0//EN
CALSCALE:GREGORIAN
METHOD:PUBLISH
X-WR-CALNAME:Гештальт-Пермь
X-ORIGINAL-URL:https://gestalt.siteholder.ru
X-WR-CALDESC:Мероприятия для Гештальт-Пермь
REFRESH-INTERVAL;VALUE=DURATION:PT1H
X-Robots-Tag:noindex
X-PUBLISHED-TTL:PT1H
BEGIN:VTIMEZONE
TZID:Asia/Karachi
BEGIN:STANDARD
TZOFFSETFROM:+0500
TZOFFSETTO:+0500
TZNAME:PKT
DTSTART:20180101T000000
END:STANDARD
END:VTIMEZONE
BEGIN:VEVENT
DTSTART;TZID=Asia/Karachi:20190727T100000
DTEND;TZID=Asia/Karachi:20190728T190000
DTSTAMP:20260422T001114
CREATED:20190613T085815Z
LAST-MODIFIED:20190826T220927Z
UID:2444-1564221600-1564340400@gestalt.siteholder.ru
SUMMARY:Движение и осознавание (семинар по танцевально-двигательной терапии в Перми)
DESCRIPTION:Приглашаем на двухдневный семинар 27-28 июля по танцевально-двигательной терапии “Движение и осознавание”.\nЗадумывались ли вы о том\, что человечество танцует столько же времени\, сколько дышит?\nЗамечали ли когда-нибудь\, что танцы сопровождают любые события нашей жизни – от счастья до горя? Осознавали ли\, сколько в нашей жизни занимает танец? Помните ли собственные приятные ощущения от движения под музыку? \nТанцы помогают нам не только опознавать наши чувства\, но и с успехом выражать их.\nОтчего так? – Ответ очевиден: наша психика базируется на теле. Связь тела и психики не разрывна. \nВ отличии от нашего витиеватого разума\, тело коммуницирует с нами и с миром честно и прямо.\nТело не лжет. Оно вопиюще честно с нами и посылает внятные своевременные сигналы\, если что не так. \nВосстановить утраченную связь с телом\, научиться слышать его сигналы\, наладить хорошую чувствительность\, раскрепостить и пробудить замершее тело – все это по силам танцевально-двигательной терапии. \nВ танце рождается радость. Дофамин и серотонин мгновенно выделяются в кровь\, давая нам ощущение телесной легкости и приподнятого настроения. \nИ неважно\, танцуем мы как слоны или как грациозные кошечки. У каждого свой танец. Свой ритм. Свое самовыражение через движение. \nЕсть ли зрелище прекраснее\, чем танец пробужденного тела? Это также прекрасно созерцать и чувствовать\, как наблюдать раскрытие прекрасного цветка на рассвете. \nВытанцевать можно все – злость\, радость\, печаль\, непереносимое горе.\nЧерез движение достижимо осознавание новой глубины и качества. \nТДТ – прекрасный вид психотерапии\, как в виде дополнительного метода\, так и основного. \nТам\, где не работают вербальные методы\, ТДТ справляется прекрасно. Ну\, а в сочетании с гештальт-терапией творит чудеса.\nВедь помним\, что тело не лжет и стремится к гармонии уже по природе своей. \nРасслабляются напряженные мышцы и приходят в тонус вялые. Поднимается голова\, улучшается осанка\, возникает уверенность. \nЖизненная энергия начинает омывать каждую клеточку вашего тела\, каждое его сочленение.\nЭто глубокий оздоравливающий метод\, как для физического тела\, так и для нашей психики. \nЭто направление психотерапии помогает вам сделать выбор о том\, как именно вы хотите прожить свою жизнь.\nПриглашаем вас прикоснуться к этому действию. Предлагаем заглянуть в ваши глубины.\nУзнать язык вашего тела. Прожить его боль. Дать ему новый ресурс. \nОсвоить новый способ жития\, если хотите. \nПрочь насилие над собой и негодование. Впустите радость и естество.\nПританцовывайте\, начиная с утра. Пританцовывайте по дороге домой. Завершите день нежным ласковым па в кровати. Скажу больше – смотрите сны танцуя. \nТам\, где не работают вербальные методы психотерапии\, с успехом справляются телесные. \nВозьмите этот дар\, освойте его и наполните жизнь новым ресурсом и новыми возможностями.\nПока вы дышите – вы живете. Научитесь дышать правильно.\nПрочь поджатые диафрагмы. Прочь закостенелое болезненное тело. \nНаполнитесь новыми энергиями. Найдите новый смысл. Смысл\, который дарует вам ТДТ. \nПриходите на семинар по ТДТ 27-28 июля\, чтобы составить собственное впечатление об этом направлении и при желании погрузиться глубже в его освоение. Наша команда готова об этом позаботиться! \nВедущий семинара:\nЯна Гравшина\, гештальт-терапевт\, супервизор\, ведущий тренер МГИ\, танцевально-двигательный терапевт. Екатеринбург. \nОрганизаторы:\nНаталья Быстрая\, гештальт-терапевт\, супервизор. Пермь.\nЕкатерина Квасова\, гештальт-терапевт. Пермь. \nЗапись по телефону в Перми 203 18 58 Наталья или через личные сообщения в ФБ и в Контакте. \nСтоимость двухдневного семинара:\n5500 руб. до 7 июля включительно.\nДалее и на месте 6500 руб. \nПредварительное собеседование-знакомство обязательно.
URL:https://gestalt.siteholder.ru/event/dvizhenie-i-osoznavanie-seminar-po-tantsevalno-dvigatelnoj-terapii-v-permi/
CATEGORIES:Авторский курс
ATTACH;FMTTYPE=image/jpeg:https://gestalt.siteholder.ru/wp-content/uploads/2019/06/XtzVyQLcdKg-e1560416397125.jpg
END:VEVENT
BEGIN:VEVENT
DTSTART;TZID=Asia/Karachi:20190417T180000
DTEND;TZID=Asia/Karachi:20190417T211500
DTSTAMP:20260422T001114
CREATED:20190107T043053Z
LAST-MODIFIED:20190826T221035Z
UID:2205-1555524000-1555535700@gestalt.siteholder.ru
SUMMARY:Гештальт Среда. Пограничная стихия. Лёд и пламень.
DESCRIPTION:Тема: «Пограничная стихия. Лёд и пламень»\nВедущий: Наталья Быстрая\nФорма: мастерская\nВремя: 18:00 — 21:15 \nУважаемые! В рамках проекта Гештальт-среда приглашаю вас на мой мастер-класс «Лёд и пламень. Пограничная стихия» по работе с пограничными клиентами. \nТема сложная\, необъятная и очень интересная. Мировые процессы развиваются таким образом\, что рост пограничных расстройств прогнозируем. \nНа встрече вы сможете:\n– обрести более четкое понимание того\, что это за клиенты\, в чем их сложность и привлекательность\,\n– найдете ваши собственные ресурсы в работе с ними\,\n– определите наиболее подходящие стратегии взаимодействия. \nЯ рассчитываю на обмен опытом и живой диалог. \nКого приглашаю: практикующих студентов программ МГИ ( начиная со 2 ступени) и практикующих гештальт-терапевтов. \nКоличество человек не больше 24. \nЗапись через личные сообщения\nhttps://vk.com/ivanna_ps
URL:https://gestalt.siteholder.ru/event/geshtalt-sreda-pogranichnaya-stihiya-lyod-i-plamen/
LOCATION:ул. 25 Октября\, 70/1\, ул. 25 Октября\, 70/1\, Пермь\, Российская Федерация
CATEGORIES:Семинары
ATTACH;FMTTYPE=image/jpeg:https://gestalt.siteholder.ru/wp-content/uploads/2019/01/Mi7E4k1eX2I.jpg
END:VEVENT
BEGIN:VEVENT
DTSTART;TZID=Asia/Karachi:20190303T110000
DTEND;TZID=Asia/Karachi:20190303T180000
DTSTAMP:20260422T001114
CREATED:20190219T234908Z
LAST-MODIFIED:20190219T235108Z
UID:2293-1551610800-1551636000@gestalt.siteholder.ru
SUMMARY:Терапевтическая группа
DESCRIPTION:Запускаю новую терапевтическую группу и приглашаю желающих:) \nИ хотя задавать тематику терапевтической группы дело неблагодарное и под час бесполезное\, я рискну сосредоточиться вот на чем: \nЛюди довольно часто жалуются на утрату вкуса жизни\, называя происходящее с ними пресным\, скучным\, бессмысленным. \nЕсли вы в своей жизни столкнулись с чем-то подобным\, приглашаю вас в терапевтическую группу чтобы прожить случившееся и найти новые\, более подходящие для вас формы существования. \nИ неважно\, утратили ли вы радость от жизни полностью или она присутствует\, но не в должной мере\, всему найдётся место в нашем пространстве. \nРежим работы планируется такой:\n1 встреча по 6 часов плюс часовой перерыв на обед с периодичностью раз в 3-4 недели. \nСтоимость 1 встречи 2000 руб.\nДень недели: воскресенье с 11.00 до 18.00 \nДобро пожаловать!\nПроект стартует с 3 марта.\nСостав планируется не более 6-8 человек. \nВедущий группы: Наталья Иванова-Быстрая\nЗапись по тел. 203 18 58\nИли через личные сообщения. \nСтудентам программ МГИ засчитываются в стандарты часы групповой терапии.
URL:https://gestalt.siteholder.ru/event/terapevticheskaya-gruppa-3/
CATEGORIES:Терапевтические группы
ATTACH;FMTTYPE=image/jpeg:https://gestalt.siteholder.ru/wp-content/uploads/2019/02/M_EV1uO7rY4.jpg
END:VEVENT
END:VCALENDAR