BEGIN:VCALENDAR
VERSION:2.0
PRODID:-//Гештальт-Пермь - ECPv6.15.20//NONSGML v1.0//EN
CALSCALE:GREGORIAN
METHOD:PUBLISH
X-ORIGINAL-URL:https://gestalt.siteholder.ru
X-WR-CALDESC:Мероприятия для Гештальт-Пермь
REFRESH-INTERVAL;VALUE=DURATION:PT1H
X-Robots-Tag:noindex
X-PUBLISHED-TTL:PT1H
BEGIN:VTIMEZONE
TZID:Asia/Karachi
BEGIN:STANDARD
TZOFFSETFROM:+0500
TZOFFSETTO:+0500
TZNAME:PKT
DTSTART:20180101T000000
END:STANDARD
END:VTIMEZONE
BEGIN:VEVENT
DTSTART;TZID=Asia/Karachi:20190123T180000
DTEND;TZID=Asia/Karachi:20190123T221500
DTSTAMP:20260422T001453
CREATED:20181224T083159Z
LAST-MODIFIED:20181224T084357Z
UID:2174-1548266400-1548281700@gestalt.siteholder.ru
SUMMARY:Гештальт-среда. Гендерная и сексуальная идентичности
DESCRIPTION:Первая встреча в рамках проекта “Гештальт Среда” – 23.01.19\n \n! Обратите внимание ! Первая встреча продлится на 1 час больше\, поскольку перед тематическим мероприятием будет открытие проекта (введение в проект). \n\n18.00 – 19.00 – Открытие проекта\, ведут: Юлия Голованова\, Мария Наймушина\, Наталья Иванова\, Максим Зубакин\, Ирина Степанова \n\n\n19.00 – 22.15 – Мастерская: “Гендерная и сексуальная идентичности”\n\nВедущая: Мария Наймушина \n\nАнонс: Насколько быстро вы ответите на вопрос «Какого вы пола?». Вероятно\, вам даже не придется задуматься и ответ появится «на автомате» в первую же секунду. А если я спрошу: «К какому гендеру вы себя относите?». Ответ снова остается вполне очевидным. \nТогда в чем разница\, ведь если ответы совпадают\, для чего нужны два понятия? \nНа мастерской\, посвященной вопросам гендерной идентичности и некоторым аспектам сексуальности я предложу вам усомниться в ответах\, которые пришли на ум первыми 🙂 \nТакже вместе мы попробуем проследить то\, как конструировались ваши гендерная и сексуальная идентичности и для чего они вам нужны. И нужны ли?
URL:https://gestalt.siteholder.ru/event/2174/
LOCATION:ул. 25 Октября\, 70/1\, ул. 25 Октября\, 70/1\, Пермь\, Российская Федерация
CATEGORIES:Семинары
ATTACH;FMTTYPE=image/jpeg:https://gestalt.siteholder.ru/wp-content/uploads/2018/12/Geshtalt-sreda-Masha.jpg
END:VEVENT
END:VCALENDAR