BEGIN:VCALENDAR
VERSION:2.0
PRODID:-//Гештальт-Пермь - ECPv6.15.20//NONSGML v1.0//EN
CALSCALE:GREGORIAN
METHOD:PUBLISH
X-ORIGINAL-URL:https://gestalt.siteholder.ru
X-WR-CALDESC:Мероприятия для Гештальт-Пермь
REFRESH-INTERVAL;VALUE=DURATION:PT1H
X-Robots-Tag:noindex
X-PUBLISHED-TTL:PT1H
BEGIN:VTIMEZONE
TZID:Asia/Karachi
BEGIN:STANDARD
TZOFFSETFROM:+0500
TZOFFSETTO:+0500
TZNAME:PKT
DTSTART:20170101T000000
END:STANDARD
END:VTIMEZONE
BEGIN:VEVENT
DTSTART;TZID=Asia/Karachi:20190227T180000
DTEND;TZID=Asia/Karachi:20190227T211500
DTSTAMP:20260422T020537
CREATED:20190107T042615Z
LAST-MODIFIED:20190126T165356Z
UID:2201-1551290400-1551302100@gestalt.siteholder.ru
SUMMARY:Гештальт Среда. Исследование отыгрывания терапевта в работе с клиентом
DESCRIPTION:Вторая встреча в рамках проекта«Гештальт Среда»— 27 февраля 2019г.\nТема: «Исследование отыгрывания терапевта в работе с клиентом»\nФорма: мастерская\nВедущий: Юлия Голованова\nВремя: с 18:00 до 21:15 с перерывом 15 минут внутри мастер-класса\nАдрес: 25 Октября 70/1\, этаж 4\, кабинет 413. \nНе знаю\, как у вас\, а у меня много вопросов на обозначенную тему встречи. Что такое “отыгрывание”? Что такое “отыгрывание” в терапии? Отыгрывают только начинающие\, неопытные терапевты? Если отыгрывание – это процесс бессознательный\, то как я могу узнать\, что я это делаю и как я это делаю?\nПриглашаю на мастер-класс опытных терапевтов\, а также начинающих\, у кого уже есть несколько (от трёх) клиентов\, работающих регулярно (еженедельные встречи\, встречи 1 раз в 2 недели).\nДоговоримся о понятиях. Поделюсь своим взглядом на эту тему и личным опытом. Предложу эксперимент для исследования\, который в дальнейшем можно организовывать для самостоятельной работы. \nВНИМАНИЕ!\nЕсть два ограничения по набору участников мастер-класса.\nКоличество человек – не более 16.\nПоскольку тема деликатная\, я решила исключить актуальные пересечения. Поэтому при записи я буду уточнять\, являются ли участники друг другу терапевтами-клиентами\, супервизорами – супервизантами. Соответственно\, приоритет участия у того\, кто записался первым из подобной пары. \nВ кабинете предусмотрена смена обуви. Есть тапочки и бахилы. \nГруппа о проекте и запись на участие в ВК: https://vk.com/club177216301 \nСледующая встреча: «Устойчивость\, контейнирование и ресурсы в работе с тяжелыми переживаниями клиентов»
URL:https://gestalt.siteholder.ru/event/geshtalt-sreda-issledovanie-otygryvaniya-terapevta-v-rabote-s-klientom/
LOCATION:ул. 25 Октября\, 70/1\, ул. 25 Октября\, 70/1\, Пермь\, Российская Федерация
CATEGORIES:Семинары
ATTACH;FMTTYPE=image/jpeg:https://gestalt.siteholder.ru/wp-content/uploads/2019/01/Geshtalt-sreda-Anons.jpg
END:VEVENT
BEGIN:VEVENT
DTSTART;VALUE=DATE:20181116
DTEND;VALUE=DATE:20181119
DTSTAMP:20260422T020537
CREATED:20180522T175628Z
LAST-MODIFIED:20180527T144448Z
UID:1696-1542326400-1542585599@gestalt.siteholder.ru
SUMMARY:Практические семинары "Гештальт-подход в повседневной жизни". Первая ступень базового курса подготовки гештальт-терапевтов ОПП
DESCRIPTION:16 ноября (Пт) 2018\, с 15:30  |  180 часов: 6 трёхдневных сессий. \nВедущие:   Юлия Андреевна Голованова (Верятина)\, Максим Владимирович Зубакин \n\nМы будем рады знакомству! Вы давно присматриваетесь к программе\, и до сих пор не решились? Собрались в прошлый раз\, но что-то не срослось? Или впервые увидели наше приглашение и заинтересовались? Сейчас снова есть возможность присоединиться к тем\, кто хочет изучать гештальт-подход в повседневной и в профессиональной практике. \nВ прошлом году сформировалась и началась 8-ая группа обучения основам гештальт-подхода\, а в этом году исполняется 10 лет с нашего первого набора. Мы продолжаем открывать новые группы. Новый опыт\, новые люди\, новые тропинки в путешествии — много нового не только для самих участников\, но и для нас\, тренеров.  \nПриглашаем вас в увлекательное путешествие в мир взаимоотношений — с другими людьми\, самим собой и всем тем\, что нас окружает. Мы уверены\, что данное путешествие будет для вас интересным и необычным — таким\, каких вы ещё не совершали (Кстати\, мы сняли для вас фильм о программе с участием выпускников. А в фотоальбоме мероприятия вы можете посмотреть отзывы участников). \nНаша программа и сам подход\, в котором мы работаем\, отличаются от традиционных тренингов и семинаров. Философия подхода и метод\, как правило\, вызывают много удивления и интереса\, иногда настороженности и растерянности в начале\, и всегда впечатляют. Никакой мистики\, гипноза или скрытого влияния. Только практическая психология\, основанная на научных знаниях\, уважении к уникальности человека и опоре на жизненный опыт каждого участника. \nГештальт-подход — творческий и парадоксальный подход. Это лёгкость и простота\, которая может приводить к глубоким переживаниям и изменениям. Это творчество и юмор\, которые помогают в сложных и серьёзных ситуациях. Это здоровый цинизм и прагматизм\, сочетающийся с верой и любовью. Это принятие и признание реальности\, которое может не только огорчать и повергать в шок\, но и окрылять\, вдохновлять\, исцелять. Это неустанный поиск баланса между близостью и уединением\, границами и открытостью\, личным и общим\, между силой и слабостью\, между моралью и нравственностью\, между сытым покоем и стремлением к новому\, неизвестному\, волнующему\, между страхом и риском\, в конце концов — между человеком и миром\, который его окружает. Это подход\, который при уважении к противоречивости человека и его жизни\, позволяет ему восстанавливать\, обретать и сохранять целостность. \nМы приглашаем в путешествие\, которое не оставит вас равнодушными и может изменить вашу жизнь\, если вы этого хотите. \nПутешествие состоит из двух этапов \n\n1. Первая ступень. “Гештальт-подход в повседневной жизни”.\n\nДля всех желающих. \nПродолжительность — 1 год (6 трёхдневных встреч по выходным\, периодичность 1 раз в 2 месяца). \n\n2. Вторая ступень. “Гештальт-терапия: теория и практика”\n\nДля тех\, кто хочет пойти вглубь и использовать гештальт-подход в работе с другими людьми. \nПродолжительность — 2\,5 года (14 трёхдневных встреч по выходным\, периодичность 1 раз в 2 месяца). \nПо своему желанию вы можете остановиться только на первом этапе и не продолжать участие в программе. Или продолжить освоение гештальт-подхода\, перейдя на вторую ступень. \nМы приглашаем в программу: \n\nТех\, кто хочет использовать практическую психологию для себя в повседневной жизни и не имеет специального образования. Для участия в программе специальное образование приветствуется\, но не является обязательным.\nТех\, кто хочет работать в области оказания психологических услуг: психологов\, врачей-психотерапевтов\, студентов вузов специальности “психология” и смежных специальностей (врачи\, педагоги\, социальные работники).\n\nВас ждут. В первый год (первая ступень\, “Гештальт-подход в повседневной жизни”). \nНестандартные лекции — интересные\, не скучные\, понятные и одновременно открывающие много нового. \nПсихологические эксперименты и упражнения — возможность на практике исследовать себя и свои отношения с миром\, осознавать себя\, узнавать себя и других\, открывать и формировать новое видение ситуаций. Возможность формировать новые и развивать уже имеющиеся навыки наблюдательности\, видения\, слушания\, понимания происходящего\, навыки общения и вообще взаимодействия с собой\, другими людьми\, в диалоге и в группе. \nОткрытые консультации психолога — возможность стать свидетелем\, как работает психолог с другим человеком. Вы увидите\, как происходит беседа и рождается новый опыт\, как работает гештальт-подход в реальном контакте двух людей. Увидеть то\, что обычно скрыто от посторонних глаз. \nЖивое\, интересное\, неформальное и отличное от привычного общение в группе. У вас будет уникальная возможность исследовать свой опыт жизни в группах (рабочих\, семейных\, дружеских)\, среди других людей: \n\nсвои ресурсы и ограничения в отношениях с отдельными людьми и с группой\,\nсвои стереотипы восприятия\, мышления и поведения\,\nсвои эмоции\,\nв частности\, свой страх и бесстрашие\, свою уверенность и неуверенность\, свою привлекательность и опасность для других\,\nвы сможете узнать\, какое впечатление действительно вы производите на других людей и почему\,\nи многое другое.\nВы сможете исследовать свой опыт взаимодействия с группой и приобрести новый опыт.\nВсё важное и ценное из приобретённого опыта вы можете перенести в свою жизнь.\n\nФормы обучения на второй ступени ещё более разнообразны. \nУчастие в группе возможно только по предварительному собеседованию с ведущими. Оно необходимо для предварительного знакомства\, ответов на все взаимно возникшие вопросы по программе и уточнения ожиданий. \nНовая группа начнет работу 16 ноября 2018.\nПервая трехдневка состоится 16-18 ноября (пт с 15.30 до 21.00\, сб и вс с 10.00 до 19.00).\nНабор в группу ведётся до 16 октября 2018 года. \nСтоимость участия – 5500 рублей за одну трехдневку\, при предоплате до 16 октября 5000 рублей. \nНа основе опыта мы резюмировали результаты участия  в данной программе и разместили их в группе ВК «Гештальт-мастерская Юлии Головановой (Верятиной)»\, Вы можете прочитать их здесь>> \nИНФОРМАЦИЯ О ВЕДУЩИХ ПРОГРАММЫ: \nЮлия Андреевна Голованова (Верятина) –\n\nПсихолог. Гештальт-терапевт\, супервизор и тренер ОПП ГП (МГИ).\nПрофессиональный стаж — с 2002 года (15 лет)\, частная практика — с 2005 года (10 лет).\nВедущая базовых программ подготовки гештальт-терапевтов ОПП ГП (МГИ) в Перми.\nОрганизатор специализаций\, супервизорских групп и иных професссональных мероприятий ОПП ГП для психологов\, психотерапевтов в Перми. Выпустила: две группы базового курса подготовки гештальт-терапевтов. \nМаксим Владимирович Зубакин –\n\nПсихолог. Гештальт-терапевт. Преподаватель кафедры психологии развития ПГНИУ (ПГУ).\nПрофессиональный стаж — с 2001 года (17 лет)\, частная практика — с 2009 года (9 лет). Специалист в области организационной психологии и бизнес-тренер.\nСовместно с Головановой (Верятиной) Юлией выпустил группу первой ступени в 2015 году. В настоящее время ведёт новую группу первой ступени (с октября 2015 года). \nОрганизатор набора группы Бабичева Евгения. По всем вопросам можно обратиться именно к ней.\nСтраница в ВК: https://vk.com/id415912524\nТелефон: 8 961 757 33 86\nПочта: virg0@list.ru \nЖдем всех желающих: всех\, кто интересуется психологией\, студентов-психологов\, психологов и врачей-психотерапевтов! \nPS: \n\nО гештальт-терапии\, как о средстве самопознания и саморазвития\, так и о методе психологической помощи\, можно прочитать статью ведущей данного курса Головановой Юлии “О гештальт-терапии своими словами” \nЕсли вы хотите освоить гештальт-подход именно как метод работы с людьми (вторая ступень)\, то имеет смысл более подробно о сути программы прочитать в статье Татьяны Сидоровой\, одного из ведущих тренеров нашего профессионального сообщества \nТакже напоминаем\, что вы можете посмотреть видео с участием выпускников программы\, (ссылку на видео о программе).\n\nОтзывы о программе прилагаются ниже: \n                                 \n 
URL:https://gestalt.siteholder.ru/event/prakticheskie-seminary-geshtalt-podhod-v-povsednevnoj-zhizni-pervaya-stupen-bazovogo-kursa-podgotovki-geshtalt-terapevtov-opp/
CATEGORIES:Обучающие программы
ATTACH;FMTTYPE=image/jpeg:https://gestalt.siteholder.ru/wp-content/uploads/2018/05/O9GYKI1gpz-e1613052214129.jpg
ORGANIZER;CN="%D0%AE%D0%BB%D0%B8%D1%8F %D0%93%D0%BE%D0%BB%D0%BE%D0%B2%D0%B0%D0%BD%D0%BE%D0%B2%D0%B0 (%D0%92%D0%B5%D1%80%D1%8F%D1%82%D0%B8%D0%BD%D0%B0)":MAILTO:verjul@mail.ru
END:VEVENT
BEGIN:VEVENT
DTSTART;VALUE=DATE:20181005
DTEND;VALUE=DATE:20181008
DTSTAMP:20260422T020537
CREATED:20180614T135413Z
LAST-MODIFIED:20180919T183359Z
UID:1755-1538697600-1538956799@gestalt.siteholder.ru
SUMMARY:Открывается новая группа второй ступени
DESCRIPTION:Автор: Юлия Голованова (Верятина) \nУВАЖАЕМЫЕ УЧАСТНИКИ ГЕШТАЛЬТ-ПРОГРАММ! \nОткрывается новая группа второй ступени (базового курса подготовки гештальт-терапевтов ОПП ГП). Мы планируем начать работу осенью этого года\, а точнее – 5 октября. \nПрограмма второй ступени предполагает дальнейшее освоение теории и практики гештальт-подхода и включает в себя базовые темы и знакомство со специальными вопросами теории и практики. В центре внимания: развитие психотерапевтического мышления и навыков ведения психотерапевтической беседы. \nОдной из основных форм подготовки является терапевтическая работа участников группы под супервизией. \nВедущая группы – гештальт-терапевт\, супервизор\, тренер ОПП ГП\, Голованова Юлия. В программе\, кроме основного тренера\, принимают участие другие тренеры ОПП ГП. Минимум 5 приглашённых специалистов. Из России и Беларуси. \nВас ждёт увлекательное и непростое путешествие в мир психотерапии и исследования взаимоотношений человека с другими людьми и окружающим его миром\, в целом. Это возможность продолжить своё знакомство с гештальт-подходом в психологии\, чтобы применять его в собственной повседневной жизни\, и возможность попробовать себя в психотерапевтической практике при поддержке опытных специалистов. \nПо вопросам участия в группе второй ступени обращайтесь к Юлии Головановой.\nТелефон 8-908-257-10-60\,\ne-mail verjul@mail.ru\nличные сообщения в ВК https://vk.com/id6021991 \n  \nИнформацию на сайте ОПП ГП читайте здесь>> \n 
URL:https://gestalt.siteholder.ru/event/nabor-gruppy-2-stupeni-bazovogo-kursa-podgotovki-geshtalt-terapevtov/
CATEGORIES:Обучающие программы
ORGANIZER;CN="%D0%AE%D0%BB%D0%B8%D1%8F %D0%93%D0%BE%D0%BB%D0%BE%D0%B2%D0%B0%D0%BD%D0%BE%D0%B2%D0%B0 (%D0%92%D0%B5%D1%80%D1%8F%D1%82%D0%B8%D0%BD%D0%B0)":MAILTO:verjul@mail.ru
END:VEVENT
BEGIN:VEVENT
DTSTART;TZID=Asia/Karachi:20180925T190000
DTEND;TZID=Asia/Karachi:20180925T220000
DTSTAMP:20260422T020537
CREATED:20180919T181321Z
LAST-MODIFIED:20180919T181321Z
UID:1843-1537902000-1537912800@gestalt.siteholder.ru
SUMMARY:Терапевтическая группа "Начни с себя"
DESCRIPTION:Мои будущие клиенты\, здравствуйте!\nДела обстоят так\, что запись на индивидуальную терапию и консультации я пока остановила\, поскольку свободных мест нет. А очередь\, которая образовалась\, двигается медленно. \nЯ с большим интересом и удовольствием предлагаю  вам участие в психотерапевтической (психологической) группе\, которая в этом году начинает свой пятый сезон  работы. Каждую осень (в этом году — в сентябре)\,  группа открывается для новых участников. После январских праздников обычно приобретает статус закрытой. И в постоянном составе работает до середины июня. \nЕсли вас заинтересовала психотерапия со мной\, я предлагаю вам попробовать групповой формат. На мой взгляд\, я в нем даже интереснее\, чем в индивидуальной работе. И уж совершенно точно\, ваш опыт будет много богаче\, чем в работе один на один со мной. \nБезусловно\, чтобы вам принять окончательное решение\, мы с вами поговорим\, сверим ожидания\, я отвечу на ваши вопросы\, и поделюсь своим мнением о том\, чем может быть полезна для вас данная форма работы именно в вашей ситуации. Пишите или звоните. Буду рада знакомству! \nА пока\, если вы не из тех\, кто категорически опасается даже думать о групповой психотерапии (о психологической группе) для себя\, я предлагаю вам прочитать на эту тему мою статью\, посмотреть мой фильм о групповой психотерапии и глянуть прежний анонс\, который открывал прошлый сезон – он был такой… живой\, по горячим следам и воспоминаниям написанный. Думаю\, может быть из него статью-заметку сделать. \nСтатья «Групповая психотерапия» \nФильм «Групповая психотерапия: предубеждения\, сомнения\, вопросы» \nАнонс группы 2017 года \nО группе\, оргвопросы: \n\nПсихотерапевтическая (психологическая) группа. Закрытая (постоянный состав участников).\nКоличество участников — не более 10.\nЕженедельные встречи. По вторникам.\nВремя работы с 19 до 22:15 (по согласованию с группой возможно начинать раньше или немного позже).\nПо адресу г.Пермь\, ул. 25 Октября\, 70/1.\nГруппа работает с сентября до середины июня.\nСтоимость одного занятия — 2000 рублей.\n\nНачало группы 25 сентября 2018 года. \nЗапись в группу по предварительному собеседованию. \nВедущая Голованова (Верятина) Юлия\, телефон  8-908-257-10-60
URL:https://gestalt.siteholder.ru/event/terapevticheskaya-gruppa-nachni-s-sebya/
LOCATION:ул. 25 Октября\, 70/1\, ул. 25 Октября\, 70/1\, Пермь\, Российская Федерация
CATEGORIES:Терапевтические группы
ATTACH;FMTTYPE=image/jpeg:https://gestalt.siteholder.ru/wp-content/uploads/2017/09/ext.jpg
ORGANIZER;CN="%D0%AE%D0%BB%D0%B8%D1%8F %D0%93%D0%BE%D0%BB%D0%BE%D0%B2%D0%B0%D0%BD%D0%BE%D0%B2%D0%B0 (%D0%92%D0%B5%D1%80%D1%8F%D1%82%D0%B8%D0%BD%D0%B0)":MAILTO:verjul@mail.ru
END:VEVENT
END:VCALENDAR