BEGIN:VCALENDAR
VERSION:2.0
PRODID:-//Гештальт-Пермь - ECPv6.15.20//NONSGML v1.0//EN
CALSCALE:GREGORIAN
METHOD:PUBLISH
X-ORIGINAL-URL:https://gestalt.siteholder.ru
X-WR-CALDESC:Мероприятия для Гештальт-Пермь
REFRESH-INTERVAL;VALUE=DURATION:PT1H
X-Robots-Tag:noindex
X-PUBLISHED-TTL:PT1H
BEGIN:VTIMEZONE
TZID:Asia/Karachi
BEGIN:STANDARD
TZOFFSETFROM:+0500
TZOFFSETTO:+0500
TZNAME:PKT
DTSTART:20170101T000000
END:STANDARD
END:VTIMEZONE
BEGIN:VEVENT
DTSTART;VALUE=DATE:20180216
DTEND;VALUE=DATE:20180219
DTSTAMP:20260422T002027
CREATED:20180116T104300Z
LAST-MODIFIED:20180116T110228Z
UID:1384-1518739200-1518998399@gestalt.siteholder.ru
SUMMARY:«Теория и практика гештальт-терапии».  Первая ступень.
DESCRIPTION:«Теория и практика гештальт-терапии». Первая ступень базового курса подготовки в московском гештальт-институте \nДЛЯ КОГО ЭТА ПРОГРАММА? \n1. Для опытных и начинающих психологов любых направлений\, а также – специалистов «помогающих профессий»\, которым интересен гештальт-подход; \n2. Для выпускников и студентов психологических\, педагогических и других смежных специальностей. \n3. Для интересующихся практической психологией и гештальт-терапией как инструментом для саморазвития. \n4. Для всех\, кто хочет повысить осознанность и качество жизненного процесса.\nЧТО ТАКОЕ ГЕШТАЛЬТ-ТЕРАПИЯ? \n«Гештальт» (нем. gestalt) – целостность\, форма\, структура\, образ…\nГештальт-терапия – современное и широко распространённое в мире экзистенциально-гуманистическое направление психологической помощи.\nОснова этого метода – осознавание. Оно дает ключ к пониманию настоящего (“здесь и теперь”). Когда в фокусе внимания человека оказываются его потребности и чувства\, у него появляются новые способы познать собственную уникальность\, жизненный стиль и особенности своего поведения.\nУвеличение осознанности помогает человеку лучше понимать\, что происходит в его жизни\, и какое участие в этом принимает он сам (!). Человек получает возможность взять на себя ответственность за личный вклад в происходящее и стать активным участником этого процесса\, а также – способность точнее управлять событиями в своей жизни. Гештальт-терапия позволяет осознать\, каким образом незавершенные ситуации из нашего прошлого активно влияют на нас сегодняшних. Она помогает изменить устоявшиеся привычки и найти собственный путь вместо следования шаблонам и стереотипам.\nВсё это улучшает способность творчески адаптироваться к жизни во всех её проявлениях. \n ЧТО ТАКОЕ ПЕРВАЯ СТУПЕНЬ? \nЭто возможность познакомиться с гештальт-терапией\, лучше узнать себя\, сделать свою жизнь более осознанной. Формат работы похож на терапевтическую группу\, но с добавлением интересных мини-лекций\, обсуждений и упражнений. Можно увидеть индивидуальную и групповую работу психологов\, побыть клиентом\, многое понять про себя и других.\nПрактикующие психологи и студенты смогут взять новые инструменты для работы. Участники без специального образования имеют возможность разрешить некоторые сложности\, связанные с отношениями\, в том числе – с самим собой.\nПознакомившись с базовыми понятиями гештальт-терапии\, вы поймёт – хотите ли дальше обучаться практике гештальт-подхода на второй ступени. \nПОЛУЧУ ЛИ Я КАКОЙ-НИБУДЬ ДОКУМЕНТ ПО ОКОНЧАНИИ КУРСА? \nДа. После окончания первой ступени участники получают сертификат Общества практикующих психологов «Гештальт-подход» (ОПП ГП) по стандартам Европейской Ассоциации гештальт-терапии (ЕAGT) об участии в программе подготовки гештальт-терапевтов «Основы гештальт-терапии» с указанием тем и количества часов (180 уч. часов). После этого – могут продолжить обучение на второй ступени.\nРазмер группы 12-15 человек\, состав постоянный на весь период работы.\nРежим занятий: 6 учебных сессий по выходным дням с интервалом 2-2\,5 месяца.\n(пт: 16:00-21:00\, сб: 10:00-19:00\, вс: 10:00-19:00). \nДаты первой сессии: 16\, 17\, 18 февраля 2018.\nВремя: ПТ: 16:00-21:00; СБ и ВС: 10:00-19:00. \nКТО ВЕДЕТ ПРОГРАММУ? \nНаталья Емшанова – практикующий психолог\, гештальт-терапевт\, аккредитована в Обществе практикующих психологов «Гештальт-подход».\nГештальт-практика с 2008 г. \nАндрей Савчук – психолог\, к.пс.н.\, гештальт-терапевт\, супервизор\, тренер.\nАккредитован в Обществе практикующих психологов «Гештальт-подход».\nГештальт-практика с 1999 г. \nКАК ЗАПИСАТЬСЯ? \nпозвонить по телефонам:\n+ 7(922) 336-13-20 Наталья\n+7 (912) 484-65-19 Андрей\nИли\nНаписать личное сообщение\nНаталья: https://vk.com/id2978877\nАндрей: https://vk.com/id234738019 \nНаша группа В КОНТАКТЕ: https://vk.com/event157313641 \nСайт объединения гештальт-терапевтов Перми: http://gestalt-perm.ru \nСайт ОПП ГП (МГИ): https://gestalt.ru \nP.S. По окончании программы Вы сможете продолжить профессиональную подготовку на второй ступени МГИ:\nВторая ступень: Теория и практика гештальт-терапии (2\,5 года) – профессиональная подготовка гештальт-терапевтов. Включает глубокое изучение теории\, личную терапию\, терапевтическую работу в малых группах\, учебную работу под супервизией\, участие в конференциях\, интенсивах и т.д.
URL:https://gestalt.siteholder.ru/event/teoriya-i-praktika-geshtalt-terapii-pervaya-stupen/
CATEGORIES:Обучающие программы
ORGANIZER;CN="%D0%90%D0%BD%D0%B4%D1%80%D0%B5%D0%B9 %D0%A1%D0%B0%D0%B2%D1%87%D1%83%D0%BA":MAILTO:asavchuk57@gmail.com
END:VEVENT
END:VCALENDAR