BEGIN:VCALENDAR
VERSION:2.0
PRODID:-//Гештальт-Пермь - ECPv6.15.20//NONSGML v1.0//EN
CALSCALE:GREGORIAN
METHOD:PUBLISH
X-ORIGINAL-URL:https://gestalt.siteholder.ru
X-WR-CALDESC:Мероприятия для Гештальт-Пермь
REFRESH-INTERVAL;VALUE=DURATION:PT1H
X-Robots-Tag:noindex
X-PUBLISHED-TTL:PT1H
BEGIN:VTIMEZONE
TZID:Asia/Karachi
BEGIN:STANDARD
TZOFFSETFROM:+0500
TZOFFSETTO:+0500
TZNAME:PKT
DTSTART:20180101T000000
END:STANDARD
END:VTIMEZONE
BEGIN:VEVENT
DTSTART;TZID=Asia/Karachi:20210713T080000
DTEND;TZID=Asia/Karachi:20210802T170000
DTSTAMP:20260422T003503
CREATED:20210321T055344Z
LAST-MODIFIED:20210712T085509Z
UID:3146-1626163200-1627923600@gestalt.siteholder.ru
SUMMARY:Загородный лагерь: Тематический отряд "Психологическая грамотность"
DESCRIPTION:Загородный лагерь: Тематический отряд “Психологическая грамотность”  \nДети с 8 до 12 лет. (городской проект – “Комната психологической разгрузки”) \nКТО проводит:\nРуководитель отряда – Подтаева Светлана\nВожатая отряда – Лемешкова Анастасия \nКОГДА: лето 2021\, 3 смена\, 13 июля – 2 августа. Продолжительность смены 21 день (3 недели) \nГДЕ: Детский лагерь «Восток» расположен на берегу р.Камы\nПермский край\, Пермский муниципальный район\, Усть-Качкинская с\а\, д. Дворцовая Слудка. Рекреационная зона 1 категории\, лесной массив площадью 6 га\, песчаная почва. \nСтоимость путевок:\n– приобретение путевок на наличные средства: 25000 р.\n– приобретение путевок с задействованием сертификата: 27500 р.\n– отдельно оплачивается единовременный сбор в фонд отряда: 2500 р. \nЧто входит в стоимость путевки в Детский лагерь «Восток» :\n1. Трансфер Пермь-Восток-Пермь\n2. 5-разовое питание (завтрак\, обед\, полдник\, ужин\, второй ужин)\n3. Проживание:\nШесть деревянных корпусов\, каждый корпус рассчитан на 30 человек\, для них существуют канализованные туалеты на улице\nДва благоустроенных корпуса круглогодичного действия на 35 – 40 человек\, с удобствами внутри корпуса.\nПомимо этого на территории лагеря есть умывальники\, ногомойки\, питьевые фонтанчики\, женские и мужские душевые\, комната гигиены девочек\, русская баня.\nВ главном корпусе находится столовая на 320 мест\, а также 8 классов для занятий.\n4. Лагерь соответствует всем нормам САНПИН.\n5. На территории лагеря круглосуточно работает детский врач.\n6. Территория лагеря находится круглосуточно под охраной.\n7. Тематическая развлекательная программа\, спортивные и культурные мероприятия.\nссылка на группу лагеря вк: https://vk.com/dlovostok\nссылка на лагерь на сайте Пермские каникулы: https://camps.perm.ru/navigator/camps-all/40/ \nЧто такое “фонд отряда” и для чего он необходим:\n1. Дополнительные занятия\nИндивидуальная программа отряда:\nпсихологические тренинги (упражнения и обсуждения)\nнастольные игры (мотивация и развитие)\nкиноклуб (просмотр и дискуссия)\nтворчество(арт-терапия)\n2.Фирменный мерч отряда:\nфутболки с логотипом отряда\, наклейки\, тетради и др.\n3. Подарки\, награды\, сюрпризы за ежедневные достижения\n4. Ежедневный дневник отряда с фотографиями на странице мероприятия вк\n5. Приглашенные спикеры и мастер-классы (спортивные\, танцевальные\, психологические)\n6. Видеограф и памятное видео со смены отряда \nОбращаю ваше внимание на то\, что в нашем отряде существует ряд правил:\nМы не пользуемся гаджетами( телефон\, планшет\, плеер и др)\, максимально поддерживаем живой контакт в реальном времени.\nВремя звонков домой родителям и друзьям происходит в заранее оговоренное с родителями время всем отрядом одновременно.\nЗа кражи\, драки\, порчу лагерного имущества и подобное поведение мы вынуждены исключать ребенка из отряда и лагеря.\nМы стараемся следовать принципу доверия детям и принятия каждого из них\, со своими особенностями\, мнениями и взглядами.\nВ лагере существуют несколько тематических отрядов\, но есть и самые обычные.\nПомимо “психологов” на территории лагеря за одну смену могут собраться “танцоры”\, “математики”\, “художники”\, “пловцы”\, “гандболисты”\, “айкидо”\, “дзюдо” и другие. Эти ребята в течении года занимаются у своих тренеров и преподавателей\, а летом выезжают на сборы\, дополнительные тренировки и просто отдохнуть.
URL:https://gestalt.siteholder.ru/event/zagorodnyj-lager-tematicheskij-otryad-psihologicheskaya-gramotnost/
CATEGORIES:Терапевтические группы
ATTACH;FMTTYPE=image/jpeg:https://gestalt.siteholder.ru/wp-content/uploads/2021/03/Ip9lNovNnqo.jpg
END:VEVENT
BEGIN:VEVENT
DTSTART;TZID=Asia/Karachi:20210326T220000
DTEND;TZID=Asia/Karachi:20210327T170000
DTSTAMP:20260422T003503
CREATED:20210321T053649Z
LAST-MODIFIED:20210321T053929Z
UID:3135-1616796000-1616864400@gestalt.siteholder.ru
SUMMARY:Городской проект "Комната психологической разгрузки"
DESCRIPTION:Ведущая: Светлана Подтаева \nПриглашаю принять участие мальчиков и девочек\, юношей и девушек\nвозрастные группы:\n8 – 10 лет\n11 – 13 лет\n14 – 16 лет\nВ программе 4 блока по направлениям:\nпсихологические тренинги (упражнения и обсуждения)\nнастольные игры (мотивация и развитие)\nкиноклуб (просмотр и обсуждения)\nтворчество (арт-терапия)\nзанятия по субботам\, утреннее\, дневное и вечернее время\nГруппы на постоянной основе\, круглогодично\, в группе до 9 человек.\nв условиях самоизоляции и карантина занятия продолжаются в skype.\nВыезды в лагерь во время каникул.\nИндивидуальные консультации родителей по запросу.\n Мотовилихинский район\, т. 89638844333\nстоимость занятия:\nразовое посещение: 550 рублей\nабонемент на 4 занятий: 1800 рублей\nабонемент на 8 занятий: 3600 рублей \nссылка на страницу встречи вк https://vk.com/svetlyanika_perm
URL:https://gestalt.siteholder.ru/event/gorodskoj-proekt-komnata-psihologicheskoj-razgruzki/
CATEGORIES:Терапевтические группы
ATTACH;FMTTYPE=image/jpeg:https://gestalt.siteholder.ru/wp-content/uploads/2021/03/hEEXuA6-gpA.jpg
END:VEVENT
BEGIN:VEVENT
DTSTART;TZID=Asia/Karachi:20191006T110000
DTEND;TZID=Asia/Karachi:20191006T140000
DTSTAMP:20260422T003503
CREATED:20190927T110106Z
LAST-MODIFIED:20190927T110106Z
UID:2602-1570359600-1570370400@gestalt.siteholder.ru
SUMMARY:Терапевтическая группа для подростков.
DESCRIPTION:Терапевтическая группа для подростков. \nКогда наши дети подрастают\, отношения с ними меняются. Мы по – прежнему любим их и беспокоится за их успешность\, а они начинают сторониться нас и сбиваются в свои компании. Порой нам кажется\, что мы перестаем слышать друг друга\,и Контакт утрачен и невозможно договориться хоть о чем-либо. А родителям так важно обеспечить условия благополучия и становления взрослости у своих детей- подростков. \nПоэтому мы Галина Новикова и Катя Шарова \nприглашаем участников в терапевтическую подростковую группу. Она предназначена для детей 12-15 лет\, которым важно понимать\, что происходит с ними самими\, как лучше общаться с надоедающими родителями\, где находить настоящих друзей\, как найти новый интерес к школе. \nМы\, как ведущие этой группы\, будем посредниками между родителями и детьми. Любой подросток нуждается в одобрении и поддержке со стороны старших\, но данный возраст отличается критичностью и негативизмом по отношению к близким людям. А познавать себя и как устроены другие лучше в безопасной обстановке группы. Где кроме тебя есть и другие участники\, – такие же подростки со своим миром\, стразами и мечтами. \nПоэтому если ты подросток и немного запутался в жизни\, устал терять друзей или наоборот ещё не встретил настоящего друга\, тебя достали учителя и требования родителей дома\, ты совсем не знаешь\, чего хочешь или кем стать в будущем\, тогда тебе точно к нам.\nМы будем знакомиться друг с другом\, учиться новым способам взаимодействия\, отстаивания своих границ и интересов\, умению договариваться\, а также находить общее с другим\, не теряя своей уникальности. \nГруппа будет проходить раз в неделю по воскресеньям с 11 до 14 часов. Встречаться начнем с 6го октября и продолжим до мая\, с перерывом на зимние каникулы.\nКоличество участников будет ограниченным и постоянным.\nСтоимость: 1500 за встречу\nАдрес проведения: Чкалова\, 9\, офис 801.
URL:https://gestalt.siteholder.ru/event/terapevticheskaya-gruppa-dlya-podrostkov/
LOCATION:Чкалова 9Е\, ул. Чкалова 9Е\, Пермь\, Пермский край\, 614000\, Российская Федерация
CATEGORIES:Терапевтические группы
ATTACH;FMTTYPE=image/jpeg:https://gestalt.siteholder.ru/wp-content/uploads/2019/09/IMG_2758-336e.jpg
END:VEVENT
END:VCALENDAR