BEGIN:VCALENDAR
VERSION:2.0
PRODID:-//Гештальт-Пермь - ECPv6.15.20//NONSGML v1.0//EN
CALSCALE:GREGORIAN
METHOD:PUBLISH
X-ORIGINAL-URL:https://gestalt.siteholder.ru
X-WR-CALDESC:Мероприятия для Гештальт-Пермь
REFRESH-INTERVAL;VALUE=DURATION:PT1H
X-Robots-Tag:noindex
X-PUBLISHED-TTL:PT1H
BEGIN:VTIMEZONE
TZID:Asia/Karachi
BEGIN:STANDARD
TZOFFSETFROM:+0500
TZOFFSETTO:+0500
TZNAME:PKT
DTSTART:20210101T000000
END:STANDARD
END:VTIMEZONE
BEGIN:VEVENT
DTSTART;TZID=Asia/Karachi:20221229T183000
DTEND;TZID=Asia/Karachi:20221229T214500
DTSTAMP:20260422T001910
CREATED:20221121T190015Z
LAST-MODIFIED:20221121T190114Z
UID:3460-1672338600-1672350300@gestalt.siteholder.ru
SUMMARY:Группа развития профессиональных навыков для начинающих терапевтов «Ф2»
DESCRIPTION:Группа развития профессиональных навыков для начинающих терапевтов «Ф2»\nДорогие друзья!\nПриглашаем вас в группу развития профессиональных навыков для начинающих терапевтов! \n Для кого эта группа?\n– для студентов 1-2 ступени (часы идут в зачёт!);\n– для начавших свою практику\, но не чувствующих себя устойчиво;\n– для тех\, кто закончил обучение и хочет начать свою практику\, но не решается. \n Формат?\nТерапевтическая тематическая группа с дополнительными возможностями. \n Возможности?\n– групповая психотерапия с динамическим процессами;\n– очная и заочная супервизия с возможностью побыть клиентом или поработать терапевтом в круге;\n– диагностика уровня профессиональных навыков;\n– взаимодействие в разных вариантах (парный\, в тройках\, групповой\, тренинговый);\n– развитие осознавания себя и своего стиля работы;\n– целеполагание и планирование вариантов действий в практике гештальт-терапевта;\n– обсуждение теоретических вопросов по запросам. \nСтарт по мере набора группы.\nВстречаться будем по понедельникам с 18:30 до 21:45.\nЖдём желающих и заинтересованных!)\nКогда-то начинающие\, а сейчас уже опытные\,\nМальцева Оксана и Лифшиц Ольга\nТел для записи: 89223027764\, 89519580062
URL:https://gestalt.siteholder.ru/event/gruppa-razvitiya-professionalnyh-navykov-dlya-nachinayushhih-terapevtov-f2/
CATEGORIES:Супервизорские группы
ATTACH;FMTTYPE=image/jpeg:https://gestalt.siteholder.ru/wp-content/uploads/2022/11/qsm34exbS9aKnuqgkM-Kl12eNLlxc1CcS1iDInW-uJ8RtFrC-vTuOAc7GMefy__DtReH_aYBmQVvT1nk3kd5srag.jpg
ORGANIZER;CN="%D0%9E%D0%BA%D1%81%D0%B0%D0%BD%D0%B0 %D0%9C%D0%B0%D0%BB%D1%8C%D1%86%D0%B5%D0%B2%D0%B0":MAILTO:aminazin25@mail.ru
END:VEVENT
END:VCALENDAR