BEGIN:VCALENDAR
VERSION:2.0
PRODID:-//Гештальт-Пермь - ECPv6.15.20//NONSGML v1.0//EN
CALSCALE:GREGORIAN
METHOD:PUBLISH
X-WR-CALNAME:Гештальт-Пермь
X-ORIGINAL-URL:https://gestalt.siteholder.ru
X-WR-CALDESC:Мероприятия для Гештальт-Пермь
REFRESH-INTERVAL;VALUE=DURATION:PT1H
X-Robots-Tag:noindex
X-PUBLISHED-TTL:PT1H
BEGIN:VTIMEZONE
TZID:Asia/Karachi
BEGIN:STANDARD
TZOFFSETFROM:+0500
TZOFFSETTO:+0500
TZNAME:PKT
DTSTART:20190101T000000
END:STANDARD
END:VTIMEZONE
BEGIN:VEVENT
DTSTART;VALUE=DATE:20220905
DTEND;VALUE=DATE:20220906
DTSTAMP:20260422T001207
CREATED:20220904T104853Z
LAST-MODIFIED:20220904T104954Z
UID:3443-1662336000-1662422399@gestalt.siteholder.ru
SUMMARY:ДИДАКТИЧЕСКАЯ ГРУППА ДЛЯ СТУДЕНТОВ  «ЗНАКОМСТВО С ГЕШТАЛЬТ-ПОДХОДОМ: МЕТОД И ПРАКТИКА»
DESCRIPTION:ДИДАКТИЧЕСКАЯ ГРУППА ДЛЯ СТУДЕНТОВ  \n«ЗНАКОМСТВО С ГЕШТАЛЬТ-ПОДХОДОМ: МЕТОД И ПРАКТИКА» \nСЕЗОН 2 – 2022/2023 \nЕсли ты учишься в бакалавриате\, магистратуре или специалитете по направлению «Психология»\, перед тобой рано или поздно встает вопрос: как применить теоретические знания на практике? Возможно\, ты даже разочаровался в выборе специальности из-за того\, что вместо практических ответов на насущные вопросы на занятиях в вузе вы разбираете абстрактные и малоприменимые к жизни идеи. А может быть\, ты уже жаждешь помогать другим\, но осознаешь\, что необходимых практических навыков катастрофически не хватает. Или в теории ты уже познакомился с разными направлениями психотерапии (психоанализом\, транзактным анализом\, когнитивной психотерапией\, гештальт-терапией)\,  однако не знаешь\, какое из направлений сделать своим. Тогда – эта дидактическая группа для тебя! \nНа встречах мы познакомимся с одним из направлений психотерапии – ГЕШТАЛЬТ-ПОДХОДОМ. В основе «гештальта» одновременно оказались гештальт-психология (когнитивное направление) и психоанализ\, феноменология и философия Диалога\, интеракционизм и субъективизм\, и даже Дзен-буддизм. А популярность обусловлена творческим зарядом создателей Ф. Перлза\, П. Гудмана\, Л. Перлз\, И. Фромма\, Дж. Зинкера и современных последователей «гештальта» супружеской четы Польстеров\, С. Гингера\, П. Филипсона\, Ж.-М. Робина\, Дж. Франчессетти\, М. Спаниолы-Лобб и других. \nБазовые теоретические понятия «гештальта» разбираются на встречах исключительно в практическом ключе. На непосредственном опыте участников мы будем учиться БЫТЬ практическими психологами\, а не иметь некую неопределенную совокупность абстрактных теоретических знаний\, которые необходимо «применить» к живому человеку рядом. \nВедущий группы \nЗубакин Максим\, кандидат психологических наук\, аккредитованный терапевт «Общества практикующих психологов Гештальт-подход» (ОПП ГТ). Опыт работы психологом с 2001 года\, частная практика с 2007 года. Специализации: организационное консультирование\, работа с травматическим опытом\, ведение групп\, семейная психотерапия. Выпустил 6 первых ступеней обучающей программы «Московского гештальт-института» под руководством тренера ОПП ГТ Головановой Ю.А. \nУсловия участия \nПредварительное собеседование для знакомства и прояснения целей\, задач участников\, согласования условий участия в группе. \nЧисленность группы: 8-14 человек. \nПланируется 2 цикла по 8 встреч в течение учебного года 2022/2023 (с сентября по июнь) в очном формате. В начале цикла с группой заключается контракт. Условия контракта обсуждаются на первой встрече. Группа закрывается (новые участники не присоединяются) после 2-ой встречи цикла. \nЧастота встреч: 1 раз в 2 недели длительностью астрономических 3 (4 академических) часа. Один цикл составляет 32 академических часов. Если участник посетит оба цикла – 64 академических часов. \nСтудентам программы МГИ засчитываются часы учебной групповой психотерапии. \nСтоимость участия: обсуждается при заключении контракта с группой. \n  \nДля записи на собеседование:  \n+7 912 98 15 165 (телефон\, Viber\, WhatsApp); \nстраница В-контакте: https://vk.com/zubakinmv \nэлектронная почта: maximzubakin@gmail.com \nСобеседования с потенциальными участниками начнутся после 15 августа 2022 года.
URL:https://gestalt.siteholder.ru/event/didakticheskaya-gruppa-dlya-studentov-znakomstvo-s-geshtalt-podhodom-metod-i-praktika/
CATEGORIES:Супервизорские группы
ATTACH;FMTTYPE=image/png:https://gestalt.siteholder.ru/wp-content/uploads/2022/09/3454.png
END:VEVENT
BEGIN:VEVENT
DTSTART;TZID=Asia/Karachi:20200609T180000
DTEND;TZID=Asia/Karachi:20200609T210000
DTSTAMP:20260422T001207
CREATED:20200526T105923Z
LAST-MODIFIED:20200526T110001Z
UID:2866-1591725600-1591736400@gestalt.siteholder.ru
SUMMARY:Группа дидактической супервизии.
DESCRIPTION:– Что происходит между мной и клиентом?\n– Что я делаю в сессии с клиентом?\n– Что коллеги скажут? \nПриглашаем начинающих практику участников обучающих программ по гештальт-терапии. \nЗадачи: поддержка осознавания процессов в терапии\, развитие терапевтических умений и навыков теоретического анализа\, коллегиальная поддержка. \nФормы работы: индивидуальные сессии в группе с супервизией и процесс-анализом; возможна заочная супервизия случаев. \nВедущие: Сергей Вайнштейн и Галина Новикова – психологи\, аккредитованные супервизоры МГИ. \nРабота соответствует сертификационным требованиям базового курса к супервизии. \nПериодичность: раз в 2 недели \nВремя: вторник 18:00-21:00 \nНачало: 9.06.2020 \nСтоимость: 1000 руб. за встречу \nОрганизатор: Наталья Денисова – запись в группу в личные сообщения https://vk.com/tuch_ka или по телефону 89824982022 (лучше писать смс\, вайбер\, вотсап) \n 
URL:https://gestalt.siteholder.ru/event/gruppa-didakticheskoj-supervizii/
CATEGORIES:Супервизорские группы
ATTACH;FMTTYPE=image/jpeg:https://gestalt.siteholder.ru/wp-content/uploads/2020/05/2460.jpg
END:VEVENT
END:VCALENDAR