BEGIN:VCALENDAR
VERSION:2.0
PRODID:-//Гештальт-Пермь - ECPv6.15.20//NONSGML v1.0//EN
CALSCALE:GREGORIAN
METHOD:PUBLISH
X-WR-CALNAME:Гештальт-Пермь
X-ORIGINAL-URL:https://gestalt.siteholder.ru
X-WR-CALDESC:Мероприятия для Гештальт-Пермь
REFRESH-INTERVAL;VALUE=DURATION:PT1H
X-Robots-Tag:noindex
X-PUBLISHED-TTL:PT1H
BEGIN:VTIMEZONE
TZID:Asia/Karachi
BEGIN:STANDARD
TZOFFSETFROM:+0500
TZOFFSETTO:+0500
TZNAME:PKT
DTSTART:20160101T000000
END:STANDARD
END:VTIMEZONE
BEGIN:VEVENT
DTSTART;TZID=Asia/Karachi:20190911T180000
DTEND;TZID=Asia/Karachi:20190911T211500
DTSTAMP:20260422T011628
CREATED:20190107T043549Z
LAST-MODIFIED:20190913T090221Z
UID:2213-1568224800-1568236500@gestalt.siteholder.ru
SUMMARY:Гештальт Среда. Психотический уровень организации личности: диагностика и поиск опор для гештальт-терапевта
DESCRIPTION:Тема: «Психотический уровень организации личности: диагностика и поиск опор для гештальт-терапевта».\nВедущий: Наталья Денисова\nФорма: мастерская\nВремя: 18:00 — 21:15
URL:https://gestalt.siteholder.ru/event/geshtalt-sreda-psihoticheskij-uroven-organizatsii-lichnosti-diagnostika-i-poisk-opor-dlya-geshtalt-terapevta/
LOCATION:ул. 25 Октября\, 70/1\, ул. 25 Октября\, 70/1\, Пермь\, Российская Федерация
CATEGORIES:Семинары
ATTACH;FMTTYPE=image/jpeg:https://gestalt.siteholder.ru/wp-content/uploads/2019/01/Geshtalt-sreda-Anons-Natasha.jpg
END:VEVENT
BEGIN:VEVENT
DTSTART;TZID=Asia/Karachi:20171104T110000
DTEND;TZID=Asia/Karachi:20171104T180000
DTSTAMP:20260422T011628
CREATED:20170818T185923Z
LAST-MODIFIED:20171025T051947Z
UID:1036-1509793200-1509818400@gestalt.siteholder.ru
SUMMARY:Терапевтическая группа "Диалог с телом"
DESCRIPTION:Наше тело – самый честный и правдивый друг. К сожалению мы редко замечаем и прислушиваемся к тому\, что оно хотело бы нам сказать. По большей части\, нас воспитывали в стыде и страхе собственного тела\, тем самым разрывая с ним связь. Со временем мы обрастаем блоками и зажимами\, которые панцирем сковывают наше естество. Мы приучены игнорировать болезни и боли в теле. И имеем достаточно расплывчатую картину о том какое оно.\n В реальности Тело это тонкий и живой инструмент помогающий нам распознавать свои чувства\, выставлять границы и чувствовать жизнь. Мы приглашаем на нашу группу тех\, кто хочет лучше почувствовать своё тело\, осознать его истинные потребности\, освободить годами сдерживаемые чувства: – Мы будем исследовать и учиться понимать язык\, на котором тело с нами общается. \n – Рассмотрим какое у нас тело\, какие части тела мы игнорируем\, какой наш истинный размер.\n – Будем замечать какими чувствами наполнено наше тело\, и где они в нем живут.\n – Будем учиться замечать и любить себя!\nВстречи планируются раз в три недели по 6 часов. По субботам с 11 – 17. По адресу : ул. Чкалова 9е офис 1120.\n Ведущие: \nЕкатерина Шарова\nНаталья Денисова
URL:https://gestalt.siteholder.ru/event/terapevticheskaya-gruppa-dialog-s-telom/
LOCATION:Чкалова 9Е\, ул. Чкалова 9Е\, Пермь\, Пермский край\, 614000\, Российская Федерация
CATEGORIES:Терапевтические группы
ATTACH;FMTTYPE=image/jpeg:https://gestalt.siteholder.ru/wp-content/uploads/2017/08/440x326_21_07335ed8028cf0a7fe3ebe88aea5afb7-690x460_0xc0a8392b_195743951492681737.jpeg
ORGANIZER;CN="%D0%A8%D0%B0%D1%80%D0%BE%D0%B2%D0%B0 %D0%95%D0%BA%D0%B0%D1%82%D0%B5%D1%80%D0%B8%D0%BD%D0%B0":MAILTO:borovkova_katy@mail.ru
END:VEVENT
BEGIN:VEVENT
DTSTART;TZID=Asia/Karachi:20171103T190000
DTEND;TZID=Asia/Karachi:20171103T220000
DTSTAMP:20260422T011628
CREATED:20170819T164650Z
LAST-MODIFIED:20171025T052025Z
UID:1049-1509735600-1509746400@gestalt.siteholder.ru
SUMMARY:Терапевтическая группа
DESCRIPTION:Жизнь человека – явление социальное. Человек испытывает потребность вступать в контакт с другими людьми\, делиться своими впечатлениями.Группа оказывается микрокосмосом или обществом в миниатюре\, отражающим в себе весь внешний мир и позволяющим проявить свои характерные формы социального поведения. Открытое взаимодействие с другими людьми для многих представляется пугающим\, но ощущение напряжения\, возникающего в межличностном контакте с другими\, способствует выявлению психологических проблем каждого члена группы. Благодаря балансу проживания этого напряжения и эмоциональному самовыражению происходит продвижение человека к большей личностной устойчивости\, к расширению личностного пространства. Преимущество группы состоит в возможности получить обратную связь и поддержку от других членов\, имеющих сходные проблемы или опыт и способных благодаря этому оказать существенную помощь.\nГруппа позволяет:\nбольше узнать о себе и своих поступках в процессе групповой динамики;\nразделить свои переживания с другими;\nпопытаться разобраться в своих жизненных проблемах;\nактивизировать свое бессознательное в поисках понимания происходящего;\nбольше узнать взгляды и чувства других\, опираясь на групповое взаимодействие.\n\nВедущие: \nЕкатерина Шарова +7 (922) 32 28 771 \nДенисова Наталья  +7 (982) 49 82 022
URL:https://gestalt.siteholder.ru/event/terapevticheskaya-gruppa/
LOCATION:Чкалова 9Е\, ул. Чкалова 9Е\, Пермь\, Пермский край\, 614000\, Российская Федерация
CATEGORIES:Терапевтические группы
ATTACH;FMTTYPE=image/jpeg:https://gestalt.siteholder.ru/wp-content/uploads/2017/06/partnership_mans.jpg
ORGANIZER;CN="%D0%94%D0%B5%D0%BD%D0%B8%D1%81%D0%BE%D0%B2%D0%B0 %D0%9D%D0%B0%D1%82%D0%B0%D0%BB%D1%8C%D1%8F":MAILTO:geshtaltperm@gmail.com
END:VEVENT
END:VCALENDAR