BEGIN:VCALENDAR
VERSION:2.0
PRODID:-//Гештальт-Пермь - ECPv6.15.20//NONSGML v1.0//EN
CALSCALE:GREGORIAN
METHOD:PUBLISH
X-ORIGINAL-URL:https://gestalt.siteholder.ru
X-WR-CALDESC:Мероприятия для Гештальт-Пермь
REFRESH-INTERVAL;VALUE=DURATION:PT1H
X-Robots-Tag:noindex
X-PUBLISHED-TTL:PT1H
BEGIN:VTIMEZONE
TZID:Asia/Karachi
BEGIN:STANDARD
TZOFFSETFROM:+0500
TZOFFSETTO:+0500
TZNAME:PKT
DTSTART:20160101T000000
END:STANDARD
END:VTIMEZONE
BEGIN:VEVENT
DTSTART;TZID=Asia/Karachi:20210403T110000
DTEND;TZID=Asia/Karachi:20210404T190000
DTSTAMP:20260422T001503
CREATED:20210123T084359Z
LAST-MODIFIED:20210712T085752Z
UID:3055-1617447600-1617562800@gestalt.siteholder.ru
SUMMARY:«Основы гештальт-терапии: Первая ступень»
DESCRIPTION:Если вы психолог или студент\, психиатр\, социальный педагог\, руководитель с гуманистическими ценностями\, HR-специалист либо – просто глубоко интересуетесь самопознанием и саморазвитием \n– приглашаем в обучающую программу Московского гештальт-института (МГИ): \n«Основы гештальт-терапии: Первая ступень» – 180 ч \nПрограмма является Первой ступенью профессиональной подготовки гештальт-терапевтов в МГИ и может быть полезной для всех людей\, искренне стремящихся к самопознанию\, гармонизации своих отношений и повышению качества жизненного процесса. \nВы знакомитесь с базовыми понятиями гештальт-терапии и получаете глубокий клиентский опыт в группе. \nПо окончании участникам вручаются сертификаты МГИ по стандартам Европейской Ассоциации гештальт-терапии. \nПрограмма стартует 20-21 февраля 2021. Продолжительность 1\,4 года. \nДвухдневные модули проводятся раз в два месяца по выходным. \nОбучение проходит в группе постоянного состава. \nВедущие: \nАндрей Савчук – к.пс.н.\, психолог\, гештальт-терапевт\, супервизор\, ассоциированный тренер МГИ. Практика с 1998г. \nЕкатерина Шарова – психолог\, гештальт-терапевт МГИ. Практика с 2007г. \n  \nПеред началом мы проводим собеседование\, где ответим на ваши вопросы. \nЕсли вам интересна эта программа\, – дайте о себе знать. \nЕсли ваши друзья или знакомые хотят развиваться лично и профессионально\, – будем благодарны\, если сообщите им об этой возможности. \nКонтакты:          https://vk.com/esharova2013  https://vk.com/id234738019 \nПодробнее об МГИ и пермском гештальте\, в том числе – о ведущих программы: \nwww.gestalt.ru;  www.gestalt-perm.ru \n 
URL:https://gestalt.siteholder.ru/event/geshtalt-podhod-v-povsednevnoj-zhizni-osnovy-geshtalt-terapii/
LOCATION:“Выручай комната”\, Максима Горького\, 60\, Пермь\, Пермский край\, 614000\, Российская Федерация
CATEGORIES:Обучающие программы
ATTACH;FMTTYPE=image/jpeg:https://gestalt.siteholder.ru/wp-content/uploads/2021/01/Bezymya56nn4yj-4.jpg
ORGANIZER;CN="%D0%90%D0%BD%D0%B4%D1%80%D0%B5%D0%B9 %D0%A1%D0%B0%D0%B2%D1%87%D1%83%D0%BA":MAILTO:asavchuk57@gmail.com
END:VEVENT
BEGIN:VEVENT
DTSTART;TZID=Asia/Karachi:20191108T110000
DTEND;TZID=Asia/Karachi:20191110T190000
DTSTAMP:20260422T001503
CREATED:20190620T113154Z
LAST-MODIFIED:20190703T174853Z
UID:2462-1573210800-1573412400@gestalt.siteholder.ru
SUMMARY:Программа семинаров "Гештальт-подход в повседневной жизни"\, 2019
DESCRIPTION:Гештальт-подход в повседневной жизни\nПервая ступень подготовки гештальт-терапевтов МГИ \nПриглашаем вас в увлекательное путешествие в мир взаимоотношений — с другими людьми\, самим собой и всем тем\, что нас окружает. Мы уверены\, что данное путешествие будет для вас новым и необычным — таким\, каких вы ещё не совершали (Об этом путешествии мы сняли для вас фильм — его можно посмотреть\, перейдя по ссылке Фильм о программе). \n  \nНаша программа и сам подход\, в котором мы работаем\, отличаются от традиционных тренингов и семинаров. Философия подхода и метод\, как правило\, вызывают много удивления и интереса\, иногда настороженности и растерянности в начале\, и всегда впечатляют. Никакой мистики\, гипноза или скрытого влияния. Только практическая психология\, основанная на научных знаниях\, уважении к уникальности человека и опоре на жизненный опыт каждого участника. \nГештальт-подход — творческий и парадоксальный подход. Это лёгкость и простота\, которая может приводить к глубоким переживаниям и изменениям. Это творчество и юмор\, которые помогают в сложных и серьёзных ситуациях. Это здоровый цинизм и прагматизм\, сочетающийся с верой и любовью. Это принятие и признание реальности\, которое может не только огорчать и повергать в шок\, но и окрылять\, вдохновлять\, исцелять. Это неустанный поиск баланса между близостью и уединением\, границами и открытостью\, личным и общим\, между силой и слабостью\, между моралью и нравственностью\, между сытым покоем и стремлением к новому\, неизвестному\, волнующему\, между страхом и риском\, в конце концов — между человеком и миром\, который его окружает. Это подход\, который при уважении к противоречивости человека и его жизни\, позволяет ему восстанавливать\, обретать и сохранять целостность. \nО гештальт-подходе и обучении можно прочитать материалы\, размещенные на этом сайте: \n1. Статья “О гештальт-терапии своими словами” \n2. Статья: “Обучение гештальт-терапии: быть или не быть?” \nМы приглашаем в путешествие\, которое не оставит вас равнодушными и может изменить вашу жизнь\, если вы этого хотите. \n  \nПутешествие состоит из двух этапов.\n1. Первая ступень. “Гештальт-подход в повседневной жизни”. \nДля всех желающих. \nПродолжительность — 1 год (6 трёхдневных встреч по выходным\, периодичность 1 раз в 1 или 2 месяца). \n2. Вторая ступень. “Гештальт-терапия: теория и практика” \nДля тех\, кто хочет пойти вглубь и использовать гештальт-подход в работе с другими людьми. \nПродолжительность — 2\,5 года (14 трёхдневных встреч по выходным\, периодичность 1 раз в 2 месяца). \nПо своему желанию вы можете остановиться только на первом этапе и не продолжать участие в программе. Или продолжить освоение гештальт-подхода\, перейдя на вторую ступень. \nМы приглашаем в программу: \nТех\, кто хочет использовать практическую психологию для себя в повседневной жизни и не имеет специального образования. Для участия в программе специальное образование приветствуется\, но не является обязательным. \nТех\, кто хочет работать в области оказания психологических услуг: психологов\, врачей-психотерапевтов\, студентов вузов специальности “психология” и смежных специальностей (врачи\, педагоги\, социальные работники). \nВас ждут. В первый год (первая ступень\, “Гештальт-подход в повседневной жизни”) \nНестандартные лекции — интересные\, не скучные\, понятные и одновременно открывающие много нового. \nПсихологические эксперименты и упражнения — возможность на практике исследовать себя и свои отношения с миром\, осознавать себя\, узнавать себя и других\, открывать и формировать новое видение ситуаций. Возможность формировать новые и развивать уже имеющиеся навыки наблюдательности\, видения\, слушания\, понимания происходящего\, навыки общения и вообще взаимодействия с собой\, другими людьми\, в диалоге и в группе. \nОткрытые консультации психолога — возможность стать свидетелем\, как работает психолог с другим человеком. Вы увидите\, как происходит беседа и рождается новый опыт\, как работает гештальт-подход в реальном контакте двух людей. Увидеть то\, что обычно скрыто от посторонних глаз. \nЖивое\, интересное\, неформальное и отличное от привычного общение в группе. У вас будет уникальная возможность исследовать свой опыт жизни в группах (рабочих\, семейных\, дружеских)\, среди других людей: \n\nсвои ресурсы и ограничения в отношениях с отдельными людьми и с группой\,\nсвои стереотипы восприятия\, мышления и поведения\,\nсвои эмоции\,\nв частности\, свой страх и бесстрашие\, свою уверенность и неуверенность\, свою привлекательность и опасность для других\,\nвы сможете узнать\, какое впечатление действительно вы производите на других людей и почему\,\nи многое другое.\nВы сможете исследовать свой опыт взаимодействия с группой и приобрести новый опыт.\nВсё важное и ценное из приобретённого опыта вы можете перенести в свою жизнь.\n\nФормы обучения на второй ступени ещё более разнообразны. \nУчастие в группе возможно только по предварительному собеседованию с ведущими. Оно необходимо для предварительного знакомства\, ответов на все взаимно возникшие вопросы по программе и уточнения ожиданий. \nНабор в группу ведётся до 8 октября 2019 года. \nПЕРВАЯ СЕССИЯ состоится 8-10 ноября 2019 года \nМы ждём вас! \n  \nВедущие программы: \nГолованова (Верятина) Юлия (г. Пермь) – Психолог. Гештальт-терапевт\, супервизор и тренер ОПП ГП (МГИ). Профессиональный стаж — с 2002 года\, частная практика — с 2005 года. Ведущая базовых программ подготовки гештальт-терапевтов ОПП ГП (МГИ) в Перми. Организатор специализаций\, организатор и ведущий супервизорских групп и иных професссональных мероприятий ОПП ГП для психологов\, психотерапевтов в Перми.  \nЗубакин Максим (г. Пермь). Психолог. Гештальт-терапевт ОПП ГП (МГИ). Преподаватель кафедры психологии развития ПГНИУ (ПГУ). Профессиональный стаж — с 2001 года\, частная практика — с 2009 года. Специалист в области организационной психологии и бизнес-тренер.  \nВедущие: \nТел. 8-908-257-10-60\, Юлия Голованова (Верятина);\nТел. 8-912-98-15-165\, Максим Зубакин. \nСтоимость: 6000\n\n\nДаты проведения: 8 ноября — 10 ноября \n 
URL:https://gestalt.siteholder.ru/event/programma-seminarov-geshtalt-podhod-v-povsednevnoj-zhizni-2019/
LOCATION:ул. 25 Октября\, 70/1\, ул. 25 Октября\, 70/1\, Пермь\, Российская Федерация
CATEGORIES:Обучающие программы
ATTACH;FMTTYPE=image/jpeg:https://gestalt.siteholder.ru/wp-content/uploads/2018/05/JfBpMPQoYr4.jpg
ORGANIZER;CN="%D0%AE%D0%BB%D0%B8%D1%8F %D0%93%D0%BE%D0%BB%D0%BE%D0%B2%D0%B0%D0%BD%D0%BE%D0%B2%D0%B0 (%D0%92%D0%B5%D1%80%D1%8F%D1%82%D0%B8%D0%BD%D0%B0)":MAILTO:verjul@mail.ru
END:VEVENT
BEGIN:VEVENT
DTSTART;TZID=Asia/Karachi:20191012T100000
DTEND;TZID=Asia/Karachi:20191013T190000
DTSTAMP:20260422T001503
CREATED:20190913T091027Z
LAST-MODIFIED:20190913T091027Z
UID:2581-1570874400-1570993200@gestalt.siteholder.ru
SUMMARY:Теория и практика гештальт-терапии (1-я ступень)
DESCRIPTION:Начинаем новый набор программы. \nПервый семинар состоится 12-13 октября 2019г. \nПРИГЛАШАЕМ ПСИХОЛОГОВ\, ВРАЧЕЙ\, СТУДЕНТОВ\, а также – всех\, кто интересуется настоящей практической психологией для своего профессионального и личностного развития\,\nпринять участие в обучающей программе Московского Гештальт Института по Стандартам Европейской Ассоциации Гештальт Терапевтов (EAGT)\n«Теория и практика гештальт-терапии»\, проходящей в Перми. \nОснова гештальт-метода – целостный подход к человеку\, соединяющий телесное\, эмоциональное и интеллектуальное начало.\nФормат работы похож на терапевтическую группу с добавлением интересных мини-лекций\, обсуждений и упражнений. Вы знакомитесь с принципами и основными понятиями гештальт-терапии и получаете возможность решить некоторые трудности\, связанные с отношениями и – самим собой.\nПрикоснувшись к гештальту\, вы откроете совершенно новый\, в чём-то необычный\, но всегда – удивительно интересный опыт. Он поможет вам сделать свою жизнь более осознанной и насыщенной яркими красками. \nПрограмма является первой ступенью профессиональной подготовки гештальт-терапевтов. При этом она полезна для всех людей\, искренно стремящихся к самопознанию и повышению качества своего жизненного процесса. \nПо завершении участники получают сертификат Общества практикующих психологов «Гештальт-подход» (ОПП ГП) по стандартам Европейской Ассоциации гештальт-терапии (ЕAGT). \nКТО ВЕДЁТ ПРОГРАММУ\nНаталья Емшанова– практикующий психолог\, гештальт-терапевт\, аккредитована в Обществе практикующих психологов «Гештальт-подход». Практика с 2006 г.\nАндрей Савчук – психолог\, к.пс.н.\, гештальт-терапевт\, супервизор\, тренер.\nАккредитован в Обществе практикующих психологов «Гештальт-подход».\nГештальт-практика с 1999 г. \nРЕЖИМ ЗАНЯТИЙ: 7 сессий по выходным дням с интервалами 1\,5 месяца\n(сб: 10:00-19:00\, вс: 10:00-19:00).\nСтоимость: 3500р за каждый семинар+1650р (ученический взнос 1 раз за всю программу) \nПЕРВЫЙ СЕМИНАР: 12-13 октября 2019г. \nКАК ЗАПИСАТЬСЯ: Позвонить по телефону (вайбер\, ватсап) или написать сообщение\nНаталья + 7(922) 336-13-20 https://vk.com/emshanova_natalya\nАндрей https://vk.com/id234738019 \nВНИМАНИЕ!\nУчастие строго по предварительной записи\nДля участия в программе требуется короткое предварительное собеседование\, на котором мы познакомимся с вами и подробнее расскажем о программе\, а вы сможете задать интересующие вас вопросы.
URL:https://gestalt.siteholder.ru/event/teoriya-i-praktika-geshtalt-terapii-1-ya-stupen/
LOCATION:Пермский край
CATEGORIES:Обучающие программы
ATTACH;FMTTYPE=image/jpeg:https://gestalt.siteholder.ru/wp-content/uploads/2019/02/nW_6Mrbfslg.jpg
END:VEVENT
BEGIN:VEVENT
DTSTART;VALUE=DATE:20181116
DTEND;VALUE=DATE:20181119
DTSTAMP:20260422T001503
CREATED:20180522T175628Z
LAST-MODIFIED:20180527T144448Z
UID:1696-1542326400-1542585599@gestalt.siteholder.ru
SUMMARY:Практические семинары "Гештальт-подход в повседневной жизни". Первая ступень базового курса подготовки гештальт-терапевтов ОПП
DESCRIPTION:16 ноября (Пт) 2018\, с 15:30  |  180 часов: 6 трёхдневных сессий. \nВедущие:   Юлия Андреевна Голованова (Верятина)\, Максим Владимирович Зубакин \n\nМы будем рады знакомству! Вы давно присматриваетесь к программе\, и до сих пор не решились? Собрались в прошлый раз\, но что-то не срослось? Или впервые увидели наше приглашение и заинтересовались? Сейчас снова есть возможность присоединиться к тем\, кто хочет изучать гештальт-подход в повседневной и в профессиональной практике. \nВ прошлом году сформировалась и началась 8-ая группа обучения основам гештальт-подхода\, а в этом году исполняется 10 лет с нашего первого набора. Мы продолжаем открывать новые группы. Новый опыт\, новые люди\, новые тропинки в путешествии — много нового не только для самих участников\, но и для нас\, тренеров.  \nПриглашаем вас в увлекательное путешествие в мир взаимоотношений — с другими людьми\, самим собой и всем тем\, что нас окружает. Мы уверены\, что данное путешествие будет для вас интересным и необычным — таким\, каких вы ещё не совершали (Кстати\, мы сняли для вас фильм о программе с участием выпускников. А в фотоальбоме мероприятия вы можете посмотреть отзывы участников). \nНаша программа и сам подход\, в котором мы работаем\, отличаются от традиционных тренингов и семинаров. Философия подхода и метод\, как правило\, вызывают много удивления и интереса\, иногда настороженности и растерянности в начале\, и всегда впечатляют. Никакой мистики\, гипноза или скрытого влияния. Только практическая психология\, основанная на научных знаниях\, уважении к уникальности человека и опоре на жизненный опыт каждого участника. \nГештальт-подход — творческий и парадоксальный подход. Это лёгкость и простота\, которая может приводить к глубоким переживаниям и изменениям. Это творчество и юмор\, которые помогают в сложных и серьёзных ситуациях. Это здоровый цинизм и прагматизм\, сочетающийся с верой и любовью. Это принятие и признание реальности\, которое может не только огорчать и повергать в шок\, но и окрылять\, вдохновлять\, исцелять. Это неустанный поиск баланса между близостью и уединением\, границами и открытостью\, личным и общим\, между силой и слабостью\, между моралью и нравственностью\, между сытым покоем и стремлением к новому\, неизвестному\, волнующему\, между страхом и риском\, в конце концов — между человеком и миром\, который его окружает. Это подход\, который при уважении к противоречивости человека и его жизни\, позволяет ему восстанавливать\, обретать и сохранять целостность. \nМы приглашаем в путешествие\, которое не оставит вас равнодушными и может изменить вашу жизнь\, если вы этого хотите. \nПутешествие состоит из двух этапов \n\n1. Первая ступень. “Гештальт-подход в повседневной жизни”.\n\nДля всех желающих. \nПродолжительность — 1 год (6 трёхдневных встреч по выходным\, периодичность 1 раз в 2 месяца). \n\n2. Вторая ступень. “Гештальт-терапия: теория и практика”\n\nДля тех\, кто хочет пойти вглубь и использовать гештальт-подход в работе с другими людьми. \nПродолжительность — 2\,5 года (14 трёхдневных встреч по выходным\, периодичность 1 раз в 2 месяца). \nПо своему желанию вы можете остановиться только на первом этапе и не продолжать участие в программе. Или продолжить освоение гештальт-подхода\, перейдя на вторую ступень. \nМы приглашаем в программу: \n\nТех\, кто хочет использовать практическую психологию для себя в повседневной жизни и не имеет специального образования. Для участия в программе специальное образование приветствуется\, но не является обязательным.\nТех\, кто хочет работать в области оказания психологических услуг: психологов\, врачей-психотерапевтов\, студентов вузов специальности “психология” и смежных специальностей (врачи\, педагоги\, социальные работники).\n\nВас ждут. В первый год (первая ступень\, “Гештальт-подход в повседневной жизни”). \nНестандартные лекции — интересные\, не скучные\, понятные и одновременно открывающие много нового. \nПсихологические эксперименты и упражнения — возможность на практике исследовать себя и свои отношения с миром\, осознавать себя\, узнавать себя и других\, открывать и формировать новое видение ситуаций. Возможность формировать новые и развивать уже имеющиеся навыки наблюдательности\, видения\, слушания\, понимания происходящего\, навыки общения и вообще взаимодействия с собой\, другими людьми\, в диалоге и в группе. \nОткрытые консультации психолога — возможность стать свидетелем\, как работает психолог с другим человеком. Вы увидите\, как происходит беседа и рождается новый опыт\, как работает гештальт-подход в реальном контакте двух людей. Увидеть то\, что обычно скрыто от посторонних глаз. \nЖивое\, интересное\, неформальное и отличное от привычного общение в группе. У вас будет уникальная возможность исследовать свой опыт жизни в группах (рабочих\, семейных\, дружеских)\, среди других людей: \n\nсвои ресурсы и ограничения в отношениях с отдельными людьми и с группой\,\nсвои стереотипы восприятия\, мышления и поведения\,\nсвои эмоции\,\nв частности\, свой страх и бесстрашие\, свою уверенность и неуверенность\, свою привлекательность и опасность для других\,\nвы сможете узнать\, какое впечатление действительно вы производите на других людей и почему\,\nи многое другое.\nВы сможете исследовать свой опыт взаимодействия с группой и приобрести новый опыт.\nВсё важное и ценное из приобретённого опыта вы можете перенести в свою жизнь.\n\nФормы обучения на второй ступени ещё более разнообразны. \nУчастие в группе возможно только по предварительному собеседованию с ведущими. Оно необходимо для предварительного знакомства\, ответов на все взаимно возникшие вопросы по программе и уточнения ожиданий. \nНовая группа начнет работу 16 ноября 2018.\nПервая трехдневка состоится 16-18 ноября (пт с 15.30 до 21.00\, сб и вс с 10.00 до 19.00).\nНабор в группу ведётся до 16 октября 2018 года. \nСтоимость участия – 5500 рублей за одну трехдневку\, при предоплате до 16 октября 5000 рублей. \nНа основе опыта мы резюмировали результаты участия  в данной программе и разместили их в группе ВК «Гештальт-мастерская Юлии Головановой (Верятиной)»\, Вы можете прочитать их здесь>> \nИНФОРМАЦИЯ О ВЕДУЩИХ ПРОГРАММЫ: \nЮлия Андреевна Голованова (Верятина) –\n\nПсихолог. Гештальт-терапевт\, супервизор и тренер ОПП ГП (МГИ).\nПрофессиональный стаж — с 2002 года (15 лет)\, частная практика — с 2005 года (10 лет).\nВедущая базовых программ подготовки гештальт-терапевтов ОПП ГП (МГИ) в Перми.\nОрганизатор специализаций\, супервизорских групп и иных професссональных мероприятий ОПП ГП для психологов\, психотерапевтов в Перми. Выпустила: две группы базового курса подготовки гештальт-терапевтов. \nМаксим Владимирович Зубакин –\n\nПсихолог. Гештальт-терапевт. Преподаватель кафедры психологии развития ПГНИУ (ПГУ).\nПрофессиональный стаж — с 2001 года (17 лет)\, частная практика — с 2009 года (9 лет). Специалист в области организационной психологии и бизнес-тренер.\nСовместно с Головановой (Верятиной) Юлией выпустил группу первой ступени в 2015 году. В настоящее время ведёт новую группу первой ступени (с октября 2015 года). \nОрганизатор набора группы Бабичева Евгения. По всем вопросам можно обратиться именно к ней.\nСтраница в ВК: https://vk.com/id415912524\nТелефон: 8 961 757 33 86\nПочта: virg0@list.ru \nЖдем всех желающих: всех\, кто интересуется психологией\, студентов-психологов\, психологов и врачей-психотерапевтов! \nPS: \n\nО гештальт-терапии\, как о средстве самопознания и саморазвития\, так и о методе психологической помощи\, можно прочитать статью ведущей данного курса Головановой Юлии “О гештальт-терапии своими словами” \nЕсли вы хотите освоить гештальт-подход именно как метод работы с людьми (вторая ступень)\, то имеет смысл более подробно о сути программы прочитать в статье Татьяны Сидоровой\, одного из ведущих тренеров нашего профессионального сообщества \nТакже напоминаем\, что вы можете посмотреть видео с участием выпускников программы\, (ссылку на видео о программе).\n\nОтзывы о программе прилагаются ниже: \n                                 \n 
URL:https://gestalt.siteholder.ru/event/prakticheskie-seminary-geshtalt-podhod-v-povsednevnoj-zhizni-pervaya-stupen-bazovogo-kursa-podgotovki-geshtalt-terapevtov-opp/
LOCATION:Пермский край
CATEGORIES:Обучающие программы
ATTACH;FMTTYPE=image/jpeg:https://gestalt.siteholder.ru/wp-content/uploads/2018/05/O9GYKI1gpz-e1613052214129.jpg
ORGANIZER;CN="%D0%AE%D0%BB%D0%B8%D1%8F %D0%93%D0%BE%D0%BB%D0%BE%D0%B2%D0%B0%D0%BD%D0%BE%D0%B2%D0%B0 (%D0%92%D0%B5%D1%80%D1%8F%D1%82%D0%B8%D0%BD%D0%B0)":MAILTO:verjul@mail.ru
END:VEVENT
BEGIN:VEVENT
DTSTART;TZID=Asia/Karachi:20181012T160000
DTEND;TZID=Asia/Karachi:20181014T190000
DTSTAMP:20260422T001503
CREATED:20180827T033015Z
LAST-MODIFIED:20180828T083624Z
UID:1817-1539360000-1539543600@gestalt.siteholder.ru
SUMMARY:Теория и практика гештальт-терапии (первая ступень)
DESCRIPTION:Теория и практика гештальт – терапии (первая ступень)\nПрофессиональная программа подготовки гештальт-терапевтов\, Пермь. 180 ч.\nОсновой гештальт-метода является целостный подход к человеку\, соединяющий телесное\, эмоциональное и интеллектуальное начало. \nПервая ступень – это возможность близко познакомиться с гештальт-терапией\, лучше узнать себя\, добавить в свою жизнь больше радости и удовлетворённости. \nФормат работы похож на терапевтическую группу с добавлением интересных мини-лекций\, исследовательских упражнений и обсуждений. \nУчастники имеют возможность разобраться в себе и решить трудные вопросы в жизни и отношениях. А ещё – посмотреть\, послушать и почувствовать\, как работают гештальт-психологи\, узнать и понять много нового про себя и окружающих. \nПрактикующие психологи и студенты получают также новые инструменты для глубокой работы с людьми. \nПознакомившись с базовыми понятиями гештальт-подхода и проверив его на себе\, участники смогут осознанно выбрать: обучаться ли дальше\, чтобы практиковать это направление – если вы уже психолог/ педагог/ врач/ специалист смежных профессий\, либо – нужно ли получить психологическое образование\, чтобы затем также заниматься гештальт-терапией. \nПервая сессия запланирована 12-14 октября 2018. \nпт: 16:00-21:00\,\nсб: 10:00-19:00\,\nвс: 10:00-19:00 \nВедущие программы:  \nНаталья Емшанова – практикующий психолог\, гештальт-терапевт\, аккредитована в Обществе практикующих психологов «Гештальт-подход» (ОПП ГП). Гештальт-практика с 2008. \nАндрей Савчук – психолог\, к.пс.н.\, гештальт-терапевт\, супервизор\, ассоциированный тренер ОПП ГП. Гештальт-практика с 1999. \nЧтобы записаться на обучение\, следует позвонить или написать организаторам.\nТелефоны:\n+7 (922) 336-13-20 Наталья\n+7 (912) 484-65-19 Андрей\nСтранички организаторов:\nНаталья: https://vk.com/id2978877\, http://gestalt-perm.ru/emshanova-natalya/\nАндрей:  https://vk.com/id234738019\, http://gestalt-perm.ru/savchuk-andrej/ \nДля участия в программе требуется короткое предварительное собеседование\, на котором мы расскажем о программе\, и вы сможете задать интересующие вопросы.
URL:https://gestalt.siteholder.ru/event/teoriya-i-praktika-geshtalt-terapii-pervaya-stupen-2/
LOCATION:Пермский край
CATEGORIES:Обучающие программы
ATTACH;FMTTYPE=image/jpeg:https://gestalt.siteholder.ru/wp-content/uploads/2018/08/NC2A0-mzYOYE-YIGaG-aG-YE_YOJ--e1535340560431.jpg
ORGANIZER;CN="%D0%90%D0%BD%D0%B4%D1%80%D0%B5%D0%B9 %D0%A1%D0%B0%D0%B2%D1%87%D1%83%D0%BA":MAILTO:asavchuk57@gmail.com
END:VEVENT
BEGIN:VEVENT
DTSTART;VALUE=DATE:20171110
DTEND;VALUE=DATE:20171113
DTSTAMP:20260422T001503
CREATED:20170904T110048Z
LAST-MODIFIED:20170928T032141Z
UID:1077-1510272000-1510531199@gestalt.siteholder.ru
SUMMARY:1 ступень базового курса  Московского гештальт-института.
DESCRIPTION:Первая ступень: Основы гештальт-терапии (1\,5 года): \n  \n180 часов: 6 учебных сессий по выходным дням с интервалом 2-2\,5 месяца. \nПервая сессия: 10-12 ноября 2017 (пт: 16:00-21:00\, сб: 10:00-19:00\, вс: 10:00-19:00). \nСтоимость трёхдневки 4000.- \nДля вас: лекции-беседы\, упражнения по самоисследованию\, участие в групповой динамике\, психологическая поддержка от группы и тренеров. \nНа первой ступени вы знакомитесь с принципами и основными понятиями гештальт-терапии и получаете глубокий клиентский опыт в группе. \nПо завершении участники получают сертификат Общества практикующих психологов «Гештальт-подход» (ОПП ГП) по стандартам Европейской Ассоциации гештальт-терапии (ЕAGT). \nПрограмма будет вам особенно полезна\, если: \n\n Вы обучаетесь специальности «Психология» или – смежным специальностям: педагогическим\, социологическим\, медицинским.\n Вы уже работаете психологом или психотерапевтом.\n Вы не психолог\, но искренно стремитесь повысить качество своего жизненного процесса.\n Вы просто хотите узнать побольше о красивой и загадочной гештальт-терапии.\n\nПрикоснувшись к гештальту\, вы откроете совершенно новый\, в чём-то необычный\, но всегда – удивительно интересный опыт. Он поможет вам сделать жизнь более осознанной и насыщенной яркими красками. \nТренеры: \nИрина Степанова – психолог\, семейный психолог\, гештальт-терапевт\, супервизор. \nАккредитована в Обществе практикующих психологов «Гештальт-подход». \nГештальт-практика с 2006 г. \nАндрей Савчук – психолог\, к.пс.н.\, гештальт-терапевт\, супервизор. Выпускник первой в Перми базовой программы Московского гештальт-института (МГИ); ранее – тренер МГИ. \nАккредитован в Обществе практикующих психологов «Гештальт-подход». \nГештальт-практика с 1999 г. \nКуратор программы: \nМаксим Линенко – психолог\, гештальт-терапевт\, супервизор\, ведущий тренер Общества практикующих психологов «Гештальт-подход». Опыт практической работы в области психологии – с 1994 г.\, в гештальт-подходе – с 1997 г. \nПо окончании программы Вы сможете продолжить профессиональную подготовку на второй ступени МГИ: \nВторая ступень: Теория и практика гештальт-терапии (2\,5 года). Это профессиональная подготовка гештальт-терапевтов. Включает глубокое изучение теории\, личную терапию\, терапевтическую работу в малых группах\, учебную работу под супервизией\, участие в конференциях\, интенсивах и т.д. \nСделайте первый шаг в гештальт-практику – поднимитесь на первую ступень! \nИрина Степанова: +7 912 784-65-05; email: skill33@rambler.ru \nАндрей Савчук:      +7 912 484-65-19; email: asavchuk57@gmail.com \nГруппа В КОНТАКТЕ https://m.vk.com/event149860480\nСайт объединения гештальт-терапевтов Перми:    http://gestalt-perm.ru \nСайт ОПП ГП (МГИ):   https://gestalt.ru
URL:https://gestalt.siteholder.ru/event/bazovyj-kurs-podgotovki-geshtalt-terapevtov-moskovskij-geshtalt-institut-1-stupen/
LOCATION:Чкалова 9Е\, ул. Чкалова 9Е\, Пермь\, Пермский край\, 614000\, Российская Федерация
CATEGORIES:Обучающие программы
ORGANIZER;CN="%D0%98%D1%80%D0%B8%D0%BD%D0%B0 %D0%A1%D1%82%D0%B5%D0%BF%D0%B0%D0%BD%D0%BE%D0%B2%D0%B0":MAILTO:skill33@rambler.ru
END:VEVENT
BEGIN:VEVENT
DTSTART;VALUE=DATE:20170915
DTEND;VALUE=DATE:20170918
DTSTAMP:20260422T001503
CREATED:20170817T045844Z
LAST-MODIFIED:20170817T045844Z
UID:1033-1505433600-1505692799@gestalt.siteholder.ru
SUMMARY:1 ступень (Ведущие: Ирина Степанова\, Полина Голдобина). Сессия 1.
DESCRIPTION:1 ступень МГИ. Сессия 1. \nВедущие: Ирина Степанова\, Полина Голдобина. \n \n1) 15-17 сентября 2017\n2) 17-19 ноября 2017\n3) 12-14 января 2018\n4) 16-18 марта 2018\n5) 18-20 мая 2018\n6) 13-15 июля 2018\n7) 14-16 сентября 2018 \n1 ступень программы МГИ ориентирована на приобретение клиентского опыта в индивидуальной и групповой психотерапии. Группа ведется в экспериментальном ключе. \nЭто дает возможность увидеть психотерапию изнутри – с клиентской позиции\, осознать собственные особенности и сложности\, и приобрести новые\, более удовлетворяющие способы обхождения с ними. \nГруппа в ВК: https://vk.com/club129353414 \nИрина Степанова: тел: 8 912 784 65 05.\nE-mail: Skill33@rambler.ru. \nВК: https://vk.com/id4377036\nФБ: https://www.facebook.com/profile.php?id=100002255290872 \nПолина Голдобина: \nТел: Телефон 8 952 640-28-55.\nE-mail: p2602ga@gmail.com\nВК: https://vk.com/id150464837\nФБ: https://www.facebook.com/polina.nikita?pnref=friends…
URL:https://gestalt.siteholder.ru/event/1-stupen-vedushhie-irina-stepanova-polina-goldobina-sessiya-1/
LOCATION:Пермский край
CATEGORIES:Обучающие программы
END:VEVENT
END:VCALENDAR